BEGIN:VCALENDAR
VERSION:2.0
PRODID:-//Ibiza Fun Family - ECPv6.15.17.1//NONSGML v1.0//EN
CALSCALE:GREGORIAN
METHOD:PUBLISH
X-WR-CALNAME:Ibiza Fun Family
X-ORIGINAL-URL:https://ibizafunfamily.com
X-WR-CALDESC:Eventos para Ibiza Fun Family
REFRESH-INTERVAL;VALUE=DURATION:PT1H
X-Robots-Tag:noindex
X-PUBLISHED-TTL:PT1H
BEGIN:VTIMEZONE
TZID:Europe/Madrid
BEGIN:DAYLIGHT
TZOFFSETFROM:+0100
TZOFFSETTO:+0200
TZNAME:CEST
DTSTART:20210328T010000
END:DAYLIGHT
BEGIN:STANDARD
TZOFFSETFROM:+0200
TZOFFSETTO:+0100
TZNAME:CET
DTSTART:20211031T010000
END:STANDARD
BEGIN:DAYLIGHT
TZOFFSETFROM:+0100
TZOFFSETTO:+0200
TZNAME:CEST
DTSTART:20220327T010000
END:DAYLIGHT
BEGIN:STANDARD
TZOFFSETFROM:+0200
TZOFFSETTO:+0100
TZNAME:CET
DTSTART:20221030T010000
END:STANDARD
BEGIN:DAYLIGHT
TZOFFSETFROM:+0100
TZOFFSETTO:+0200
TZNAME:CEST
DTSTART:20230326T010000
END:DAYLIGHT
BEGIN:STANDARD
TZOFFSETFROM:+0200
TZOFFSETTO:+0100
TZNAME:CET
DTSTART:20231029T010000
END:STANDARD
END:VTIMEZONE
BEGIN:VEVENT
DTSTART;TZID=Europe/Madrid:20221216T180000
DTEND;TZID=Europe/Madrid:20221216T213000
DTSTAMP:20260423T224322
CREATED:20221207T224322Z
LAST-MODIFIED:20221207T224341Z
UID:8913-1671213600-1671226200@ibizafunfamily.com
SUMMARY:Cine\, El Nadal del senyor Branquillo i l'escombra voladora
DESCRIPTION:El Viernes 16 de Diciembre tendremos  cine infantil  a las 18h  una película en Catalán. \nLa película durara unos 60 minutos y la edad recomendada es para niños y niñas de entre 3 y 6 años. \nSerá en Cam Jeroni\, la entrada sera libre\, hasta completar aforo. \n19h entrega de premios Sant Josep en Forma. \n19h naguración de la exposición las iglesias blancas\, abierto hasta el 15 de Enero. \n20h Viernes de cine\, Mentes maravillosas\, 92 minutos de duración entrada libre hasta completar afoto \n\n				\n					\n						Ver programa completo de fiestas
URL:https://ibizafunfamily.com/agenda/cine-el-nadal-del-senyor-branquillo-i-lescombra-voladora/
LOCATION:Can Jeroni\, Sant Josep\, Carrer sa Talaia\, 16\,\, Sant Josep de Sa Talaia\, islas baleares\, 07830\, España
ATTACH;FMTTYPE=image/jpeg:https://ibizafunfamily.com/wp-content/uploads/2022/12/51cf1cab-0e1d-41bb-8a3d-35ddb0a4b372.jpg
ORGANIZER;CN="Ajuntament de Sant Josep de Sa Talaia":MAILTO:alcaldia@santjosep.org
END:VEVENT
END:VCALENDAR