BEGIN:VCALENDAR
VERSION:2.0
PRODID:-//Ibiza Fun Family - ECPv6.15.17.1//NONSGML v1.0//EN
CALSCALE:GREGORIAN
METHOD:PUBLISH
X-WR-CALNAME:Ibiza Fun Family
X-ORIGINAL-URL:https://ibizafunfamily.com
X-WR-CALDESC:Eventos para Ibiza Fun Family
REFRESH-INTERVAL;VALUE=DURATION:PT1H
X-Robots-Tag:noindex
X-PUBLISHED-TTL:PT1H
BEGIN:VTIMEZONE
TZID:Europe/Madrid
BEGIN:DAYLIGHT
TZOFFSETFROM:+0100
TZOFFSETTO:+0200
TZNAME:CEST
DTSTART:20220327T010000
END:DAYLIGHT
BEGIN:STANDARD
TZOFFSETFROM:+0200
TZOFFSETTO:+0100
TZNAME:CET
DTSTART:20221030T010000
END:STANDARD
BEGIN:DAYLIGHT
TZOFFSETFROM:+0100
TZOFFSETTO:+0200
TZNAME:CEST
DTSTART:20230326T010000
END:DAYLIGHT
BEGIN:STANDARD
TZOFFSETFROM:+0200
TZOFFSETTO:+0100
TZNAME:CET
DTSTART:20231029T010000
END:STANDARD
BEGIN:DAYLIGHT
TZOFFSETFROM:+0100
TZOFFSETTO:+0200
TZNAME:CEST
DTSTART:20240331T010000
END:DAYLIGHT
BEGIN:STANDARD
TZOFFSETFROM:+0200
TZOFFSETTO:+0100
TZNAME:CET
DTSTART:20241027T010000
END:STANDARD
END:VTIMEZONE
BEGIN:VEVENT
DTSTART;TZID=Europe/Madrid:20230714T160000
DTEND;TZID=Europe/Madrid:20230714T230000
DTSTAMP:20260419T215520
CREATED:20230627T064053Z
LAST-MODIFIED:20230627T064053Z
UID:14956-1689350400-1689375600@ibizafunfamily.com
SUMMARY:Fiesta infantil y mucho más en  Fiestas de Portinatx
DESCRIPTION:El Viernes 14 de Julio de 2023 de 16:00 a 23:00 en las Fiestas de Portinatx \, la Virgen del Carmen en la Playa de S’arenal Gros \n16:00 a 17:00 Animación infantil y gymkana a cargo de Kairos Ibiza Events \n17:00 a 18:00 Actuación de magia a cargo del famoso Mago Albert . Se habilitará una zona con sombra para que el sol de la tarde sea más llevadero \n18:00 a 19:30 Sigue la animación infantil con la Gran Fiesta de la Espuma a cargo de Kairos Ibiza Events \n19:30 a 20:30 Continuaremos la tarde con Actividades deportivas a cargo de Kairos Ibiza Events \n21:30 Cine a la fresa para todos los públicos con la pelicula «Coco» \n\n				\n					\n						Ver programa completo de fiestas\n					\n				\n			  \n 
URL:https://ibizafunfamily.com/agenda/fiesta-infantil-y-mucho-mas-en-fiestas-de-portinatx/
LOCATION:Playa S’arenal Gros\, Carrer Calo des Forn\, 47\, Sant Joan de Labritja\, Islas Baleares\, 07810\, España
CATEGORIES:Cine,Fiesta,Gincana
ATTACH;FMTTYPE=image/jpeg:https://ibizafunfamily.com/wp-content/uploads/2023/06/port.jpg
END:VEVENT
BEGIN:VEVENT
DTSTART;TZID=Europe/Madrid:20230716T213000
DTEND;TZID=Europe/Madrid:20230716T233000
DTSTAMP:20260419T215520
CREATED:20230713T214208Z
LAST-MODIFIED:20230713T214209Z
UID:15176-1689543000-1689550200@ibizafunfamily.com
SUMMARY:Cine al aire libre\, Sing 2
DESCRIPTION:El Domingo 16 de Julio de 2023 a las 21:30 en la Playa de Cala Llonga \nTendremos cine al aire libre con la película de Sing 2\, sesión gratuita\, en español y subtitulada en ingles
URL:https://ibizafunfamily.com/agenda/cine-al-aire-libre-sing-2/
LOCATION:Playa Cala Llonga\, Carrer Vall des Roncal\, Cala Llonga\, islas baleares\, 07849\, España
CATEGORIES:Cine
ATTACH;FMTTYPE=image/jpeg:https://ibizafunfamily.com/wp-content/uploads/2023/07/cala-llonga.jpg
END:VEVENT
BEGIN:VEVENT
DTSTART;TZID=Europe/Madrid:20230718T220000
DTEND;TZID=Europe/Madrid:20230718T233000
DTSTAMP:20260419T215520
CREATED:20230627T070343Z
LAST-MODIFIED:20230627T071159Z
UID:14960-1689717600-1689723000@ibizafunfamily.com
SUMMARY:Cine a la fresca
DESCRIPTION:Cine a la fresca estiu 2023 en Formentera \nEl Martes 18 de Julio a las 22:00 Sant Francesc en Jardí de Ses Eres\, tendremos la Pelicula de «Vértigo»\, Alfred Hitchcock\, Estados Unidos\, 1958 \nApta para todos los públicos \nLas películas están en versión original subtituladas en castellano \n\n				\n					\n						Ver programa completo de Cinema a la Fresca
URL:https://ibizafunfamily.com/agenda/cine-a-la-fresca/
LOCATION:Jardí de Ses Eres.\, detrás de la Iglesia de Sant Francesc\, Formentera\, Islas Baleares\, 07860\, España
CATEGORIES:Cine
ATTACH;FMTTYPE=image/jpeg:https://ibizafunfamily.com/wp-content/uploads/2023/06/cine-for.jpg
ORGANIZER;CN="Consell de Formentera":MAILTO:presidencia@conselldeformentera.cat
END:VEVENT
BEGIN:VEVENT
DTSTART;TZID=Europe/Madrid:20230723T211500
DTEND;TZID=Europe/Madrid:20230723T233000
DTSTAMP:20260419T215520
CREATED:20230716T075554Z
LAST-MODIFIED:20230718T160843Z
UID:15234-1690146900-1690155000@ibizafunfamily.com
SUMMARY:Cine a la fresca " Jumanji"
DESCRIPTION:El Domingo 23 de Julio de 2023 a las 21:15 en la Playa de Cala Llonga tendremos cine familiar \nEl evento es gratuito. \nLa película será «Jumanji 1» y será en inglés con substitutos en castellano \nHabrá un puesto con bebida \, caramelos y palomitas para comprar \n  \n 
URL:https://ibizafunfamily.com/agenda/cine-a-la-fresca-jumanji/
LOCATION:Playa Cala Llonga\, Carrer Vall des Roncal\, Cala Llonga\, islas baleares\, 07849\, España
CATEGORIES:Cine
ATTACH;FMTTYPE=image/jpeg:https://ibizafunfamily.com/wp-content/uploads/2023/07/playa.jpg
ORGANIZER;CN="Ajuntament de Santa Eul%C3%A0ria des Riu":MAILTO:alcaldia@santaeularia.com
END:VEVENT
BEGIN:VEVENT
DTSTART;TZID=Europe/Madrid:20230730T211500
DTEND;TZID=Europe/Madrid:20230730T233000
DTSTAMP:20260419T215520
CREATED:20230718T161502Z
LAST-MODIFIED:20230718T161502Z
UID:15244-1690751700-1690759800@ibizafunfamily.com
SUMMARY:Cine a la fresca " Greatest Showman"
DESCRIPTION:El Domingo 30 de Julio de 2023 en la Playa de Cala Llonga \nHabrá cine familiar  gratuito con la película de » Greatest Showman»  a las 21:15 \nTambién se pondrá un puesto donde se podrá comprar palomitas\, agua entre otras cosas
URL:https://ibizafunfamily.com/agenda/cine-a-la-fresca-greatest-showman/
LOCATION:Playa Cala Llonga\, Carrer Vall des Roncal\, Cala Llonga\, islas baleares\, 07849\, España
CATEGORIES:Cine
ATTACH;FMTTYPE=image/jpeg:https://ibizafunfamily.com/wp-content/uploads/2023/07/playa.jpg
END:VEVENT
END:VCALENDAR