BEGIN:VCALENDAR
VERSION:2.0
PRODID:-//Ibiza Fun Family - ECPv6.15.17.1//NONSGML v1.0//EN
CALSCALE:GREGORIAN
METHOD:PUBLISH
X-ORIGINAL-URL:https://ibizafunfamily.com
X-WR-CALDESC:Eventos para Ibiza Fun Family
REFRESH-INTERVAL;VALUE=DURATION:PT1H
X-Robots-Tag:noindex
X-PUBLISHED-TTL:PT1H
BEGIN:VTIMEZONE
TZID:Europe/Madrid
BEGIN:DAYLIGHT
TZOFFSETFROM:+0100
TZOFFSETTO:+0200
TZNAME:CEST
DTSTART:20220327T010000
END:DAYLIGHT
BEGIN:STANDARD
TZOFFSETFROM:+0200
TZOFFSETTO:+0100
TZNAME:CET
DTSTART:20221030T010000
END:STANDARD
BEGIN:DAYLIGHT
TZOFFSETFROM:+0100
TZOFFSETTO:+0200
TZNAME:CEST
DTSTART:20230326T010000
END:DAYLIGHT
BEGIN:STANDARD
TZOFFSETFROM:+0200
TZOFFSETTO:+0100
TZNAME:CET
DTSTART:20231029T010000
END:STANDARD
BEGIN:DAYLIGHT
TZOFFSETFROM:+0100
TZOFFSETTO:+0200
TZNAME:CEST
DTSTART:20240331T010000
END:DAYLIGHT
BEGIN:STANDARD
TZOFFSETFROM:+0200
TZOFFSETTO:+0100
TZNAME:CET
DTSTART:20241027T010000
END:STANDARD
END:VTIMEZONE
BEGIN:VEVENT
DTSTART;TZID=Europe/Madrid:20231223T110000
DTEND;TZID=Europe/Madrid:20231223T200000
DTSTAMP:20260425T234946
CREATED:20231208T232254Z
LAST-MODIFIED:20231208T232254Z
UID:19265-1703329200-1703361600@ibizafunfamily.com
SUMMARY:Divernadal\, juegos tradicionales y cine infantil
DESCRIPTION:Sábado\, 23 de diciembre \n11.00 h Divernadal 2023. De 11.00 a 14.00 h y de 17.00 a 20.00 h. Actividades infantiles y familiares. Manualidades\, hinchables y mucho más… Servicio de custodia de los niños mayores de 6 años. ¡Ven a disfrutar con nosotros! En el polideportivo de Can Guerxo. \n11.00 h Cocina en directo\, de sobrasada\, a cargo de la Pimeef. En Sant Josep. \n17.00 h Cantar\, jugar y bailar\, juegos y canciones tradicionales infantiles. Actividad de la Federació de Colles de Ball d’Eivissa i Formentera. A cargo de Sueños de Ibiza y Jugueroix\, juegos gigantes de madera para toda la familia. Lo organiza el Grup Folcklòric Sa Colla des Vedrà. En Sant Agustí. \n18.00 h Cine infantil en catalán. Proyección de Smallfoot (2018)\, en Can Jeroni. Entrada libre hasta completar aforo. \n18.00 h Dj para amenizar el mercado de Navidad. En Sant Josep \n20.00 h XV Sobrassada Rock. Billy Flamingos (Ibiza)\, Milindris Band(tributo a Melendi) (Valencia) y DJ Gaja (Teteo Session) (Barcelona). Lo organiza Ca sa Majora s. XXI. En la carpa de Sant Josep \n\n				\n					\n						Ver\nprograma completo
URL:https://ibizafunfamily.com/agenda/divernadal-juegos-tradicionales-y-cine-infantil/
ATTACH;FMTTYPE=image/jpeg:https://ibizafunfamily.com/wp-content/uploads/2023/12/festes-de-sant-josep.jpg
ORGANIZER;CN="Ajuntament de Sant Josep de Sa Talaia":MAILTO:alcaldia@santjosep.org
END:VEVENT
END:VCALENDAR