BEGIN:VCALENDAR
VERSION:2.0
PRODID:-//Ibiza Fun Family - ECPv6.15.17.1//NONSGML v1.0//EN
CALSCALE:GREGORIAN
METHOD:PUBLISH
X-ORIGINAL-URL:https://ibizafunfamily.com
X-WR-CALDESC:Eventos para Ibiza Fun Family
REFRESH-INTERVAL;VALUE=DURATION:PT1H
X-Robots-Tag:noindex
X-PUBLISHED-TTL:PT1H
BEGIN:VTIMEZONE
TZID:Europe/Madrid
BEGIN:DAYLIGHT
TZOFFSETFROM:+0100
TZOFFSETTO:+0200
TZNAME:CEST
DTSTART:20220327T010000
END:DAYLIGHT
BEGIN:STANDARD
TZOFFSETFROM:+0200
TZOFFSETTO:+0100
TZNAME:CET
DTSTART:20221030T010000
END:STANDARD
BEGIN:DAYLIGHT
TZOFFSETFROM:+0100
TZOFFSETTO:+0200
TZNAME:CEST
DTSTART:20230326T010000
END:DAYLIGHT
BEGIN:STANDARD
TZOFFSETFROM:+0200
TZOFFSETTO:+0100
TZNAME:CET
DTSTART:20231029T010000
END:STANDARD
BEGIN:DAYLIGHT
TZOFFSETFROM:+0100
TZOFFSETTO:+0200
TZNAME:CEST
DTSTART:20240331T010000
END:DAYLIGHT
BEGIN:STANDARD
TZOFFSETFROM:+0200
TZOFFSETTO:+0100
TZNAME:CET
DTSTART:20241027T010000
END:STANDARD
END:VTIMEZONE
BEGIN:VEVENT
DTSTART;TZID=Europe/Madrid:20230321T080000
DTEND;TZID=Europe/Madrid:20230321T170000
DTSTAMP:20260423T165800
CREATED:20230321T202314Z
LAST-MODIFIED:20230321T202314Z
UID:11856-1679385600-1679418000@ibizafunfamily.com
SUMMARY:Juegos gigantes y chocolatada
DESCRIPTION:El 1 de Abril en la  Playa de Cala Vadella de 10:00 a 14:00 h tendremos juegos gigantes con Jugueroix \nY a las 12h chocolatada para todos los asistentes. \nOrganiza Av. de Cala Vadella
URL:https://ibizafunfamily.com/agenda/juegos-gigantes-y-chocolatada/
LOCATION:Playa Cala Vadella\, Carrer de la Torrasa\, Sant Josep de Sa Talaia\, Islas Baleares\, 07830\, España
CATEGORIES:Juegos
ATTACH;FMTTYPE=image/jpeg:https://ibizafunfamily.com/wp-content/uploads/2023/03/ee45799e-4d44-4e84-b57f-162549f16ed7.jpg
ORGANIZER;CN="AAVV Cala Vadella":MAILTO:aavvcalavedella@gmail.com
END:VEVENT
END:VCALENDAR