BEGIN:VCALENDAR
VERSION:2.0
PRODID:-//Ibiza Fun Family - ECPv6.15.17.1//NONSGML v1.0//EN
CALSCALE:GREGORIAN
METHOD:PUBLISH
X-ORIGINAL-URL:https://ibizafunfamily.com
X-WR-CALDESC:Eventos para Ibiza Fun Family
REFRESH-INTERVAL;VALUE=DURATION:PT1H
X-Robots-Tag:noindex
X-PUBLISHED-TTL:PT1H
BEGIN:VTIMEZONE
TZID:Europe/Madrid
BEGIN:DAYLIGHT
TZOFFSETFROM:+0100
TZOFFSETTO:+0200
TZNAME:CEST
DTSTART:20220327T010000
END:DAYLIGHT
BEGIN:STANDARD
TZOFFSETFROM:+0200
TZOFFSETTO:+0100
TZNAME:CET
DTSTART:20221030T010000
END:STANDARD
BEGIN:DAYLIGHT
TZOFFSETFROM:+0100
TZOFFSETTO:+0200
TZNAME:CEST
DTSTART:20230326T010000
END:DAYLIGHT
BEGIN:STANDARD
TZOFFSETFROM:+0200
TZOFFSETTO:+0100
TZNAME:CET
DTSTART:20231029T010000
END:STANDARD
BEGIN:DAYLIGHT
TZOFFSETFROM:+0100
TZOFFSETTO:+0200
TZNAME:CEST
DTSTART:20240331T010000
END:DAYLIGHT
BEGIN:STANDARD
TZOFFSETFROM:+0200
TZOFFSETTO:+0100
TZNAME:CET
DTSTART:20241027T010000
END:STANDARD
END:VTIMEZONE
BEGIN:VEVENT
DTSTART;TZID=Europe/Madrid:20230217T193000
DTEND;TZID=Europe/Madrid:20230217T210000
DTSTAMP:20260424T172708
CREATED:20230119T093655Z
LAST-MODIFIED:20230208T215036Z
UID:9693-1676662200-1676667600@ibizafunfamily.com
SUMMARY:La Aventura de Educar en Familia
DESCRIPTION:El 3 de febrero en el  Palacio de Congresos con la psicóloga Raquel Herrezuelo Sáez\, a las 19:30 \nSe trata de la segunda de las dos conferencias gratuitas que el Servei d’Orientació Familiar del Ayuntamiento de Santa Eulària des Riu ofrecerá este año. \nHablaremos sobre la prevención de la violencia machista en la adolescencia con pautas y orientaciones para familias \nHabrá monitores de tiempo libre para que los padres puedan asistir a la charla mientras sus hijos están atendidos por profesionales. \n 
URL:https://ibizafunfamily.com/agenda/la-aventura-de-educar-en-familia-2/
LOCATION:Palacio de Congresos de Santa Eulalia\, Avenida Salvador Camacho\, n9-11\, Santa Eulària des Riu\, Islas Baleares\, 07840\, España
CATEGORIES:Charla
ATTACH;FMTTYPE=image/jpeg:https://ibizafunfamily.com/wp-content/uploads/2023/02/WhatsApp-Image-2023-02-07-at-07.48.14.jpeg
ORGANIZER;CN="Ajuntament de Santa Eul%C3%A0ria des Riu":MAILTO:alcaldia@santaeularia.com
END:VEVENT
END:VCALENDAR