BEGIN:VCALENDAR
VERSION:2.0
PRODID:-//Ibiza Fun Family - ECPv6.15.17.1//NONSGML v1.0//EN
CALSCALE:GREGORIAN
METHOD:PUBLISH
X-WR-CALNAME:Ibiza Fun Family
X-ORIGINAL-URL:https://ibizafunfamily.com
X-WR-CALDESC:Eventos para Ibiza Fun Family
REFRESH-INTERVAL;VALUE=DURATION:PT1H
X-Robots-Tag:noindex
X-PUBLISHED-TTL:PT1H
BEGIN:VTIMEZONE
TZID:Europe/Madrid
BEGIN:DAYLIGHT
TZOFFSETFROM:+0100
TZOFFSETTO:+0200
TZNAME:CEST
DTSTART:20220327T010000
END:DAYLIGHT
BEGIN:STANDARD
TZOFFSETFROM:+0200
TZOFFSETTO:+0100
TZNAME:CET
DTSTART:20221030T010000
END:STANDARD
BEGIN:DAYLIGHT
TZOFFSETFROM:+0100
TZOFFSETTO:+0200
TZNAME:CEST
DTSTART:20230326T010000
END:DAYLIGHT
BEGIN:STANDARD
TZOFFSETFROM:+0200
TZOFFSETTO:+0100
TZNAME:CET
DTSTART:20231029T010000
END:STANDARD
BEGIN:DAYLIGHT
TZOFFSETFROM:+0100
TZOFFSETTO:+0200
TZNAME:CEST
DTSTART:20240331T010000
END:DAYLIGHT
BEGIN:STANDARD
TZOFFSETFROM:+0200
TZOFFSETTO:+0100
TZNAME:CET
DTSTART:20241027T010000
END:STANDARD
END:VTIMEZONE
BEGIN:VEVENT
DTSTART;TZID=Europe/Madrid:20230302T160000
DTEND;TZID=Europe/Madrid:20230302T180000
DTSTAMP:20260423T013443
CREATED:20230214T105126Z
LAST-MODIFIED:20230214T105126Z
UID:10625-1677772800-1677780000@ibizafunfamily.com
SUMMARY:Menores y Tecnología
DESCRIPTION:Los próximos días 2\, 7\, 13 y 15 de Marzo  tenemos el gusto de anunciaros una charla para familias sobre el uso de las pantallas y la «obesidad digital» que puede afectar tanto física como emocionalmente\, afectando la salud y el desarrollo psicoevolutivo. \nNos ayudaran con un modelo para ayudar a introducir y gestionar las tecnologías de manera saludable evitando conductas adictivas a las pantallas. \nEl taller tiene una duración de 3 días y en horario de 16:00h a 18:00h en la biblioteca del centro. \nTaller impartido por Ivan Castro \nPodéis apuntaros en el siguiente enlace: \n\n				\n					\n						Quiero apuntarme
URL:https://ibizafunfamily.com/agenda/menores-y-tecnologia-2/
LOCATION:CEIP Puig d’En Valls\, Carrer Ciudad Jardín\, 4\, Puig d'en Valls\, Islas Baleares\, 07819\, España
CATEGORIES:Charla
ATTACH;FMTTYPE=image/jpeg:https://ibizafunfamily.com/wp-content/uploads/2023/02/3bf07f13-1361-4339-8dba-c928fa88b8b2.jpg
END:VEVENT
BEGIN:VEVENT
DTSTART;TZID=Europe/Madrid:20230302T160000
DTEND;TZID=Europe/Madrid:20230302T180000
DTSTAMP:20260423T013443
CREATED:20230223T092442Z
LAST-MODIFIED:20230223T092442Z
UID:10938-1677772800-1677780000@ibizafunfamily.com
SUMMARY:Trastornos de Ansiedad y adicciones nuevas tecnologías
DESCRIPTION:El 2 de Marzo de 16 a 18h en el CEIP Balansat tendremos Escola de Famílies\, una charla de trastornos de ansiedad y adicciones a las nuevas tecnologías. \nAdemás contará con servicio de guarda y custodia para los peques en la biblioteca del centro. \nLa charla la dará Vicent Ribas
URL:https://ibizafunfamily.com/agenda/trastornos-de-ansiedad-y-adicciones-nuevas-tecnologias/
LOCATION:CEIP Balansat\, Carretera d'Eivissa\, 0\,\, Sant Miquel de Balansat\, islas baleares\, 07815\, España
CATEGORIES:Charla
ATTACH;FMTTYPE=image/jpeg:https://ibizafunfamily.com/wp-content/uploads/2023/02/77164fd7-fe03-482b-84ef-89a42dbe7125-e1677144005535.jpg
ORGANIZER;CN="AFA CEIP Balansat":MAILTO:apima.ceipbalansat@gmail.com
END:VEVENT
BEGIN:VEVENT
DTSTART;TZID=Europe/Madrid:20230303T080000
DTEND;TZID=Europe/Madrid:20230304T170000
DTSTAMP:20260423T013443
CREATED:20230208T115917Z
LAST-MODIFIED:20230208T115939Z
UID:10214-1677830400-1677949200@ibizafunfamily.com
SUMMARY:Neuro-Edu-Acción
DESCRIPTION:Los días 3 y 4 de Marzo en el palacio de congresos de Ibiza (Santa Eularia) tenemos una cita en el II Congreso Educativo «Neuro-Edu-Acción» organizado por CC Sa Real \nLas inscripciones están abiertas hasta el día 24 de febrero. Podéis encontrar la hoja de inscripción y más información en el siguiente botón \n\n				\n					\n						Inscribirme\n					\n				\n			   \nEl dinero de  las inscripciones irá destinado a la Asociación @curaparahunter y Ibiza IN \nPodéis ver el programa completo aquí \n\n				\n					\n						Ver programa completo\n					\n				\n			   \nCongreso homologado como actividad de formación permanente del profesorado \nServicio de guardia y custodia gratuito para los hij@s de los participantes \nNo te lo puedes perder
URL:https://ibizafunfamily.com/agenda/neuro-edu-accion/
LOCATION:Palacio de Congresos de Santa Eulalia\, Avenida Salvador Camacho\, n9-11\, Santa Eulària des Riu\, Islas Baleares\, 07840\, España
CATEGORIES:Charla
ATTACH;FMTTYPE=image/jpeg:https://ibizafunfamily.com/wp-content/uploads/2023/02/poster-congreso-educativo.jpg
ORGANIZER;CN="CC Sa Real":MAILTO:secretaria@sareal.es
END:VEVENT
END:VCALENDAR