BEGIN:VCALENDAR
VERSION:2.0
PRODID:-//Ibiza Fun Family - ECPv6.15.17.1//NONSGML v1.0//EN
CALSCALE:GREGORIAN
METHOD:PUBLISH
X-ORIGINAL-URL:https://ibizafunfamily.com
X-WR-CALDESC:Eventos para Ibiza Fun Family
REFRESH-INTERVAL;VALUE=DURATION:PT1H
X-Robots-Tag:noindex
X-PUBLISHED-TTL:PT1H
BEGIN:VTIMEZONE
TZID:Europe/Madrid
BEGIN:DAYLIGHT
TZOFFSETFROM:+0100
TZOFFSETTO:+0200
TZNAME:CEST
DTSTART:20220327T010000
END:DAYLIGHT
BEGIN:STANDARD
TZOFFSETFROM:+0200
TZOFFSETTO:+0100
TZNAME:CET
DTSTART:20221030T010000
END:STANDARD
BEGIN:DAYLIGHT
TZOFFSETFROM:+0100
TZOFFSETTO:+0200
TZNAME:CEST
DTSTART:20230326T010000
END:DAYLIGHT
BEGIN:STANDARD
TZOFFSETFROM:+0200
TZOFFSETTO:+0100
TZNAME:CET
DTSTART:20231029T010000
END:STANDARD
BEGIN:DAYLIGHT
TZOFFSETFROM:+0100
TZOFFSETTO:+0200
TZNAME:CEST
DTSTART:20240331T010000
END:DAYLIGHT
BEGIN:STANDARD
TZOFFSETFROM:+0200
TZOFFSETTO:+0100
TZNAME:CET
DTSTART:20241027T010000
END:STANDARD
END:VTIMEZONE
BEGIN:VEVENT
DTSTART;TZID=Europe/Madrid:20230329T080000
DTEND;TZID=Europe/Madrid:20230329T170000
DTSTAMP:20260419T160048
CREATED:20230329T103110Z
LAST-MODIFIED:20230329T103110Z
UID:12102-1680076800-1680109200@ibizafunfamily.com
SUMMARY:Sant Ciriac Está de Fiesta
DESCRIPTION:El 22 de Abril  de 11:00 de 18:00 en el CEIP Sant Ciriac. \nFiesta del 50 aniversario del colegio \nTalleres \nCastillos hinchables \nBaile \nConcierto \nPaella ( compra anticipada  en el Cole) \n  \n 
URL:https://ibizafunfamily.com/agenda/sant-ciriac-esta-de-fiesta/
LOCATION:CEIP Sant Ciriac\, Vénda des Coloms\, n5\, Santa Eulària des Riu\, Islas Baleares\, 97840\, España
CATEGORIES:Fiesta,Juegos,Talleres
ATTACH;FMTTYPE=image/jpeg:https://ibizafunfamily.com/wp-content/uploads/2023/03/b3f7c7e0-0e1d-4af9-8968-cbd5472bf475.jpg
ORGANIZER;CN="CEIP Sant Ciriac":MAILTO:ceipsantciriac@educaib.eu
END:VEVENT
END:VCALENDAR