BEGIN:VCALENDAR
VERSION:2.0
PRODID:-//Ibiza Fun Family - ECPv6.15.17.1//NONSGML v1.0//EN
CALSCALE:GREGORIAN
METHOD:PUBLISH
X-ORIGINAL-URL:https://ibizafunfamily.com
X-WR-CALDESC:Eventos para Ibiza Fun Family
REFRESH-INTERVAL;VALUE=DURATION:PT1H
X-Robots-Tag:noindex
X-PUBLISHED-TTL:PT1H
BEGIN:VTIMEZONE
TZID:Europe/Madrid
BEGIN:DAYLIGHT
TZOFFSETFROM:+0100
TZOFFSETTO:+0200
TZNAME:CEST
DTSTART:20230326T010000
END:DAYLIGHT
BEGIN:STANDARD
TZOFFSETFROM:+0200
TZOFFSETTO:+0100
TZNAME:CET
DTSTART:20231029T010000
END:STANDARD
BEGIN:DAYLIGHT
TZOFFSETFROM:+0100
TZOFFSETTO:+0200
TZNAME:CEST
DTSTART:20240331T010000
END:DAYLIGHT
BEGIN:STANDARD
TZOFFSETFROM:+0200
TZOFFSETTO:+0100
TZNAME:CET
DTSTART:20241027T010000
END:STANDARD
BEGIN:DAYLIGHT
TZOFFSETFROM:+0100
TZOFFSETTO:+0200
TZNAME:CEST
DTSTART:20250330T010000
END:DAYLIGHT
BEGIN:STANDARD
TZOFFSETFROM:+0200
TZOFFSETTO:+0100
TZNAME:CET
DTSTART:20251026T010000
END:STANDARD
END:VTIMEZONE
BEGIN:VEVENT
DTSTART;TZID=Europe/Madrid:20240204T093000
DTEND;TZID=Europe/Madrid:20240204T130000
DTSTAMP:20260420T100810
CREATED:20231206T122728Z
LAST-MODIFIED:20231206T123013Z
UID:19098-1707039000-1707051600@ibizafunfamily.com
SUMMARY:Carrera Ruta 091
DESCRIPTION:El 4 de Febrero de 2024 a las 10:00 en los Andenes del Puerto de Eivissa \nInformación \nAdultos 5km/10km 600 plazas \nInfantil según edad 400 plazas (50m-300-1km) \nPrecio \nCarrera 10 km 15€ \nCarrera 5km 12€ \nCarrera infantil 5€ \nOpción dorsal solidario «0» \nHorarios\, Calentamiento F45 a las 9:30 \nA las 10:00 carrera 10km\, a las 10:10 carrera 5km \n10:15 Cachirulo \n11:15 Carrera infantil \n12:00 Canallas del Guateke \n12:40 La Movida Ibiza \nHabrá exhibición de medios policiales con Guías Caninos\, policía Científica y mucho más \n\n				\n					\n						Información y inscripciones\n					\n				\n			  \n  \n 
URL:https://ibizafunfamily.com/agenda/carrera-ruta-091/
CATEGORIES:Deportives
ATTACH;FMTTYPE=image/jpeg:https://ibizafunfamily.com/wp-content/uploads/2023/12/carrera-ruta-091.jpg
END:VEVENT
END:VCALENDAR