BEGIN:VCALENDAR
VERSION:2.0
PRODID:-//Ibiza Fun Family - ECPv6.15.17.1//NONSGML v1.0//EN
CALSCALE:GREGORIAN
METHOD:PUBLISH
X-WR-CALNAME:Ibiza Fun Family
X-ORIGINAL-URL:https://ibizafunfamily.com
X-WR-CALDESC:Eventos para Ibiza Fun Family
REFRESH-INTERVAL;VALUE=DURATION:PT1H
X-Robots-Tag:noindex
X-PUBLISHED-TTL:PT1H
BEGIN:VTIMEZONE
TZID:Europe/Madrid
BEGIN:DAYLIGHT
TZOFFSETFROM:+0100
TZOFFSETTO:+0200
TZNAME:CEST
DTSTART:20250330T010000
END:DAYLIGHT
BEGIN:STANDARD
TZOFFSETFROM:+0200
TZOFFSETTO:+0100
TZNAME:CET
DTSTART:20251026T010000
END:STANDARD
BEGIN:DAYLIGHT
TZOFFSETFROM:+0100
TZOFFSETTO:+0200
TZNAME:CEST
DTSTART:20260329T010000
END:DAYLIGHT
BEGIN:STANDARD
TZOFFSETFROM:+0200
TZOFFSETTO:+0100
TZNAME:CET
DTSTART:20261025T010000
END:STANDARD
BEGIN:DAYLIGHT
TZOFFSETFROM:+0100
TZOFFSETTO:+0200
TZNAME:CEST
DTSTART:20270328T010000
END:DAYLIGHT
BEGIN:STANDARD
TZOFFSETFROM:+0200
TZOFFSETTO:+0100
TZNAME:CET
DTSTART:20271031T010000
END:STANDARD
END:VTIMEZONE
BEGIN:VEVENT
DTSTART;TZID=Europe/Madrid:20260217T163000
DTEND;TZID=Europe/Madrid:20260217T200000
DTSTAMP:20260420T013241
CREATED:20260129T200733Z
LAST-MODIFIED:20260213T113021Z
UID:34988-1771345800-1771358400@ibizafunfamily.com
SUMMARY:Rua Carnaval Sant Antoni 2026
DESCRIPTION:El Martes 17 de Febrero de 2026 Rua de Carnaval de Sant Antoni de Portmany a las 16:30 en la Avenida Doctor Fleming \nNo os la podéis perder!
URL:https://ibizafunfamily.com/agenda/rua-sant-antoni-2026/
LOCATION:islas baleares
ATTACH;FMTTYPE=image/jpeg:https://ibizafunfamily.com/wp-content/uploads/2026/01/rua-sant-antoni.jpg
END:VEVENT
BEGIN:VEVENT
DTSTART;TZID=Europe/Madrid:20260217T170000
DTEND;TZID=Europe/Madrid:20260217T170000
DTSTAMP:20260420T013241
CREATED:20260129T212656Z
LAST-MODIFIED:20260129T212656Z
UID:35058-1771347600-1771347600@ibizafunfamily.com
SUMMARY:Rua de Carnaval en Santa Eulària
DESCRIPTION:El próximo 17 de Febrero a las 17h se celebra la Rua de Carnaval de Santa Eulària \nNo te la puedes perder!
URL:https://ibizafunfamily.com/agenda/rua-de-carnaval-en-santa-eularia-2/
LOCATION:Palacio de Congresos de Santa Eulalia\, Avenida Salvador Camacho\, n9-11\, Santa Eulària des Riu\, Islas Baleares\, 07840\, España
CATEGORIES:Fiesta
ATTACH;FMTTYPE=image/jpeg:https://ibizafunfamily.com/wp-content/uploads/2026/01/rua-santa-eularia-2026.jpeg
ORGANIZER;CN="Ajuntament de Santa Eul%C3%A0ria des Riu":MAILTO:alcaldia@santaeularia.com
END:VEVENT
END:VCALENDAR