BEGIN:VCALENDAR
VERSION:2.0
PRODID:-//Ibiza Fun Family - ECPv6.15.17.1//NONSGML v1.0//EN
CALSCALE:GREGORIAN
METHOD:PUBLISH
X-ORIGINAL-URL:https://ibizafunfamily.com
X-WR-CALDESC:Eventos para Ibiza Fun Family
REFRESH-INTERVAL;VALUE=DURATION:PT1H
X-Robots-Tag:noindex
X-PUBLISHED-TTL:PT1H
BEGIN:VTIMEZONE
TZID:Europe/Madrid
BEGIN:DAYLIGHT
TZOFFSETFROM:+0100
TZOFFSETTO:+0200
TZNAME:CEST
DTSTART:20250330T010000
END:DAYLIGHT
BEGIN:STANDARD
TZOFFSETFROM:+0200
TZOFFSETTO:+0100
TZNAME:CET
DTSTART:20251026T010000
END:STANDARD
BEGIN:DAYLIGHT
TZOFFSETFROM:+0100
TZOFFSETTO:+0200
TZNAME:CEST
DTSTART:20260329T010000
END:DAYLIGHT
BEGIN:STANDARD
TZOFFSETFROM:+0200
TZOFFSETTO:+0100
TZNAME:CET
DTSTART:20261025T010000
END:STANDARD
BEGIN:DAYLIGHT
TZOFFSETFROM:+0100
TZOFFSETTO:+0200
TZNAME:CEST
DTSTART:20270328T010000
END:DAYLIGHT
BEGIN:STANDARD
TZOFFSETFROM:+0200
TZOFFSETTO:+0100
TZNAME:CET
DTSTART:20271031T010000
END:STANDARD
END:VTIMEZONE
BEGIN:VEVENT
DTSTART;TZID=Europe/Madrid:20260215T110000
DTEND;TZID=Europe/Madrid:20260215T180000
DTSTAMP:20260419T161031
CREATED:20260211T104257Z
LAST-MODIFIED:20260211T104257Z
UID:35236-1771153200-1771178400@ibizafunfamily.com
SUMMARY:Rua Carnaval 2026 Formentera
DESCRIPTION:El próximo Domingo 15 de Febrero a las 12h se llevará a cabo la Rua de Formentera de Carnaval que comienza en el Espai Culturall  de Sant Ferran. ( A las 11 será el encuentro) \nSeguido de una Batucada con Bloco Columbraria y una comida popular a las 14:30h organizado por padres y madres en recaudación para el viaje de sexto de primaria del colegio CEIP Sant Ferrant de ses Roques. \nNo te lo pierdas!
URL:https://ibizafunfamily.com/agenda/rua-carnaval-2026-formentera/
LOCATION:Espai Cultural del Sant Ferran\, Carrer de Tarragona\, n6\, Sant Ferrant\, Baleares\, 07871\, España
CATEGORIES:Fiesta
ATTACH;FMTTYPE=image/jpeg:https://ibizafunfamily.com/wp-content/uploads/2026/02/rua-formentera-carnaval-2026.jpg
ORGANIZER;CN="Consell de Formentera":MAILTO:presidencia@conselldeformentera.cat
END:VEVENT
BEGIN:VEVENT
DTSTART;TZID=Europe/Madrid:20260215T170000
DTEND;TZID=Europe/Madrid:20260215T170000
DTSTAMP:20260419T161031
CREATED:20260129T212436Z
LAST-MODIFIED:20260129T212436Z
UID:35055-1771174800-1771174800@ibizafunfamily.com
SUMMARY:Rua de Carnaval en Sant Joan
DESCRIPTION:El próximo 15 de Febrero a partir de las 17h  se celebra la Rua de Carnaval de Sant Joan. \nDisfrazate\, participa y vive una tarde de carnaval inolvidable con 4mil euros en premios. \nDesde el CEIP de Labritja \nInformación e inscripciones en:\ncomisiodefesteslabritja@gmail.com
URL:https://ibizafunfamily.com/agenda/rua-de-carnaval-en-sant-joan/
LOCATION:CEIP Labritja\, Carrer Sant Joan L A\, 2\, Sant Joan de Labritja\, islas baleares\, 07810\, España
CATEGORIES:Fiesta
ATTACH;FMTTYPE=image/jpeg:https://ibizafunfamily.com/wp-content/uploads/2026/01/rua-carnaval-sant-joan.jpeg
END:VEVENT
BEGIN:VEVENT
DTSTART;TZID=Europe/Madrid:20260215T170000
DTEND;TZID=Europe/Madrid:20260215T190000
DTSTAMP:20260419T161031
CREATED:20260213T115836Z
LAST-MODIFIED:20260213T141244Z
UID:35391-1771174800-1771182000@ibizafunfamily.com
SUMMARY:Rua Carnavla Sant Josep 2026
DESCRIPTION:El próximo Domingo 15 de Febrero se celebra el Carnaval en Sant Josep con la Rua que saldrá a las 17h. (Anteriormente prevista para el Sábado 14 de Febrero a las 11h pero aplazada a este día por mal tiempo) \nEl recorrido será: \nC/ Orense\nAvd. Sant Agustí\nC/ Madrid\nC/ Es Caló\nParada en la AAVV de Cala de Bou (Parque Port d’es Torrent) \n \nAdemás contará con animación de «La Xanga»\, El Mago Albert y «Los del Varadero» que nos esperarán en el parque infantil de Cala de Bou (C/ Es Caló con C/ Cuenca)\nBarra a cargo de la Asociación de Mujeres de Cala de Bou
URL:https://ibizafunfamily.com/agenda/rua-carnavla-sant-josep-2026/
LOCATION:AAVV Cala de Bou\, c/ Es Caló s/n Cala de Bou\, Sant Josep de Sa Talaia\, islas baleares\, 07829\, España
CATEGORIES:Fiesta
ATTACH;FMTTYPE=image/jpeg:https://ibizafunfamily.com/wp-content/uploads/2026/01/nueva-fecha-rua-sant-josep-2026.jpeg
ORGANIZER;CN="Ajuntament de Sant Josep de Sa Talaia":MAILTO:alcaldia@santjosep.org
END:VEVENT
END:VCALENDAR