BEGIN:VCALENDAR
VERSION:2.0
PRODID:-//Ibiza Fun Family - ECPv6.15.17.1//NONSGML v1.0//EN
CALSCALE:GREGORIAN
METHOD:PUBLISH
X-ORIGINAL-URL:https://ibizafunfamily.com
X-WR-CALDESC:Eventos para Ibiza Fun Family
REFRESH-INTERVAL;VALUE=DURATION:PT1H
X-Robots-Tag:noindex
X-PUBLISHED-TTL:PT1H
BEGIN:VTIMEZONE
TZID:Europe/Madrid
BEGIN:DAYLIGHT
TZOFFSETFROM:+0100
TZOFFSETTO:+0200
TZNAME:CEST
DTSTART:20210328T010000
END:DAYLIGHT
BEGIN:STANDARD
TZOFFSETFROM:+0200
TZOFFSETTO:+0100
TZNAME:CET
DTSTART:20211031T010000
END:STANDARD
BEGIN:DAYLIGHT
TZOFFSETFROM:+0100
TZOFFSETTO:+0200
TZNAME:CEST
DTSTART:20220327T010000
END:DAYLIGHT
BEGIN:STANDARD
TZOFFSETFROM:+0200
TZOFFSETTO:+0100
TZNAME:CET
DTSTART:20221030T010000
END:STANDARD
BEGIN:DAYLIGHT
TZOFFSETFROM:+0100
TZOFFSETTO:+0200
TZNAME:CEST
DTSTART:20230326T010000
END:DAYLIGHT
BEGIN:STANDARD
TZOFFSETFROM:+0200
TZOFFSETTO:+0100
TZNAME:CET
DTSTART:20231029T010000
END:STANDARD
END:VTIMEZONE
BEGIN:VEVENT
DTSTART;VALUE=DATE:20221126
DTEND;VALUE=DATE:20221127
DTSTAMP:20260423T223126
CREATED:20221115T135916Z
LAST-MODIFIED:20221121T110707Z
UID:8186-1669420800-1669507199@ibizafunfamily.com
SUMMARY:Salida familiar
DESCRIPTION:El 26 de Noviembre se hará una salida familiar. Aplazado al 26 \nSalida con bicicleta des del parking de Roca Bella hasta el Centre d’esports Nautics\, donde se disfrutara de un bonito paseo en velero. \nInscripciones e información al 971323493 o casal@consellformentera.cat
URL:https://ibizafunfamily.com/agenda/salida-familiar/
LOCATION:Centre d’Esports Nàutics de Formentera\, Carrer de s'Almadrava\, 60
CATEGORIES:Deportives,Ruta / Caminata
ATTACH;FMTTYPE=image/jpeg:https://ibizafunfamily.com/wp-content/uploads/2022/11/99af90d0-b8f6-4313-881e-6c1c6c7d056a.jpg
ORGANIZER;CN="Consell de Formentera":MAILTO:presidencia@conselldeformentera.cat
END:VEVENT
BEGIN:VEVENT
DTSTART;TZID=Europe/Madrid:20221127T103000
DTEND;TZID=Europe/Madrid:20221127T103000
DTSTAMP:20260423T223126
CREATED:20221118T224634Z
LAST-MODIFIED:20221118T224634Z
UID:8281-1669545000-1669545000@ibizafunfamily.com
SUMMARY:VII BTT Master Kids Forada
DESCRIPTION:El Domingo 27 de Noviembre a las 10:30 h\, Buscastell. \nDirigido a niños y niñas de 0 a 16 años. \nInscripciones en la web www.ciclismepitius.com o insitu a las 9:30 \n 
URL:https://ibizafunfamily.com/agenda/vii-btt-master-kids-forada/
LOCATION:Mercat de Forada\, PMV-812-1\, 22\, Buscastells\, Sant Antoni de Portmany\, Islas Baleares\, 07820\, España
CATEGORIES:Deportives
ATTACH;FMTTYPE=image/jpeg:https://ibizafunfamily.com/wp-content/uploads/2022/11/6dfb9a38-ccf4-4a88-9f5f-bcfdd07a4d95.jpg
END:VEVENT
END:VCALENDAR