BEGIN:VCALENDAR
VERSION:2.0
PRODID:-//Ibiza Fun Family - ECPv6.15.17.1//NONSGML v1.0//EN
CALSCALE:GREGORIAN
METHOD:PUBLISH
X-ORIGINAL-URL:https://ibizafunfamily.com
X-WR-CALDESC:Eventos para Ibiza Fun Family
REFRESH-INTERVAL;VALUE=DURATION:PT1H
X-Robots-Tag:noindex
X-PUBLISHED-TTL:PT1H
BEGIN:VTIMEZONE
TZID:Europe/Madrid
BEGIN:DAYLIGHT
TZOFFSETFROM:+0100
TZOFFSETTO:+0200
TZNAME:CEST
DTSTART:20220327T010000
END:DAYLIGHT
BEGIN:STANDARD
TZOFFSETFROM:+0200
TZOFFSETTO:+0100
TZNAME:CET
DTSTART:20221030T010000
END:STANDARD
BEGIN:DAYLIGHT
TZOFFSETFROM:+0100
TZOFFSETTO:+0200
TZNAME:CEST
DTSTART:20230326T010000
END:DAYLIGHT
BEGIN:STANDARD
TZOFFSETFROM:+0200
TZOFFSETTO:+0100
TZNAME:CET
DTSTART:20231029T010000
END:STANDARD
BEGIN:DAYLIGHT
TZOFFSETFROM:+0100
TZOFFSETTO:+0200
TZNAME:CEST
DTSTART:20240331T010000
END:DAYLIGHT
BEGIN:STANDARD
TZOFFSETFROM:+0200
TZOFFSETTO:+0100
TZNAME:CET
DTSTART:20241027T010000
END:STANDARD
END:VTIMEZONE
BEGIN:VEVENT
DTSTART;TZID=Europe/Madrid:20230923T110000
DTEND;TZID=Europe/Madrid:20230923T121500
DTSTAMP:20260423T171457
CREATED:20230922T085403Z
LAST-MODIFIED:20230922T085403Z
UID:16352-1695466800-1695471300@ibizafunfamily.com
SUMMARY:Diada de iniciación a Mini
DESCRIPTION:El sábado 23 de Septiembre de 2023 de 11:00 a 12:15 en el Ceip Portal Nou \nAtividades abiertas a niños y niñas de 2012 a 2017 \ny a las 12:30 iremos a animar a las chicas del junior a Es Pratet \nInformación al 630111433 \n\n				\n					\n						Whatsapp
URL:https://ibizafunfamily.com/agenda/diada-de-iniciacion-a-mini/
LOCATION:CEIP Portal Nou\, Carrer de Madrid\, Eivissa\, islas baleares\, 07800\, España
CATEGORIES:Puertas abiertas
ATTACH;FMTTYPE=image/jpeg:https://ibizafunfamily.com/wp-content/uploads/2023/09/iniciacion.jpg
END:VEVENT
END:VCALENDAR