BEGIN:VCALENDAR
VERSION:2.0
PRODID:-//Ibiza Fun Family - ECPv6.15.17.1//NONSGML v1.0//EN
CALSCALE:GREGORIAN
METHOD:PUBLISH
X-WR-CALNAME:Ibiza Fun Family
X-ORIGINAL-URL:https://ibizafunfamily.com
X-WR-CALDESC:Eventos para Ibiza Fun Family
REFRESH-INTERVAL;VALUE=DURATION:PT1H
X-Robots-Tag:noindex
X-PUBLISHED-TTL:PT1H
BEGIN:VTIMEZONE
TZID:Europe/Madrid
BEGIN:DAYLIGHT
TZOFFSETFROM:+0100
TZOFFSETTO:+0200
TZNAME:CEST
DTSTART:20210328T010000
END:DAYLIGHT
BEGIN:STANDARD
TZOFFSETFROM:+0200
TZOFFSETTO:+0100
TZNAME:CET
DTSTART:20211031T010000
END:STANDARD
BEGIN:DAYLIGHT
TZOFFSETFROM:+0100
TZOFFSETTO:+0200
TZNAME:CEST
DTSTART:20220327T010000
END:DAYLIGHT
BEGIN:STANDARD
TZOFFSETFROM:+0200
TZOFFSETTO:+0100
TZNAME:CET
DTSTART:20221030T010000
END:STANDARD
BEGIN:DAYLIGHT
TZOFFSETFROM:+0100
TZOFFSETTO:+0200
TZNAME:CEST
DTSTART:20230326T010000
END:DAYLIGHT
BEGIN:STANDARD
TZOFFSETFROM:+0200
TZOFFSETTO:+0100
TZNAME:CET
DTSTART:20231029T010000
END:STANDARD
END:VTIMEZONE
BEGIN:VEVENT
DTSTART;TZID=Europe/Madrid:20221111T190000
DTEND;TZID=Europe/Madrid:20221111T190000
DTSTAMP:20260423T105017
CREATED:20221108T120346Z
LAST-MODIFIED:20221109T142425Z
UID:8059-1668193200-1668193200@ibizafunfamily.com
SUMMARY:Alimentación saludable\, primer taller
DESCRIPTION:El primer taller de familias curso 2022-2023 \nEl Viernes 11 de Noviembre a las 19h \nEl taller estará impartido por Paola Bermúdez. Nutricionista especializada en TCA\, psiconutrición\, comer emocional y alimentación vegetariana. \nTaller para familias \, a raíz de la dinámica realizada en clase por el de la alimentación saludable. \nDonde aprendieron que era una alimentación saludable\, el plato saludable y sus distintos grupos de alimentos. Aprenderemos cuales son los mejores alimentos para que nuestras familias crezcan y rinda de la manera mas saludable y equilibrada posible. \nImprescindible inscripción previa al 633504539 \n  \n  \n 
URL:https://ibizafunfamily.com/agenda/alimentacion-saludable-primer-taller/
LOCATION:CEIP Arabí\, Carrer Rafael Sáinz de la Cuesta\, 5\, Santa Eulària des Riu\, Islas Baleares\, 07849\, España
CATEGORIES:Talleres
ATTACH;FMTTYPE=image/jpeg:https://ibizafunfamily.com/wp-content/uploads/2022/11/afe55416-e9cc-49d3-a82b-3a61da237f71.jpg
ORGANIZER;CN="APIMA Arab%C3%AD":MAILTO:apima@ceipvendadarabi.com
END:VEVENT
END:VCALENDAR