BEGIN:VCALENDAR
VERSION:2.0
PRODID:-//Ibiza Fun Family - ECPv6.15.17.1//NONSGML v1.0//EN
CALSCALE:GREGORIAN
METHOD:PUBLISH
X-WR-CALNAME:Ibiza Fun Family
X-ORIGINAL-URL:https://ibizafunfamily.com
X-WR-CALDESC:Eventos para Ibiza Fun Family
REFRESH-INTERVAL;VALUE=DURATION:PT1H
X-Robots-Tag:noindex
X-PUBLISHED-TTL:PT1H
BEGIN:VTIMEZONE
TZID:Europe/Madrid
BEGIN:DAYLIGHT
TZOFFSETFROM:+0100
TZOFFSETTO:+0200
TZNAME:CEST
DTSTART:20240331T010000
END:DAYLIGHT
BEGIN:STANDARD
TZOFFSETFROM:+0200
TZOFFSETTO:+0100
TZNAME:CET
DTSTART:20241027T010000
END:STANDARD
BEGIN:DAYLIGHT
TZOFFSETFROM:+0100
TZOFFSETTO:+0200
TZNAME:CEST
DTSTART:20250330T010000
END:DAYLIGHT
BEGIN:STANDARD
TZOFFSETFROM:+0200
TZOFFSETTO:+0100
TZNAME:CET
DTSTART:20251026T010000
END:STANDARD
BEGIN:DAYLIGHT
TZOFFSETFROM:+0100
TZOFFSETTO:+0200
TZNAME:CEST
DTSTART:20260329T010000
END:DAYLIGHT
BEGIN:STANDARD
TZOFFSETFROM:+0200
TZOFFSETTO:+0100
TZNAME:CET
DTSTART:20261025T010000
END:STANDARD
END:VTIMEZONE
BEGIN:VEVENT
DTSTART;TZID=Europe/Madrid:20250613T163000
DTEND;TZID=Europe/Madrid:20250613T163000
DTSTAMP:20260423T132616
CREATED:20250609T213241Z
LAST-MODIFIED:20250609T213241Z
UID:31302-1749832200-1749832200@ibizafunfamily.com
SUMMARY:Teatro de marionetas
DESCRIPTION:El Viernes 13 de Junio de 2025 a las 16:30 en la Biblioteca de Jesús \nTeatro de marionetas» Nina la Cuinera» \, donde se les enseñara a los peques  de una manera lúdica los hábitos para una alimentación saludable y una higiene correcta \nLos peques deberán estar acompañados de un adulto \nPlazas limitadas \nSe necesita apuntarse al teléfono 611031430
URL:https://ibizafunfamily.com/agenda/teatro-de-marionetas/
LOCATION:Biblioteca de Jesús\, C/ Ses Vinyes\, 10\, Nuestra señora de Jesús\, islas baleares\, 07819\, España
CATEGORIES:Teatro
ATTACH;FMTTYPE=image/jpeg:https://ibizafunfamily.com/wp-content/uploads/2025/06/nina.jpg
END:VEVENT
END:VCALENDAR