BEGIN:VCALENDAR
VERSION:2.0
PRODID:-//Ibiza Fun Family - ECPv6.15.17.1//NONSGML v1.0//EN
CALSCALE:GREGORIAN
METHOD:PUBLISH
X-ORIGINAL-URL:https://ibizafunfamily.com
X-WR-CALDESC:Eventos para Ibiza Fun Family
REFRESH-INTERVAL;VALUE=DURATION:PT1H
X-Robots-Tag:noindex
X-PUBLISHED-TTL:PT1H
BEGIN:VTIMEZONE
TZID:Europe/Madrid
BEGIN:DAYLIGHT
TZOFFSETFROM:+0100
TZOFFSETTO:+0200
TZNAME:CEST
DTSTART:20240331T010000
END:DAYLIGHT
BEGIN:STANDARD
TZOFFSETFROM:+0200
TZOFFSETTO:+0100
TZNAME:CET
DTSTART:20241027T010000
END:STANDARD
BEGIN:DAYLIGHT
TZOFFSETFROM:+0100
TZOFFSETTO:+0200
TZNAME:CEST
DTSTART:20250330T010000
END:DAYLIGHT
BEGIN:STANDARD
TZOFFSETFROM:+0200
TZOFFSETTO:+0100
TZNAME:CET
DTSTART:20251026T010000
END:STANDARD
BEGIN:DAYLIGHT
TZOFFSETFROM:+0100
TZOFFSETTO:+0200
TZNAME:CEST
DTSTART:20260329T010000
END:DAYLIGHT
BEGIN:STANDARD
TZOFFSETFROM:+0200
TZOFFSETTO:+0100
TZNAME:CET
DTSTART:20261025T010000
END:STANDARD
END:VTIMEZONE
BEGIN:VEVENT
DTSTART;TZID=Europe/Madrid:20250503T204500
DTEND;TZID=Europe/Madrid:20250503T204500
DTSTAMP:20260423T235049
CREATED:20250502T111323Z
LAST-MODIFIED:20250502T111323Z
UID:30467-1746305100-1746305100@ibizafunfamily.com
SUMMARY:Teatre a la Primavera\, Sa Història d'un premi
DESCRIPTION:El Sábado 3 de mayo de 2025 a las 20:45 en el Centro Cultural de Can Jeroni \nTeatre a la Primavera\, Sa Història d’un premi a cargo de Grup de Teatre Es Molí \nEntrada libre hasta completar aforo
URL:https://ibizafunfamily.com/agenda/teatre-a-la-primavera-sa-historia-dun-premi/
LOCATION:Can Jeroni\, Sant Josep\, Carrer sa Talaia\, 16\,\, Sant Josep de Sa Talaia\, islas baleares\, 07830\, España
CATEGORIES:Teatro
ATTACH;FMTTYPE=image/jpeg:https://ibizafunfamily.com/wp-content/uploads/2025/05/teatro.jpg
ORGANIZER;CN="Ajuntament de Sant Josep de Sa Talaia":MAILTO:alcaldia@santjosep.org
END:VEVENT
BEGIN:VEVENT
DTSTART;TZID=Europe/Madrid:20250517T200000
DTEND;TZID=Europe/Madrid:20250517T200000
DTSTAMP:20260423T235049
CREATED:20250502T111526Z
LAST-MODIFIED:20250502T111526Z
UID:30470-1747512000-1747512000@ibizafunfamily.com
SUMMARY:Teatre a la Primavera\,Corsaris
DESCRIPTION:El Sábado 17 de mayo de 2025 a las 20:45 en el Centro Cultural de Can Jeroni \nTeatre a la Primavera\,Corsaris a cargo de L’Antònima Teatre \nEntrada libre hasta completar aforo
URL:https://ibizafunfamily.com/agenda/teatre-a-la-primaveracorsaris/
LOCATION:Auditori Calo de S’ Oli\, Cala de Bou\, Carrer de Málaga\, n1\, Sant Josep de Sa Talaia\, Islas Baleares\, 07800\, España
CATEGORIES:Teatro
ATTACH;FMTTYPE=image/jpeg:https://ibizafunfamily.com/wp-content/uploads/2025/05/teatro.jpg
ORGANIZER;CN="Ajuntament de Sant Josep de Sa Talaia":MAILTO:alcaldia@santjosep.org
END:VEVENT
BEGIN:VEVENT
DTSTART;TZID=Europe/Madrid:20250518T113000
DTEND;TZID=Europe/Madrid:20250518T123000
DTSTAMP:20260423T235049
CREATED:20250507T213244Z
LAST-MODIFIED:20250507T213244Z
UID:30705-1747567800-1747571400@ibizafunfamily.com
SUMMARY:Teatro Petit. Bach to the 80's
DESCRIPTION:El Domingo 18 de Mayo de 2025 a las 11:30 en Can Ventosa \nTeatre Petit\n”Back to the 80s\, el nuevo espectáculo de Albert\, que nos transporta directamente a la infancia. Todo comienza cuando\, al regresar a casa de sus padres\, descubre una misteriosa caja llena de recuerdos y juguetes de los años 80. En escena\, esos objetos cobran vida a través de sorprendentes efectos de magia\, despertando risas\, emociones y asombro. Es un viaje cargado de nostalgia y humor\, que invita al espectador a reencontrarse con el niño que lleva dentro. Una experiencia mágica para todos los públicos\, donde el pasado se convierte en ilusión y brilla con fuerza la magia de los recuerdos.”\nPodéis sacar la entrada de forma gratuita en el siguiente enlace: \n  \n\n				\n					\n						ENTRADAS
URL:https://ibizafunfamily.com/agenda/teatro-petit-bach-to-the-80s/
LOCATION:Auditori Can Ventosa\, Av. Ignasi Wallis\, 36\, Eivissa\, Islas Baleares\, 07800\, España
CATEGORIES:Teatro
ATTACH;FMTTYPE=image/jpeg:https://ibizafunfamily.com/wp-content/uploads/2025/05/la-magia-de-los-recuerdos.jpg
ORGANIZER;CN="Shows Ibiza":MAILTO:info@showsibiza.com
END:VEVENT
BEGIN:VEVENT
DTSTART;TZID=Europe/Madrid:20250531T200000
DTEND;TZID=Europe/Madrid:20250531T210000
DTSTAMP:20260423T235049
CREATED:20250507T214402Z
LAST-MODIFIED:20250507T214402Z
UID:30717-1748721600-1748725200@ibizafunfamily.com
SUMMARY:Petites tràgedies\, teatro
DESCRIPTION:El Sábado 31 de Mayo de 2025 a las 20:00 en el Auditorio de Caló de S’Oli \nPetites tràgedies a cargo de Iguana Teatre \nEntrada libre hasta completar aforo
URL:https://ibizafunfamily.com/agenda/petites-tragedies-teatro/
LOCATION:Auditori Calo de S’ Oli\, Cala de Bou\, Carrer de Málaga\, n1\, Sant Josep de Sa Talaia\, Islas Baleares\, 07800\, España
CATEGORIES:Teatro
ATTACH;FMTTYPE=image/jpeg:https://ibizafunfamily.com/wp-content/uploads/2025/05/teatro.jpg
ORGANIZER;CN="Ajuntament de Sant Josep de Sa Talaia":MAILTO:alcaldia@santjosep.org
END:VEVENT
END:VCALENDAR