BEGIN:VCALENDAR
VERSION:2.0
PRODID:-//Ibiza Fun Family - ECPv6.15.17.1//NONSGML v1.0//EN
CALSCALE:GREGORIAN
METHOD:PUBLISH
X-ORIGINAL-URL:https://ibizafunfamily.com
X-WR-CALDESC:Eventos para Ibiza Fun Family
REFRESH-INTERVAL;VALUE=DURATION:PT1H
X-Robots-Tag:noindex
X-PUBLISHED-TTL:PT1H
BEGIN:VTIMEZONE
TZID:Europe/Madrid
BEGIN:DAYLIGHT
TZOFFSETFROM:+0100
TZOFFSETTO:+0200
TZNAME:CEST
DTSTART:20220327T010000
END:DAYLIGHT
BEGIN:STANDARD
TZOFFSETFROM:+0200
TZOFFSETTO:+0100
TZNAME:CET
DTSTART:20221030T010000
END:STANDARD
BEGIN:DAYLIGHT
TZOFFSETFROM:+0100
TZOFFSETTO:+0200
TZNAME:CEST
DTSTART:20230326T010000
END:DAYLIGHT
BEGIN:STANDARD
TZOFFSETFROM:+0200
TZOFFSETTO:+0100
TZNAME:CET
DTSTART:20231029T010000
END:STANDARD
BEGIN:DAYLIGHT
TZOFFSETFROM:+0100
TZOFFSETTO:+0200
TZNAME:CEST
DTSTART:20240331T010000
END:DAYLIGHT
BEGIN:STANDARD
TZOFFSETFROM:+0200
TZOFFSETTO:+0100
TZNAME:CET
DTSTART:20241027T010000
END:STANDARD
END:VTIMEZONE
BEGIN:VEVENT
DTSTART;TZID=Europe/Madrid:20230826T190000
DTEND;TZID=Europe/Madrid:20230826T230000
DTSTAMP:20260423T225010
CREATED:20230821T102317Z
LAST-MODIFIED:20230821T102317Z
UID:15690-1693076400-1693090800@ibizafunfamily.com
SUMMARY:Festa Popular de Sa Colla de l'Horta
DESCRIPTION:El Sábado 26 de Agosto a partir de las 19h en la Plaza de Jesús \n\nServicio de bar\nArtesania\n\n\nTalleres infantiles\nCantar\, Jugar i Ballar\n\nJuegos y canciones tradicionales a cargo de Sueños de Ibiza \nY juegos gigantes de madera a cargo de Jugueroix \nOrganiza la Federació de Colles d’Eivissa \nA las 21:00 Baile popular \n21:30 Cantada i sonada pagesa \n\n				\n					\n						Ver programa completo de fiestas
URL:https://ibizafunfamily.com/agenda/festa-popular-de-sa-colla-de-lhorta/
LOCATION:Plaza de Jesús\, Plaza de Jesus\, Nuestra señora de Jesús\, Santa Eulalia del Rio\, 07819\, España
CATEGORIES:Baile,Juegos,Talleres
ATTACH;FMTTYPE=image/jpeg:https://ibizafunfamily.com/wp-content/uploads/2023/08/jesus.jpg
ORGANIZER;CN="Ajuntament de Santa Eul%C3%A0ria des Riu":MAILTO:alcaldia@santaeularia.com
END:VEVENT
END:VCALENDAR