BEGIN:VCALENDAR
VERSION:2.0
PRODID:-//Ibiza Fun Family - ECPv6.15.17.1//NONSGML v1.0//EN
CALSCALE:GREGORIAN
METHOD:PUBLISH
X-WR-CALNAME:Ibiza Fun Family
X-ORIGINAL-URL:https://ibizafunfamily.com
X-WR-CALDESC:Eventos para Ibiza Fun Family
REFRESH-INTERVAL;VALUE=DURATION:PT1H
X-Robots-Tag:noindex
X-PUBLISHED-TTL:PT1H
BEGIN:VTIMEZONE
TZID:Europe/Madrid
BEGIN:DAYLIGHT
TZOFFSETFROM:+0100
TZOFFSETTO:+0200
TZNAME:CEST
DTSTART:20220327T010000
END:DAYLIGHT
BEGIN:STANDARD
TZOFFSETFROM:+0200
TZOFFSETTO:+0100
TZNAME:CET
DTSTART:20221030T010000
END:STANDARD
BEGIN:DAYLIGHT
TZOFFSETFROM:+0100
TZOFFSETTO:+0200
TZNAME:CEST
DTSTART:20230326T010000
END:DAYLIGHT
BEGIN:STANDARD
TZOFFSETFROM:+0200
TZOFFSETTO:+0100
TZNAME:CET
DTSTART:20231029T010000
END:STANDARD
BEGIN:DAYLIGHT
TZOFFSETFROM:+0100
TZOFFSETTO:+0200
TZNAME:CEST
DTSTART:20240331T010000
END:DAYLIGHT
BEGIN:STANDARD
TZOFFSETFROM:+0200
TZOFFSETTO:+0100
TZNAME:CET
DTSTART:20241027T010000
END:STANDARD
END:VTIMEZONE
BEGIN:VEVENT
DTSTART;TZID=Europe/Madrid:20230821T093000
DTEND;TZID=Europe/Madrid:20230825T133000
DTSTAMP:20260420T194423
CREATED:20230720T140008Z
LAST-MODIFIED:20230720T140008Z
UID:15280-1692610200-1692970200@ibizafunfamily.com
SUMMARY:Escuela Gastronómica de verano para niños
DESCRIPTION:Curso de cocina 2023 por semanas para niños y niñas a partir de años en Tierra de Ibiza \n1 semana: 7 al 11 de Agosto cocina Medirerránea \n2 semana:  21 al  25 de Agosto cocina Europea \n3 semana : 28 de Agosto al 1 de Septiembre cocina Asiática \n4 semana : 4 al 8 de Septiembre cocina Americana \nPrecios: \n1 semana 150€ Promociones -5% por cada semana extra \nDescuento para hermanos 2 -10%\, 3 -15% \nPlazas: 10 niños y niñas a partir de 6 años \nHorario: Lunes a Viernes de 9:30 a 13:30 \nPara más información 971217544 o al 676064041 \n  \n\n				\n					\n						Whatsapp\n					\n				\n			  \n\n				\n					\n						Teléfono\n					\n				\n			  \n 
URL:https://ibizafunfamily.com/agenda/escuela-gastronomica-de-verano-para-ninos-2/
LOCATION:Tierra de Ibiza\, Carrer del Metge Riera Ferrer\, nº8\, Eivissa\, Islas Baleares\, 07800\, España
CATEGORIES:Cocina,Talleres
ATTACH;FMTTYPE=image/jpeg:https://ibizafunfamily.com/wp-content/uploads/2023/07/rece.jpg
END:VEVENT
BEGIN:VEVENT
DTSTART;TZID=Europe/Madrid:20230825T170000
DTEND;TZID=Europe/Madrid:20230825T183000
DTSTAMP:20260420T194423
CREATED:20230821T070032Z
LAST-MODIFIED:20230821T070032Z
UID:15673-1692982800-1692988200@ibizafunfamily.com
SUMMARY:Taller de cocina
DESCRIPTION:El Viernes 25 de Agosto de 17h a 18:30 en Espai Momo Ibiza \nTaller de cocina para niños y niñas a partir de 4 años. \nVamos a elaborar nuestro propio bizcochito a la taza saludable ¿te animas? \nMug Cake \nSólo necesitas traer tu taza favorita apto para microondas \n14€ precio de taller \nInformación e inscripciones en Espai Momo Ibiza o al 657210726 \n\n				\n					\n						Whatsapp
URL:https://ibizafunfamily.com/agenda/taller-de-cocina-3/
LOCATION:Espai Momo Ibiza\, C/ Pere Francés n32\, Eivissa\, Islas Baleares\, 07800\, España
CATEGORIES:Talleres
ATTACH;FMTTYPE=image/jpeg:https://ibizafunfamily.com/wp-content/uploads/2023/08/espai-momo7.jpg
END:VEVENT
BEGIN:VEVENT
DTSTART;TZID=Europe/Madrid:20230825T180000
DTEND;TZID=Europe/Madrid:20230825T193000
DTSTAMP:20260420T194423
CREATED:20230713T223747Z
LAST-MODIFIED:20230713T223747Z
UID:15215-1692986400-1692991800@ibizafunfamily.com
SUMMARY:Taller de dibujo manga
DESCRIPTION:Todos los Viernes de Julio y Agosto de 2023 de 18:00 a 19:30  se hará un taller de dibujo manga en el Casal de Joves de Formentera \nImpartido por Francisco Garcia \nDirigido para más de 10 años \nInscripciones al 971323493 o al 607142846 \n\n				\n					\n						Whatsapp
URL:https://ibizafunfamily.com/agenda/taller-de-dibujo-manga-13-7/
LOCATION:Casal de Joves de Formentera\, Avda. Portossalè\, 88\, Formentera\, Islas Baleares\, 07860\, España
CATEGORIES:Dibujo,Talleres
ATTACH;FMTTYPE=image/jpeg:https://ibizafunfamily.com/wp-content/uploads/2023/07/manga.jpg
ORGANIZER;CN="Casal de Joves de Formentera":MAILTO:joventut@conselldeformentera.cat
END:VEVENT
BEGIN:VEVENT
DTSTART;TZID=Europe/Madrid:20230825T180000
DTEND;TZID=Europe/Madrid:20230825T193000
DTSTAMP:20260420T194423
CREATED:20230719T160539Z
LAST-MODIFIED:20230801T063800Z
UID:15259-1692986400-1692991800@ibizafunfamily.com
SUMMARY:Talleres escritura emocional
DESCRIPTION:El Viernes 18 y 25 de Agosto de 2023 de 18:00 a 19:30 en el Barco de Papel\, Ibiza \nEl taller de escritura emocional será impartido por Lucia Huedo \nDirigido para peques de 9 a 12 años \nCada taller consta  de 2 sesiones\, aunque se puede hacer solo una de ellas. \nEl primer taller serán las emociones miedo y alegría y el segundo taller de rabia y tristeza \nLas sesiones se pagan individuales \nPrecio por sesión individual 20€. Precio por taller completo 35€ ( pack de dos sesiones) \nHaz tu reserva mandando un mail a barcodepapelibiza@gmail.com con los datos del pequeño escritor y las fechas \n  \n\n				\n					\n						Correo electrónico\n					\n				\n			  \nEl material de trabajo está incluido \nSujeto a cambios según aforo
URL:https://ibizafunfamily.com/agenda/talleres-escritura-emocional-2/
LOCATION:Barco de Papel\, Carrer de Balears\, 19\, Eivissa\, islas baleares\, 07800\, España
CATEGORIES:Talleres
ATTACH;FMTTYPE=image/jpeg:https://ibizafunfamily.com/wp-content/uploads/2023/07/IMG-20230731-WA0033.jpg
END:VEVENT
BEGIN:VEVENT
DTSTART;TZID=Europe/Madrid:20230825T190000
DTEND;TZID=Europe/Madrid:20230825T220000
DTSTAMP:20260420T194423
CREATED:20230804T151728Z
LAST-MODIFIED:20230804T152603Z
UID:15467-1692990000-1693000800@ibizafunfamily.com
SUMMARY:4ª Joves al carrer en Sant Carles
DESCRIPTION:Joves al carrer del Municipio de Santa Eulària 2023 de 19:00 a 22:00 horas \nEscape room\, cluendo\, inflables\, torneos\, surfskate\, talleres artísticos\, foods trucks y mucho mas… \n11 de Agosto en Es Puig d’en Valls ( al lado del punt jove) \n18 de Agosto en Santa Eulària ( Passeig Solidari) \n25 de Agosto en San Carlos ( Plaza de San Carlos) \n1 de Septiembre en Jesús ( Plaza de Jesús) \n8 de Septiembre en Santa Gertrudis (Plaza nueva de Santa Gertrudis) \nDirigido a jovenes de 11 a 18 años. Todas las actividades serán gratuitas. \nDía internacional de la Joventud  ( 12 de Agosto) \n\n				\n					\n						Ver programa completo Joves al carrer\n					\n				\n			  \n  \n 
URL:https://ibizafunfamily.com/agenda/4a-joves-al-carrer-5-4/
LOCATION:Plaza San Carlos\, Plaza San Carlos\,\, Sant Carles de Peralta\, islas baleares\, 07850\, España
CATEGORIES:Talleres,Torneo
ATTACH;FMTTYPE=image/jpeg:https://ibizafunfamily.com/wp-content/uploads/2023/08/joventud.jpg
ORGANIZER;CN="Joventut Santa Eul%C3%A0ria":MAILTO:joventut@santaeularia.com
END:VEVENT
BEGIN:VEVENT
DTSTART;TZID=Europe/Madrid:20230825T203000
DTEND;TZID=Europe/Madrid:20230825T230000
DTSTAMP:20260420T194423
CREATED:20230812T094747Z
LAST-MODIFIED:20230812T100153Z
UID:15557-1692995400-1693004400@ibizafunfamily.com
SUMMARY:Fiesta Pirata
DESCRIPTION:El Viernes 25 de Agosto de 2023 de 20:30 a 23:00 en Espai Momo Ibiza \nPijamada Pirata Flúor a partir de 6 años \nJuegos \nTAttos de Pirata \nDesfile de Disfraces \nArt Momo \nY Cena \nReservas e información 657210726 \n\n				\n					\n						Whatsapp\n					\n				\n			   \n\n				\n					\n						Teléfono\n					\n				\n			   \n 
URL:https://ibizafunfamily.com/agenda/fiesta-pirata/
LOCATION:Espai Momo Ibiza\, C/ Pere Francés n32\, Eivissa\, Islas Baleares\, 07800\, España
CATEGORIES:Talleres
ATTACH;FMTTYPE=image/jpeg:https://ibizafunfamily.com/wp-content/uploads/2023/08/pirata.jpg
END:VEVENT
END:VCALENDAR