BEGIN:VCALENDAR
VERSION:2.0
PRODID:-//Ibiza Fun Family - ECPv6.15.17.1//NONSGML v1.0//EN
CALSCALE:GREGORIAN
METHOD:PUBLISH
X-ORIGINAL-URL:https://ibizafunfamily.com
X-WR-CALDESC:Eventos para Ibiza Fun Family
REFRESH-INTERVAL;VALUE=DURATION:PT1H
X-Robots-Tag:noindex
X-PUBLISHED-TTL:PT1H
BEGIN:VTIMEZONE
TZID:Europe/Madrid
BEGIN:DAYLIGHT
TZOFFSETFROM:+0100
TZOFFSETTO:+0200
TZNAME:CEST
DTSTART:20220327T010000
END:DAYLIGHT
BEGIN:STANDARD
TZOFFSETFROM:+0200
TZOFFSETTO:+0100
TZNAME:CET
DTSTART:20221030T010000
END:STANDARD
BEGIN:DAYLIGHT
TZOFFSETFROM:+0100
TZOFFSETTO:+0200
TZNAME:CEST
DTSTART:20230326T010000
END:DAYLIGHT
BEGIN:STANDARD
TZOFFSETFROM:+0200
TZOFFSETTO:+0100
TZNAME:CET
DTSTART:20231029T010000
END:STANDARD
BEGIN:DAYLIGHT
TZOFFSETFROM:+0100
TZOFFSETTO:+0200
TZNAME:CEST
DTSTART:20240331T010000
END:DAYLIGHT
BEGIN:STANDARD
TZOFFSETFROM:+0200
TZOFFSETTO:+0100
TZNAME:CET
DTSTART:20241027T010000
END:STANDARD
END:VTIMEZONE
BEGIN:VEVENT
DTSTART;TZID=Europe/Madrid:20230819T100000
DTEND;TZID=Europe/Madrid:20230819T130000
DTSTAMP:20260419T202420
CREATED:20230707T091653Z
LAST-MODIFIED:20230707T091653Z
UID:15116-1692439200-1692450000@ibizafunfamily.com
SUMMARY:Clase de iniciación a las danzas urbanas
DESCRIPTION:Sábados 19 de Agosto de 10:00 a 13:00 en el Polideportivo de Can Coix de 2023 \nInscripciones nivel iniciación abiertas : 10€ \nEstá edición presenta una clase de iniciación a las  danzas urbanas para todos los públicos: papis\, mamis\, peques\, personas que nunca han bailado\, que se acaban de adentrar en el mundo de la danza o que no se han atrevido nuna a dar el paso…ahora no tenéis excusa… \nPor tan solo 10€ disfruta de 3 horas  completas de iniciación a danzas urbanas . \nToda la recaudación de las inscripciones será  donada a la asociación Cancer de Mama metafísico para continuar trabajando en la investigación de esta enfermedad que a día de hoy sigue siendo incurable. \n1.Bizum de 10€ 625766523 Ana o al 675111122 Carlos indicando Nombre + New Moves \n2. Enviar nombre completo+ Mail+ Pantallazo pago por whassap a los números anteriores o por mail a newmovesst@gmil.com \n\n				\n					\n						Correo electrónico\n					\n				\n			  \nTambién podéis contactar con los organizadores mediante instagram en @newmovesst. \n  \n  \n 
URL:https://ibizafunfamily.com/agenda/clase-de-iniciacion-a-las-danzas-urbanas/
LOCATION:Complejo Deportivo Can Coix\, Carretera de Santa Agnès\, 16\, Sant Antoni de Portmany\, islas baleares\, 07820\, España
CATEGORIES:Talleres
ATTACH;FMTTYPE=image/jpeg:https://ibizafunfamily.com/wp-content/uploads/2023/07/cARLOS.jpg
END:VEVENT
BEGIN:VEVENT
DTSTART;TZID=Europe/Madrid:20230819T110000
DTEND;TZID=Europe/Madrid:20230819T233000
DTSTAMP:20260419T202420
CREATED:20230805T225623Z
LAST-MODIFIED:20230816T191440Z
UID:15511-1692442800-1692487800@ibizafunfamily.com
SUMMARY:CANCELADO
DESCRIPTION:Fiestas de Playa d’en Bossa 2023 \nEl sábado 19 de Agosto de 11:00 a 23:30 \n11:00 animación\, pintacaras\, juegos infantiles y castillos hinchables en el campito con Mimi y Didi \n18:00 Cocurso ¡tu si que sabes! \n19:00 Torneo juvenil con Dj Iluhan \n20:00 Música de los 80s con Djs electroduendes \n21:50 Rifa Popular \n23:30 Concierto: Canallas del Guateke \n\n				\n					\n						Ver programa completo de fiestas
URL:https://ibizafunfamily.com/agenda/animacion-pintacaras-juegos-infantiles-y-mucho-mas/
LOCATION:Plaza del Campito de Playa d’en Bossa\, Calle Alcines 10\, Platja d'en bossa\, Islas Baleares\, 07800\, España
CATEGORIES:Baile,Pintacaras,Talleres
ATTACH;FMTTYPE=image/jpeg:https://ibizafunfamily.com/wp-content/uploads/2023/08/IMG-20230816-WA0036.jpg
ORGANIZER;CN="AAVV Platja d'en Bossa":MAILTO:avplatjadenbossa@gmail.com
END:VEVENT
BEGIN:VEVENT
DTSTART;TZID=Europe/Madrid:20230819T180000
DTEND;TZID=Europe/Madrid:20230819T200000
DTSTAMP:20260419T202420
CREATED:20230814T113915Z
LAST-MODIFIED:20230814T113915Z
UID:15596-1692468000-1692475200@ibizafunfamily.com
SUMMARY:Taller Biocontrucción en familia
DESCRIPTION:El Sábado 19 de Agosto de 2023 de 18h a 20h en Jardín Sànima Herbs\, Esencia Viva\, zona Benirrás. \nEl Taller trata de una experiencia con la arquitectura de tierra descubriendo su uso y técnica que \, invite a conocer su entorno y reflexionar sobre el medio en el que vivimos. \nRevestiremos con tierra una casita infantil. \nEl juego\, el trabajo colaborativo\, la acción será la estrategia a seguir. \nPermite ensuciarse\, mojarse y eso es todo un disfrute. \nFormaremos una pared\, al igual que un bloque de adobe que será decorado y así poderse lo llevar a sus casas. \nImparte el taller la Arquetecta ana M. Ramos. \nLos menores de 8 años han de venir acompañados por un adulto \nEl taller tiene un aportación de 20 € por niño/a \nInscripciones e información al 680128534 o al 678785697 \n\n				\n					\n						Whatsapp\n					\n				\n			  \n\n				\n					\n						Whatsapp\n					\n				\n			  \n\n				\n					\n						Web Proyectos sostenibles
URL:https://ibizafunfamily.com/agenda/taller-biocontruccion-en-familia/
LOCATION:Finca Sánima Herbs\, Venda de Benirràs\, 147\, Sant Miquel de Balansat\, islas baleares\, 07815\, España
CATEGORIES:Talleres
ATTACH;FMTTYPE=image/jpeg:https://ibizafunfamily.com/wp-content/uploads/2023/08/taller.jpg
END:VEVENT
END:VCALENDAR