BEGIN:VCALENDAR
VERSION:2.0
PRODID:-//Ibiza Fun Family - ECPv6.15.17.1//NONSGML v1.0//EN
CALSCALE:GREGORIAN
METHOD:PUBLISH
X-ORIGINAL-URL:https://ibizafunfamily.com
X-WR-CALDESC:Eventos para Ibiza Fun Family
REFRESH-INTERVAL;VALUE=DURATION:PT1H
X-Robots-Tag:noindex
X-PUBLISHED-TTL:PT1H
BEGIN:VTIMEZONE
TZID:Europe/Madrid
BEGIN:DAYLIGHT
TZOFFSETFROM:+0100
TZOFFSETTO:+0200
TZNAME:CEST
DTSTART:20220327T010000
END:DAYLIGHT
BEGIN:STANDARD
TZOFFSETFROM:+0200
TZOFFSETTO:+0100
TZNAME:CET
DTSTART:20221030T010000
END:STANDARD
BEGIN:DAYLIGHT
TZOFFSETFROM:+0100
TZOFFSETTO:+0200
TZNAME:CEST
DTSTART:20230326T010000
END:DAYLIGHT
BEGIN:STANDARD
TZOFFSETFROM:+0200
TZOFFSETTO:+0100
TZNAME:CET
DTSTART:20231029T010000
END:STANDARD
BEGIN:DAYLIGHT
TZOFFSETFROM:+0100
TZOFFSETTO:+0200
TZNAME:CEST
DTSTART:20240331T010000
END:DAYLIGHT
BEGIN:STANDARD
TZOFFSETFROM:+0200
TZOFFSETTO:+0100
TZNAME:CET
DTSTART:20241027T010000
END:STANDARD
END:VTIMEZONE
BEGIN:VEVENT
DTSTART;TZID=Europe/Madrid:20230813T200000
DTEND;TZID=Europe/Madrid:20230815T233000
DTSTAMP:20260419T202520
CREATED:20230808T111234Z
LAST-MODIFIED:20230808T112145Z
UID:15522-1691956800-1692142200@ibizafunfamily.com
SUMMARY:Castillos hinchables\, actuaciones y mucha fiesta en las Fiestas de la Mare de Déu d' Agost
DESCRIPTION:Fiestas de la Mare de Déu d’ Agost 2023 Formentera del 13 al 15 de Agosto \nDomingo 13 de Agosto en la Plaza de la Iglesia de Sant Ferran \n20:00 Vermut musical \n20:30 Muestra de artesanía y oficios tradicionales \nBrulada de corn y sonada de gaitas tradicionales. \nCanto payes y glosas con cantadores de Ibiza y Formentera \nConcurso de UCS \n22:00 Baile popular de corto \nA continuación baile social latino a cargo de Formetera Baila conmigo \nLunes 14 de Agosto \n20:00 Castillos hinchables de 3 a 12 años \n20:30 Actuación de la Colla castellera de Ibiza ( Boixes y Boixos d’Eivissa) \n21:30 Servicio de bocadillos calientes \n22:00 Cercavila con baile de Capgrossos a cargo de Xaranga Xaranguera. Des de la Calle Mayor hasta la Plaza \n23:00 Concierto » El Diluvi» (Valencia) \nA continuación Hippie Fest(Pd Burbaia y Pd PaDjesa) \nLa fiesta más hippie\, ven disfrazado para la ocasión \nMartes 15 de Agosto \n20:00 Missa sonada y cantada \nOfrenda floral a Santa MAría y presentación  de nenes y nenas a la Mare de Déu \n21:00 Baile Payés \nA cargo de la Colla Es Xacoters y Es Colla de Sa Bodega\, Colla de Buscastell y Colla de Balansat \nInvitación a buñuelos casolats \n21:30 Servicio de Bocadillos calientes \n22:30 Concierto «Imaràtia» y » Niuss \nA continuación Discomóbil \n\n				\n					\n						Ver programa completo de fiestas
URL:https://ibizafunfamily.com/agenda/castillos-hinchables-actuaciones-y-mucha-fiesta-en-las-fiestas-de-la-mare-de-deu-d-agost/
LOCATION:Sant Ferran de ses Roques\, Sant Ferran de ses roques\, Formentera\, Islas Baleares\, 07871\, España
CATEGORIES:Baile,Concierto,Talleres
ATTACH;FMTTYPE=image/jpeg:https://ibizafunfamily.com/wp-content/uploads/2023/08/formentera-e1691492517542.jpg
END:VEVENT
BEGIN:VEVENT
DTSTART;TZID=Europe/Madrid:20230814T190000
DTEND;TZID=Europe/Madrid:20230814T233000
DTSTAMP:20260419T202520
CREATED:20230728T155334Z
LAST-MODIFIED:20230728T162724Z
UID:15374-1692039600-1692055800@ibizafunfamily.com
SUMMARY:Talleres\, animación actividades infantiles y mucho más en las Fiestas  de Figueretas
DESCRIPTION:Comienzan las fiestas de Figueretas del 9 a 15 de Agosto de 2023 \nEl Lunes 14 de Agosto de 19:00 a 22:00 \n19: 00 Talleres infantiles\, actividades  y animación en la Plaza Júlian Verdera a cargo de Kairos. \n19:30 torneo de ajedrez \n21:30 Simple Rock \n23:30 1ruda Rock Band \n\n				\n					\n						Ver programa completo de fiestas\n					\n				\n			  \n  \n 
URL:https://ibizafunfamily.com/agenda/talleres-animacion-actividades-infantiles-y-mucho-mas-en-las-fiestas-de-figueretas/
LOCATION:Plaza de Julià Verdera\, Passeig ses Pitiüses\, Eivissa\, 07800\, España
CATEGORIES:Fiesta,Talleres
ATTACH;FMTTYPE=image/jpeg:https://ibizafunfamily.com/wp-content/uploads/2023/07/figueretas-e1690557716892.jpg
END:VEVENT
END:VCALENDAR