BEGIN:VCALENDAR
VERSION:2.0
PRODID:-//Ibiza Fun Family - ECPv6.15.17.1//NONSGML v1.0//EN
CALSCALE:GREGORIAN
METHOD:PUBLISH
X-ORIGINAL-URL:https://ibizafunfamily.com
X-WR-CALDESC:Eventos para Ibiza Fun Family
REFRESH-INTERVAL;VALUE=DURATION:PT1H
X-Robots-Tag:noindex
X-PUBLISHED-TTL:PT1H
BEGIN:VTIMEZONE
TZID:Europe/Madrid
BEGIN:DAYLIGHT
TZOFFSETFROM:+0100
TZOFFSETTO:+0200
TZNAME:CEST
DTSTART:20220327T010000
END:DAYLIGHT
BEGIN:STANDARD
TZOFFSETFROM:+0200
TZOFFSETTO:+0100
TZNAME:CET
DTSTART:20221030T010000
END:STANDARD
BEGIN:DAYLIGHT
TZOFFSETFROM:+0100
TZOFFSETTO:+0200
TZNAME:CEST
DTSTART:20230326T010000
END:DAYLIGHT
BEGIN:STANDARD
TZOFFSETFROM:+0200
TZOFFSETTO:+0100
TZNAME:CET
DTSTART:20231029T010000
END:STANDARD
BEGIN:DAYLIGHT
TZOFFSETFROM:+0100
TZOFFSETTO:+0200
TZNAME:CEST
DTSTART:20240331T010000
END:DAYLIGHT
BEGIN:STANDARD
TZOFFSETFROM:+0200
TZOFFSETTO:+0100
TZNAME:CET
DTSTART:20241027T010000
END:STANDARD
END:VTIMEZONE
BEGIN:VEVENT
DTSTART;TZID=Europe/Madrid:20230812T190000
DTEND;TZID=Europe/Madrid:20230812T233000
DTSTAMP:20260420T014444
CREATED:20230728T154508Z
LAST-MODIFIED:20230728T162331Z
UID:15370-1691866800-1691883000@ibizafunfamily.com
SUMMARY:Talleres\, actividades y animación infantil en las Fiestas de Figueretas
DESCRIPTION:Comienzan las fiestas de Figueretas del 9 a 15 de Agosto de 2023 \nEl Sábado 12 de Agosto de 19:00 a 23:30 \n19: 00 Talleres infantiles\, actividades  y animación en la Plaza Júlian Verdera a cargo de Kairos. \n19:30 torneo de ajedrez \n21:00 Zumba Familiar \n22:00 Apotropaico \n23:30 Konkordatti Punkinetti \n\n				\n					\n						Ver programa completo de fiestas\n					\n				\n			  \n  \n 
URL:https://ibizafunfamily.com/agenda/talleres-actividades-y-animacion-infantil-en-las-fiestas-de-figueretas/
LOCATION:Plaza de Julià Verdera\, Passeig ses Pitiüses\, Eivissa\, 07800\, España
CATEGORIES:Fiesta,Talleres
ATTACH;FMTTYPE=image/jpeg:https://ibizafunfamily.com/wp-content/uploads/2023/07/figueretas-e1690557716892.jpg
END:VEVENT
BEGIN:VEVENT
DTSTART;TZID=Europe/Madrid:20230812T200000
DTEND;TZID=Europe/Madrid:20230812T230000
DTSTAMP:20260420T014444
CREATED:20230812T100722Z
LAST-MODIFIED:20230812T100722Z
UID:15566-1691870400-1691881200@ibizafunfamily.com
SUMMARY:Taller creativo en Formentera
DESCRIPTION:El sábado 12 de Agosto de 2023 en el Mercado Artistico de Sant Ferran\, Formentera \nTaller creativo infantil para niños y niñas a cargo de Mar Ample \n20:00 Mercat artístico de Sant Ferran \nConcierto de autora  a cargo de Maya Alexander \n22:00 Mercat artístico de Sant Ferran \n 
URL:https://ibizafunfamily.com/agenda/taller-creativo-en-formentera/
LOCATION:Sant Ferran de ses Roques\, Sant Ferran de ses roques\, Formentera\, Islas Baleares\, 07871\, España
CATEGORIES:Talleres
ATTACH;FMTTYPE=image/jpeg:https://ibizafunfamily.com/wp-content/uploads/2023/08/forme.jpg
END:VEVENT
END:VCALENDAR