BEGIN:VCALENDAR
VERSION:2.0
PRODID:-//Ibiza Fun Family - ECPv6.15.17.1//NONSGML v1.0//EN
CALSCALE:GREGORIAN
METHOD:PUBLISH
X-ORIGINAL-URL:https://ibizafunfamily.com
X-WR-CALDESC:Eventos para Ibiza Fun Family
REFRESH-INTERVAL;VALUE=DURATION:PT1H
X-Robots-Tag:noindex
X-PUBLISHED-TTL:PT1H
BEGIN:VTIMEZONE
TZID:Europe/Madrid
BEGIN:DAYLIGHT
TZOFFSETFROM:+0100
TZOFFSETTO:+0200
TZNAME:CEST
DTSTART:20220327T010000
END:DAYLIGHT
BEGIN:STANDARD
TZOFFSETFROM:+0200
TZOFFSETTO:+0100
TZNAME:CET
DTSTART:20221030T010000
END:STANDARD
BEGIN:DAYLIGHT
TZOFFSETFROM:+0100
TZOFFSETTO:+0200
TZNAME:CEST
DTSTART:20230326T010000
END:DAYLIGHT
BEGIN:STANDARD
TZOFFSETFROM:+0200
TZOFFSETTO:+0100
TZNAME:CET
DTSTART:20231029T010000
END:STANDARD
BEGIN:DAYLIGHT
TZOFFSETFROM:+0100
TZOFFSETTO:+0200
TZNAME:CEST
DTSTART:20240331T010000
END:DAYLIGHT
BEGIN:STANDARD
TZOFFSETFROM:+0200
TZOFFSETTO:+0100
TZNAME:CET
DTSTART:20241027T010000
END:STANDARD
END:VTIMEZONE
BEGIN:VEVENT
DTSTART;TZID=Europe/Madrid:20230804T180000
DTEND;TZID=Europe/Madrid:20230804T193000
DTSTAMP:20260419T142128
CREATED:20230713T223746Z
LAST-MODIFIED:20230713T223746Z
UID:15212-1691172000-1691177400@ibizafunfamily.com
SUMMARY:Taller de dibujo manga
DESCRIPTION:Todos los Viernes de Julio y Agosto de 2023 de 18:00 a 19:30  se hará un taller de dibujo manga en el Casal de Joves de Formentera \nImpartido por Francisco Garcia \nDirigido para más de 10 años \nInscripciones al 971323493 o al 607142846 \n\n				\n					\n						Whatsapp
URL:https://ibizafunfamily.com/agenda/taller-de-dibujo-manga-13-4/
LOCATION:Casal de Joves de Formentera\, Avda. Portossalè\, 88\, Formentera\, Islas Baleares\, 07860\, España
CATEGORIES:Dibujo,Talleres
ATTACH;FMTTYPE=image/jpeg:https://ibizafunfamily.com/wp-content/uploads/2023/07/manga.jpg
ORGANIZER;CN="Casal de Joves de Formentera":MAILTO:joventut@conselldeformentera.cat
END:VEVENT
BEGIN:VEVENT
DTSTART;TZID=Europe/Madrid:20230804T180000
DTEND;TZID=Europe/Madrid:20230804T193000
DTSTAMP:20260419T142128
CREATED:20230719T160053Z
LAST-MODIFIED:20230801T064116Z
UID:15254-1691172000-1691177400@ibizafunfamily.com
SUMMARY:Taller de escritura emocional
DESCRIPTION:El Viernes 4 y el 11 de Agosto de 2023 de 18:00 a 19:30 en el Barco de Papel\, Ibiza \nEl taller de escritura emocional será impartido por Lucia Huedo \nDirigido para peques de 9 a 12 años \nCada taller consta  de 2 sesiones\, aunque se puede hacer solo una de ellas. \nEl primer taller serán las emociones miedo y alegría y alegría y el segundo taller de rabia y tristeza \nLas sesiones se pagan individuales \nPrecio por sesión individual 20€. Precio por taller completo 35€ ( pack de dos sesiones) \nHaz tu reserva mandando un mail a barcodepapelibiza@gmail.com con los datos del pequeño escritor y las fechas \n\n				\n					\n						Correo electrónico\n					\n				\n			  \nEl material de trabajo está incluido \nSujeto a cambios según aforo
URL:https://ibizafunfamily.com/agenda/taller-de-escritura-emocional/
LOCATION:Barco de Papel\, Carrer de Balears\, 19\, Eivissa\, islas baleares\, 07800\, España
CATEGORIES:Talleres
ATTACH;FMTTYPE=image/jpeg:https://ibizafunfamily.com/wp-content/uploads/2023/07/IMG-20230731-WA0033.jpg
END:VEVENT
BEGIN:VEVENT
DTSTART;TZID=Europe/Madrid:20230804T190000
DTEND;TZID=Europe/Madrid:20230804T233000
DTSTAMP:20260419T142128
CREATED:20230731T083659Z
LAST-MODIFIED:20230731T083659Z
UID:15417-1691175600-1691191800@ibizafunfamily.com
SUMMARY:Actividades infantiles\, circuito de inflables con agua
DESCRIPTION:Festes de la Terra 2023 \nEl Viernes 4 de Agosto en Eivissa \n19:00 a 21:00 en la Plaza de Antoni Albert i Nieto. Actividades infantiles\, circuito de inflables con agua. \n20:00 Primeras visperas solemnes en honor a Santa María. En la Catedral \n22:00 Concierto de la Tierra de la Banda Simfònica Ciutat d’Eivissa dirigido por Miquel Àngel  Aguiló a las 22:00  en el Parque Reina Sofia \n\n				\n					\n						Ver programa completo de fiestas
URL:https://ibizafunfamily.com/agenda/actividades-infantiles-circuito-de-inflables-con-agua/
LOCATION:Plaza de Antoni Albert i Nieto\, Parque Infantil Plaza Antoni Albert i Nieto\, Eivissa\, Islas Baleares\, 07800\, España
CATEGORIES:Fiesta,Juegos,Talleres
ATTACH;FMTTYPE=image/jpeg:https://ibizafunfamily.com/wp-content/uploads/2023/07/Festes-de-la-terra.jpg
END:VEVENT
END:VCALENDAR