BEGIN:VCALENDAR
VERSION:2.0
PRODID:-//Ibiza Fun Family - ECPv6.15.17.1//NONSGML v1.0//EN
CALSCALE:GREGORIAN
METHOD:PUBLISH
X-WR-CALNAME:Ibiza Fun Family
X-ORIGINAL-URL:https://ibizafunfamily.com
X-WR-CALDESC:Eventos para Ibiza Fun Family
REFRESH-INTERVAL;VALUE=DURATION:PT1H
X-Robots-Tag:noindex
X-PUBLISHED-TTL:PT1H
BEGIN:VTIMEZONE
TZID:Europe/Madrid
BEGIN:DAYLIGHT
TZOFFSETFROM:+0100
TZOFFSETTO:+0200
TZNAME:CEST
DTSTART:20220327T010000
END:DAYLIGHT
BEGIN:STANDARD
TZOFFSETFROM:+0200
TZOFFSETTO:+0100
TZNAME:CET
DTSTART:20221030T010000
END:STANDARD
BEGIN:DAYLIGHT
TZOFFSETFROM:+0100
TZOFFSETTO:+0200
TZNAME:CEST
DTSTART:20230326T010000
END:DAYLIGHT
BEGIN:STANDARD
TZOFFSETFROM:+0200
TZOFFSETTO:+0100
TZNAME:CET
DTSTART:20231029T010000
END:STANDARD
BEGIN:DAYLIGHT
TZOFFSETFROM:+0100
TZOFFSETTO:+0200
TZNAME:CEST
DTSTART:20240331T010000
END:DAYLIGHT
BEGIN:STANDARD
TZOFFSETFROM:+0200
TZOFFSETTO:+0100
TZNAME:CET
DTSTART:20241027T010000
END:STANDARD
END:VTIMEZONE
BEGIN:VEVENT
DTSTART;TZID=Europe/Madrid:20230803T180000
DTEND;TZID=Europe/Madrid:20230803T190000
DTSTAMP:20260419T194641
CREATED:20230626T090139Z
LAST-MODIFIED:20230626T090139Z
UID:14920-1691085600-1691089200@ibizafunfamily.com
SUMMARY:Taller de manualidades
DESCRIPTION:Todos los Jueves de Agosto de 2023 a las 18:00 en la Biblioteca de Sant Josep \nSe hará un taller de manualidades con Laia para peques de 6 a 11 años. \nInscripciones  al Whassap 971800416 \n\n				\n					\n						Whatsapp
URL:https://ibizafunfamily.com/agenda/taller-de-manualidades-7/
LOCATION:Biblioteca Sant Josep\, Carrer de Pere Escanellas\, 12\, Sant Jordi de ses Salines\, islas baleares\, 07830\, España
CATEGORIES:Talleres
ATTACH;FMTTYPE=image/jpeg:https://ibizafunfamily.com/wp-content/uploads/2023/06/biblioteca.jpg
ORGANIZER;CN="Biblioteca P%C3%BAblica de Sant Josep de Sa Talaia":MAILTO:biblioteca@santjosep.org
END:VEVENT
BEGIN:VEVENT
DTSTART;TZID=Europe/Madrid:20230803T190000
DTEND;TZID=Europe/Madrid:20230803T210000
DTSTAMP:20260419T194641
CREATED:20230731T080858Z
LAST-MODIFIED:20230731T084422Z
UID:15415-1691089200-1691096400@ibizafunfamily.com
SUMMARY:Actividades infantiles y fiesta Holi
DESCRIPTION:Festes de la Terra 2023 \nEl jueves 3 de Agosto en la Plaza Antoni Albert i Nieto\, Eivissa \n19:00 a 21:00 Tendremos actividades infantiles y Fiesta Holi \nNoches para la Juventud \n22:00 Musical de Danza teatro y canto  » Conectados» \nCover musical en torno a las aventuras de un grupo de jóvenes con un mensaje LGTBIQ+ para transmitir valores de diversidad y aceptación. Con coreografías originales\, canciones desde los 80 hasta la actualidad\, cantantes en directo\, actores\, bailarines\, muchas risas y sorpresas… \nY a las 23:30 con DJ Yor.D Música para adolescentes \n( Pure Ibiza Radio\, Clubbing TV internacional) \n\n				\n					\n						Ver programa completo de fiestas
URL:https://ibizafunfamily.com/agenda/actividades-infantiles-y-fiesta-holi/
LOCATION:Islas Baleares
CATEGORIES:Fiesta,Talleres
ATTACH;FMTTYPE=image/jpeg:https://ibizafunfamily.com/wp-content/uploads/2023/07/Festes-de-la-terra.jpg
END:VEVENT
END:VCALENDAR