BEGIN:VCALENDAR
VERSION:2.0
PRODID:-//Ibiza Fun Family - ECPv6.15.17.1//NONSGML v1.0//EN
CALSCALE:GREGORIAN
METHOD:PUBLISH
X-ORIGINAL-URL:https://ibizafunfamily.com
X-WR-CALDESC:Eventos para Ibiza Fun Family
REFRESH-INTERVAL;VALUE=DURATION:PT1H
X-Robots-Tag:noindex
X-PUBLISHED-TTL:PT1H
BEGIN:VTIMEZONE
TZID:Europe/Madrid
BEGIN:DAYLIGHT
TZOFFSETFROM:+0100
TZOFFSETTO:+0200
TZNAME:CEST
DTSTART:20220327T010000
END:DAYLIGHT
BEGIN:STANDARD
TZOFFSETFROM:+0200
TZOFFSETTO:+0100
TZNAME:CET
DTSTART:20221030T010000
END:STANDARD
BEGIN:DAYLIGHT
TZOFFSETFROM:+0100
TZOFFSETTO:+0200
TZNAME:CEST
DTSTART:20230326T010000
END:DAYLIGHT
BEGIN:STANDARD
TZOFFSETFROM:+0200
TZOFFSETTO:+0100
TZNAME:CET
DTSTART:20231029T010000
END:STANDARD
BEGIN:DAYLIGHT
TZOFFSETFROM:+0100
TZOFFSETTO:+0200
TZNAME:CEST
DTSTART:20240331T010000
END:DAYLIGHT
BEGIN:STANDARD
TZOFFSETFROM:+0200
TZOFFSETTO:+0100
TZNAME:CET
DTSTART:20241027T010000
END:STANDARD
END:VTIMEZONE
BEGIN:VEVENT
DTSTART;VALUE=DATE:20230728
DTEND;VALUE=DATE:20230729
DTSTAMP:20260423T191900
CREATED:20230725T155716Z
LAST-MODIFIED:20230726T095308Z
UID:15319-1690502400-1690588799@ibizafunfamily.com
SUMMARY:Taller tecnologico\, Fiestas de la Tierra
DESCRIPTION:Fiestas de la Tierra 2023 en Ibiza del 24 de Julio  al 15 Agosto \nEL Viernes 28 de Julio tenemos talleres tecnológicos para 10 personas mayores de 10 años. \nPara inscripciones \n+34681293570 \n\n				\n					\n						Whatsapp\n					\n				\n			  \n\n				\n					\n						Ver programa completo de fiestas
URL:https://ibizafunfamily.com/agenda/taller-tecnologico-fiestas-de-la-tierra/
LOCATION:Districte 07800\, Plaça Sa Drassaneta\, Eivissa\, Islas Baleares\, 07800\, España
CATEGORIES:Talleres
ATTACH;FMTTYPE=image/jpeg:https://ibizafunfamily.com/wp-content/uploads/2023/07/Festes-de-la-terra.jpg
END:VEVENT
BEGIN:VEVENT
DTSTART;TZID=Europe/Madrid:20230728T080000
DTEND;TZID=Europe/Madrid:20230728T170000
DTSTAMP:20260423T191900
CREATED:20230728T154915Z
LAST-MODIFIED:20230728T154915Z
UID:15372-1690531200-1690563600@ibizafunfamily.com
SUMMARY:Talleres\, animación y actividades infantiles en las Fiestas de Figueretas
DESCRIPTION:Comienzan las fiestas de Figueretas del 9 a 15 de Agosto de 2023 \nEl Domingo 13 de Agosto de 19:00 a 22:00 \n19: 00 Talleres infantiles\, actividades  y animación en la Plaza Júlian Verdera a cargo de Kairos. \n19:30 torneo de ajedrez \n21:00 Zumba familiar \n22:00 Dj Alex Hinohouse \n\n				\n					\n						Ver programa completo de fiestas\n					\n				\n			  \n  \n 
URL:https://ibizafunfamily.com/agenda/talleres-animacion-y-actividades-infantiles-en-las-fiestas-de-figueretas/
LOCATION:Plaza de Julià Verdera\, Passeig ses Pitiüses\, Eivissa\, 07800\, España
CATEGORIES:Fiesta,Talleres
END:VEVENT
BEGIN:VEVENT
DTSTART;TZID=Europe/Madrid:20230728T180000
DTEND;TZID=Europe/Madrid:20230728T193000
DTSTAMP:20260423T191900
CREATED:20230713T223746Z
LAST-MODIFIED:20230713T223746Z
UID:15211-1690567200-1690572600@ibizafunfamily.com
SUMMARY:Taller de dibujo manga
DESCRIPTION:Todos los Viernes de Julio y Agosto de 2023 de 18:00 a 19:30  se hará un taller de dibujo manga en el Casal de Joves de Formentera \nImpartido por Francisco Garcia \nDirigido para más de 10 años \nInscripciones al 971323493 o al 607142846 \n\n				\n					\n						Whatsapp
URL:https://ibizafunfamily.com/agenda/taller-de-dibujo-manga-13-3/
LOCATION:Casal de Joves de Formentera\, Avda. Portossalè\, 88\, Formentera\, Islas Baleares\, 07860\, España
CATEGORIES:Dibujo,Talleres
ATTACH;FMTTYPE=image/jpeg:https://ibizafunfamily.com/wp-content/uploads/2023/07/manga.jpg
ORGANIZER;CN="Casal de Joves de Formentera":MAILTO:joventut@conselldeformentera.cat
END:VEVENT
BEGIN:VEVENT
DTSTART;TZID=Europe/Madrid:20230728T180000
DTEND;TZID=Europe/Madrid:20230728T193000
DTSTAMP:20260423T191900
CREATED:20230719T155608Z
LAST-MODIFIED:20230719T155742Z
UID:15252-1690567200-1690572600@ibizafunfamily.com
SUMMARY:Talleres de escritura emocional
DESCRIPTION:El Viernes 21 y el 28 de Julio de 2023 de 18:00 a 19:30 en el Barco de Papel Ibiza \nEl taller de escritura emocional será impartido por Lucia Huedo \nDirigido para peques de 9 a 12 años \nCada taller consta  de 2 sesiones\, aunque se puede hacer solo una de ellas. \nEl primer taller serán las emociones miedo y alegría y el segundo taller de rabia y tristeza \nLas sesiones se pagan individuales \nPrecio por sesión individual 20€. Precio por taller completo 35€ ( pack de dos sesiones) \nHaz tu reserva mandando un mail a barcodepapelibiza@gmail.com con los datos del pequeño escritor y las fechas \n  \n\n				\n					\n						Correo electrónico\n					\n				\n			  \nEl material de trabajo está incluido \nSujeto a cambios según aforo \n 
URL:https://ibizafunfamily.com/agenda/talleres-de-escritura-emocional-2/
LOCATION:Barco de Papel\, Carrer de Balears\, 19\, Eivissa\, islas baleares\, 07800\, España
CATEGORIES:Talleres
ATTACH;FMTTYPE=image/jpeg:https://ibizafunfamily.com/wp-content/uploads/2023/07/barco.jpg
END:VEVENT
END:VCALENDAR