BEGIN:VCALENDAR
VERSION:2.0
PRODID:-//Ibiza Fun Family - ECPv6.15.17.1//NONSGML v1.0//EN
CALSCALE:GREGORIAN
METHOD:PUBLISH
X-WR-CALNAME:Ibiza Fun Family
X-ORIGINAL-URL:https://ibizafunfamily.com
X-WR-CALDESC:Eventos para Ibiza Fun Family
REFRESH-INTERVAL;VALUE=DURATION:PT1H
X-Robots-Tag:noindex
X-PUBLISHED-TTL:PT1H
BEGIN:VTIMEZONE
TZID:Europe/Madrid
BEGIN:DAYLIGHT
TZOFFSETFROM:+0100
TZOFFSETTO:+0200
TZNAME:CEST
DTSTART:20220327T010000
END:DAYLIGHT
BEGIN:STANDARD
TZOFFSETFROM:+0200
TZOFFSETTO:+0100
TZNAME:CET
DTSTART:20221030T010000
END:STANDARD
BEGIN:DAYLIGHT
TZOFFSETFROM:+0100
TZOFFSETTO:+0200
TZNAME:CEST
DTSTART:20230326T010000
END:DAYLIGHT
BEGIN:STANDARD
TZOFFSETFROM:+0200
TZOFFSETTO:+0100
TZNAME:CET
DTSTART:20231029T010000
END:STANDARD
BEGIN:DAYLIGHT
TZOFFSETFROM:+0100
TZOFFSETTO:+0200
TZNAME:CEST
DTSTART:20240331T010000
END:DAYLIGHT
BEGIN:STANDARD
TZOFFSETFROM:+0200
TZOFFSETTO:+0100
TZNAME:CET
DTSTART:20241027T010000
END:STANDARD
END:VTIMEZONE
BEGIN:VEVENT
DTSTART;TZID=Europe/Madrid:20230726T170000
DTEND;TZID=Europe/Madrid:20230726T180000
DTSTAMP:20260420T025012
CREATED:20230713T214739Z
LAST-MODIFIED:20230713T214824Z
UID:15179-1690390800-1690394400@ibizafunfamily.com
SUMMARY:Taller intensivo de inglés
DESCRIPTION:El Miércoles 26 deJulio de 2023 de 17h a 18h en Espai Momo Ibiza \nTaller intensivo de inglés dirigido a niños y niñas de a partir de 4 años. \nCon un coste de 12€ por taller \nMy body parts \nDescubrimos el vocabulario sobre las partes del cuerpo \nInscripciones al telefono o al whassap 657210726 \n\n				\n					\n						Whatsapp\n					\n				\n			  \n\n				\n					\n						Teléfono\n					\n				\n			  \n 
URL:https://ibizafunfamily.com/agenda/taller-intensivo-de-ingles/
LOCATION:Espai Momo Ibiza\, C/ Pere Francés n32\, Eivissa\, Islas Baleares\, 07800\, España
CATEGORIES:Talleres
ATTACH;FMTTYPE=image/jpeg:https://ibizafunfamily.com/wp-content/uploads/2023/07/summer.jpg
END:VEVENT
BEGIN:VEVENT
DTSTART;TZID=Europe/Madrid:20230726T183000
DTEND;TZID=Europe/Madrid:20230726T200000
DTSTAMP:20260420T025012
CREATED:20230713T100318Z
LAST-MODIFIED:20230713T100318Z
UID:15161-1690396200-1690401600@ibizafunfamily.com
SUMMARY:Bruixes contra monstres
DESCRIPTION:El Miércoles 26 de Julio de 2023 de 18:30 a 20:00 en la Biblioteca de Cala de Bou \nDirigido para niños y niñas de 6 a 12 años \nMàgicus \nTaller de animales fantásticos y puntos de libro impartido por la Arquiteca \nLecturas sobre brujas y monstruos todo el verano \nBrujas\, brujos o mosntruos? Vota por el que más te guste \nTus puntuaciones determinarán cual es el mejor \nNos espera un verano muy movido \nY tu que equipo eres? \n  \n  \n 
URL:https://ibizafunfamily.com/agenda/bruixes-contra-monstres/
LOCATION:Biblioteca Municipal de Cala de Bou\, C/ es calo\, n 127\, Cala de Bou\, Islas Baleares\, 07829\, España
CATEGORIES:Cuenta cuentos,Talleres
ATTACH;FMTTYPE=image/jpeg:https://ibizafunfamily.com/wp-content/uploads/2023/07/bruixes.jpg
ORGANIZER;CN="Biblioteca Municipal de Cala de Bou":MAILTO:biblioteca.caladebou@santjosep.org
END:VEVENT
END:VCALENDAR