BEGIN:VCALENDAR
VERSION:2.0
PRODID:-//Ibiza Fun Family - ECPv6.15.17.1//NONSGML v1.0//EN
CALSCALE:GREGORIAN
METHOD:PUBLISH
X-ORIGINAL-URL:https://ibizafunfamily.com
X-WR-CALDESC:Eventos para Ibiza Fun Family
REFRESH-INTERVAL;VALUE=DURATION:PT1H
X-Robots-Tag:noindex
X-PUBLISHED-TTL:PT1H
BEGIN:VTIMEZONE
TZID:Europe/Madrid
BEGIN:DAYLIGHT
TZOFFSETFROM:+0100
TZOFFSETTO:+0200
TZNAME:CEST
DTSTART:20220327T010000
END:DAYLIGHT
BEGIN:STANDARD
TZOFFSETFROM:+0200
TZOFFSETTO:+0100
TZNAME:CET
DTSTART:20221030T010000
END:STANDARD
BEGIN:DAYLIGHT
TZOFFSETFROM:+0100
TZOFFSETTO:+0200
TZNAME:CEST
DTSTART:20230326T010000
END:DAYLIGHT
BEGIN:STANDARD
TZOFFSETFROM:+0200
TZOFFSETTO:+0100
TZNAME:CET
DTSTART:20231029T010000
END:STANDARD
BEGIN:DAYLIGHT
TZOFFSETFROM:+0100
TZOFFSETTO:+0200
TZNAME:CEST
DTSTART:20240331T010000
END:DAYLIGHT
BEGIN:STANDARD
TZOFFSETFROM:+0200
TZOFFSETTO:+0100
TZNAME:CET
DTSTART:20241027T010000
END:STANDARD
END:VTIMEZONE
BEGIN:VEVENT
DTSTART;TZID=Europe/Madrid:20230720T100000
DTEND;TZID=Europe/Madrid:20230722T130000
DTSTAMP:20260420T011524
CREATED:20230720T101456Z
LAST-MODIFIED:20230720T101456Z
UID:15272-1689847200-1690030800@ibizafunfamily.com
SUMMARY:Taller de acuarela
DESCRIPTION:El Sábado 22 de Julio de 10:00 a 13:00 en el Agroturismo Atzaró \nTaller de acuarela » La huerta de Atzaró» \nSe empezará con unos ejercicios prácticos para que te familiarices con la técnica del húmedo sobre húmedo y húmedo sobre seco\, de una forma natural y sin presión\, para que te sientas cómodo y seguro al realizar la composición final \nExplicación sobre el Círculo cromático\, colores y mezclarlos \nPara este taller no se necesita saber pintar \, es apto para todos los nivel. \nDirigido para todas las edades a partir de 12 años \nImpartido por Mònica  Matheu \nEl precio del taller más material y desayuno són 49 € \n\n				\n					\n						Más información\n					\n				\n			  \n\n				\n					\n						Whatsapp\n					\n				\n			  \n\n				\n					\n						Correo electrónico\n					\n				\n			  \n  \n  \n 
URL:https://ibizafunfamily.com/agenda/taller-de-acuarela/
LOCATION:Agrotusimo Atzaró\, Atzaró Agroturismo\, Carretera de San Juan\, Km 15\, Santa Eulària des Riu\, islas baleares\, 07849\, España
CATEGORIES:Dibujo,Talleres
ATTACH;FMTTYPE=image/jpeg:https://ibizafunfamily.com/wp-content/uploads/2023/07/acuarela.jpg
ORGANIZER;CN="M%C3%B2nica Matheu":MAILTO:agroturismo@atzaro.com
END:VEVENT
BEGIN:VEVENT
DTSTART;TZID=Europe/Madrid:20230722T110000
DTEND;TZID=Europe/Madrid:20230722T123000
DTSTAMP:20260420T011524
CREATED:20230511T194310Z
LAST-MODIFIED:20230511T194310Z
UID:13798-1690023600-1690029000@ibizafunfamily.com
SUMMARY:Taller emocional
DESCRIPTION:Los sábados  del més de Julio entre las 11:00 y las 12:30  en Educa10\, tendremos un taller emocional donde aprenderemos a gestionar las emociones. \nCon un precio de 20€ por día. \nEste taller esta dirigido a peques de 6 a 10 años. \nReserva tu plaza y pide más información al 622064290 o por instagram @unmar_deemociones \n\n				\n					\n						Whatsapp\n					\n				\n			   \n\n				\n					\n						Teléfono
URL:https://ibizafunfamily.com/agenda/taller-emocional-4/
LOCATION:Educa10\, Calle Cala de Bou\, 50\, Cala de Bou\, Baleares\, 07829\, España
CATEGORIES:Talleres
ATTACH;FMTTYPE=image/jpeg:https://ibizafunfamily.com/wp-content/uploads/2023/05/sabados-de-julio.jpg
END:VEVENT
BEGIN:VEVENT
DTSTART;TZID=Europe/Madrid:20230722T110000
DTEND;TZID=Europe/Madrid:20230722T133000
DTSTAMP:20260420T011524
CREATED:20230720T070529Z
LAST-MODIFIED:20230720T070529Z
UID:15263-1690023600-1690032600@ibizafunfamily.com
SUMMARY:Taller de aves
DESCRIPTION:El Sábado 22 de Julio de 2023 de 11:00 a 13:30 en el Mercado de Sant Josep \nFabricaremos objetos decorativos con elementos reciclados \nEl Taller es gratuito para todas las edades. \nInformación en apropantlanatura@gmail.com \n\n				\n					\n						Correo electrónico\n					\n				\n			  \n 
URL:https://ibizafunfamily.com/agenda/taller-de-aves/
LOCATION:Mercado de Sant Josep\, Carrer de Pere Escanellas ( delante del Ayuntamiento)\, Sant Josep de Sa Talaia\, Islas Baleares\, 07830\, España
CATEGORIES:Talleres
ATTACH;FMTTYPE=image/jpeg:https://ibizafunfamily.com/wp-content/uploads/2023/07/taller-de-paharos.jpg
END:VEVENT
END:VCALENDAR