BEGIN:VCALENDAR
VERSION:2.0
PRODID:-//Ibiza Fun Family - ECPv6.15.17.1//NONSGML v1.0//EN
CALSCALE:GREGORIAN
METHOD:PUBLISH
X-WR-CALNAME:Ibiza Fun Family
X-ORIGINAL-URL:https://ibizafunfamily.com
X-WR-CALDESC:Eventos para Ibiza Fun Family
REFRESH-INTERVAL;VALUE=DURATION:PT1H
X-Robots-Tag:noindex
X-PUBLISHED-TTL:PT1H
BEGIN:VTIMEZONE
TZID:Europe/Madrid
BEGIN:DAYLIGHT
TZOFFSETFROM:+0100
TZOFFSETTO:+0200
TZNAME:CEST
DTSTART:20220327T010000
END:DAYLIGHT
BEGIN:STANDARD
TZOFFSETFROM:+0200
TZOFFSETTO:+0100
TZNAME:CET
DTSTART:20221030T010000
END:STANDARD
BEGIN:DAYLIGHT
TZOFFSETFROM:+0100
TZOFFSETTO:+0200
TZNAME:CEST
DTSTART:20230326T010000
END:DAYLIGHT
BEGIN:STANDARD
TZOFFSETFROM:+0200
TZOFFSETTO:+0100
TZNAME:CET
DTSTART:20231029T010000
END:STANDARD
BEGIN:DAYLIGHT
TZOFFSETFROM:+0100
TZOFFSETTO:+0200
TZNAME:CEST
DTSTART:20240331T010000
END:DAYLIGHT
BEGIN:STANDARD
TZOFFSETFROM:+0200
TZOFFSETTO:+0100
TZNAME:CET
DTSTART:20241027T010000
END:STANDARD
END:VTIMEZONE
BEGIN:VEVENT
DTSTART;TZID=Europe/Madrid:20230717T100000
DTEND;TZID=Europe/Madrid:20230721T133000
DTSTAMP:20260420T091630
CREATED:20230511T200423Z
LAST-MODIFIED:20230511T200423Z
UID:13805-1689588000-1689946200@ibizafunfamily.com
SUMMARY:Talleres infantiles en el Museo de Can Ros
DESCRIPTION:De Lunes a Viernes de 10:00 a 13:30 en el Museu Etnografic de Can Ros en Santa Eulària des Riu. \nContaremos con 3 semanas  de Julio del 3 al 7\, 10 al 14 y del 17 al 21 ( Solo se puede hacer una semana) \nEstos talleres serán gratuitos \nSe harán visitas a las diferentes salas del museo. \nManualidades y juegos tradicionales con  la finalidad de dar a conocer una parte de nuestro patrimonio a través de las actividades ludicas. \nEste año los tres temas a tratar serán \n-Marines\, bodegones y payeses de Antoni Prats Calbet\, es Coc \n-El Perro ibicenco \n-Espardenyes y zapatillas… el oficio d’espardenyer de Ibiza \nPAra inscripciones llamar al 971332845 o museuetnograficcanros@gmail.com \n\n				\n					\n						Teléfono\n					\n				\n			   \n 
URL:https://ibizafunfamily.com/agenda/talleres-infantiles-en-el-museo-de-can-ros-3/
LOCATION:Museo Etnografico Can Ros\, Av. Pare Guasch\, Santa Eulària des Riu\, Islas Baleares\, 07840\, España
CATEGORIES:Juegos,Talleres
ATTACH;FMTTYPE=image/jpeg:https://ibizafunfamily.com/wp-content/uploads/2023/05/muszeu.jpg
ORGANIZER;CN="Museu Etnografic Can Ros":MAILTO:museuetnograficcanros@gmail.com
END:VEVENT
BEGIN:VEVENT
DTSTART;TZID=Europe/Madrid:20230717T183000
DTEND;TZID=Europe/Madrid:20230717T193000
DTSTAMP:20260420T091630
CREATED:20230626T084915Z
LAST-MODIFIED:20230626T084915Z
UID:14912-1689618600-1689622200@ibizafunfamily.com
SUMMARY:Taller de creación de historias
DESCRIPTION:El Lunes 3 y 17 de Julio de 2023 a las 18:30 en la Biblioteca de Sant Josep. \nTendremos un taller de creación de historias a cargo de Monma dirigido a peques de a partir de 8 años \nInscripciones  al Whassap 971800416 \n\n				\n					\n						Whatsapp\n					\n				\n			  \n  \n 
URL:https://ibizafunfamily.com/agenda/taller-de-creacion-de-historias-2-2/
LOCATION:Biblioteca Sant Josep\, Carrer de Pere Escanellas\, 12\, Sant Jordi de ses Salines\, islas baleares\, 07830\, España
CATEGORIES:Talleres
ATTACH;FMTTYPE=image/jpeg:https://ibizafunfamily.com/wp-content/uploads/2023/06/biblioteca.jpg
ORGANIZER;CN="Biblioteca P%C3%BAblica de Sant Josep de Sa Talaia":MAILTO:biblioteca@santjosep.org
END:VEVENT
END:VCALENDAR