BEGIN:VCALENDAR
VERSION:2.0
PRODID:-//Ibiza Fun Family - ECPv6.15.17.1//NONSGML v1.0//EN
CALSCALE:GREGORIAN
METHOD:PUBLISH
X-WR-CALNAME:Ibiza Fun Family
X-ORIGINAL-URL:https://ibizafunfamily.com
X-WR-CALDESC:Eventos para Ibiza Fun Family
REFRESH-INTERVAL;VALUE=DURATION:PT1H
X-Robots-Tag:noindex
X-PUBLISHED-TTL:PT1H
BEGIN:VTIMEZONE
TZID:Europe/Madrid
BEGIN:DAYLIGHT
TZOFFSETFROM:+0100
TZOFFSETTO:+0200
TZNAME:CEST
DTSTART:20220327T010000
END:DAYLIGHT
BEGIN:STANDARD
TZOFFSETFROM:+0200
TZOFFSETTO:+0100
TZNAME:CET
DTSTART:20221030T010000
END:STANDARD
BEGIN:DAYLIGHT
TZOFFSETFROM:+0100
TZOFFSETTO:+0200
TZNAME:CEST
DTSTART:20230326T010000
END:DAYLIGHT
BEGIN:STANDARD
TZOFFSETFROM:+0200
TZOFFSETTO:+0100
TZNAME:CET
DTSTART:20231029T010000
END:STANDARD
BEGIN:DAYLIGHT
TZOFFSETFROM:+0100
TZOFFSETTO:+0200
TZNAME:CEST
DTSTART:20240331T010000
END:DAYLIGHT
BEGIN:STANDARD
TZOFFSETFROM:+0200
TZOFFSETTO:+0100
TZNAME:CET
DTSTART:20241027T010000
END:STANDARD
END:VTIMEZONE
BEGIN:VEVENT
DTSTART;TZID=Europe/Madrid:20230716T180000
DTEND;TZID=Europe/Madrid:20230716T200000
DTSTAMP:20260420T091620
CREATED:20230711T062235Z
LAST-MODIFIED:20230711T152216Z
UID:15133-1689530400-1689537600@ibizafunfamily.com
SUMMARY:Experiencia 3D virtual
DESCRIPTION:El Domingo 16 de Julio de 2023 en Espai Momo Ibiza habrá una Experiencia 3D virtual con dos grupos: \n\nPrimer grupo de 18h a 19h\nSegundo grupo de 19h a 20h\n\nExperiencia virtual sobre el fondo del mar \nDirigido para peques a partir de 7 años \nBook didactico \nImpartido por el ponente Christian E.Brest «El Siete Ibiza» \nPara traer a nuestro espacio el mundo virtual futurista. Una experiencia única\, donde los más pequeños y no tan pequeños\, podrán interactuar con los animales del fondo del mar y sumergirse en una experiencia palpitante. Recuerda reservar su espacio porque el aforo es limitado \n\n				\n					\n						Whatsapp\n					\n				\n			  \n 
URL:https://ibizafunfamily.com/agenda/experiencia-3d-virtual/
LOCATION:Espai Momo Ibiza\, C/ Pere Francés n32\, Eivissa\, Islas Baleares\, 07800\, España
CATEGORIES:Talleres
ATTACH;FMTTYPE=image/jpeg:https://ibizafunfamily.com/wp-content/uploads/2023/07/3d-vrtiual.jpg
END:VEVENT
END:VCALENDAR