BEGIN:VCALENDAR
VERSION:2.0
PRODID:-//Ibiza Fun Family - ECPv6.15.17.1//NONSGML v1.0//EN
CALSCALE:GREGORIAN
METHOD:PUBLISH
X-WR-CALNAME:Ibiza Fun Family
X-ORIGINAL-URL:https://ibizafunfamily.com
X-WR-CALDESC:Eventos para Ibiza Fun Family
REFRESH-INTERVAL;VALUE=DURATION:PT1H
X-Robots-Tag:noindex
X-PUBLISHED-TTL:PT1H
BEGIN:VTIMEZONE
TZID:Europe/Madrid
BEGIN:DAYLIGHT
TZOFFSETFROM:+0100
TZOFFSETTO:+0200
TZNAME:CEST
DTSTART:20220327T010000
END:DAYLIGHT
BEGIN:STANDARD
TZOFFSETFROM:+0200
TZOFFSETTO:+0100
TZNAME:CET
DTSTART:20221030T010000
END:STANDARD
BEGIN:DAYLIGHT
TZOFFSETFROM:+0100
TZOFFSETTO:+0200
TZNAME:CEST
DTSTART:20230326T010000
END:DAYLIGHT
BEGIN:STANDARD
TZOFFSETFROM:+0200
TZOFFSETTO:+0100
TZNAME:CET
DTSTART:20231029T010000
END:STANDARD
BEGIN:DAYLIGHT
TZOFFSETFROM:+0100
TZOFFSETTO:+0200
TZNAME:CEST
DTSTART:20240331T010000
END:DAYLIGHT
BEGIN:STANDARD
TZOFFSETFROM:+0200
TZOFFSETTO:+0100
TZNAME:CET
DTSTART:20241027T010000
END:STANDARD
END:VTIMEZONE
BEGIN:VEVENT
DTSTART;TZID=Europe/Madrid:20230624T110000
DTEND;TZID=Europe/Madrid:20230624T133000
DTSTAMP:20260423T124202
CREATED:20230516T110519Z
LAST-MODIFIED:20230516T110519Z
UID:13855-1687604400-1687613400@ibizafunfamily.com
SUMMARY:Taller de Helados caseros
DESCRIPTION:El 27 de Mayo tendremos un taller para aprender ha hacer chuches caseras \nEl 10 de Junio mi primer pan \nY el 24 de Junio Helados caseros \nLos talleres estan enfocados para peques de a partir de 5 años. \nHora 11:00 a 13:30 \nPrecio 22€ con descuento para hermanos \nInscripciones en www.tierradeibiza.com \n\n				\n					\n						Inscripciones en la web
URL:https://ibizafunfamily.com/agenda/taller-de-helados-caseros/
LOCATION:Tierra de Ibiza\, Carrer del Metge Riera Ferrer\, nº8\, Eivissa\, Islas Baleares\, 07800\, España
CATEGORIES:Cocina,Talleres
ATTACH;FMTTYPE=image/jpeg:https://ibizafunfamily.com/wp-content/uploads/2023/05/27.jpg
END:VEVENT
BEGIN:VEVENT
DTSTART;TZID=Europe/Madrid:20230624T180000
DTEND;TZID=Europe/Madrid:20230624T233000
DTSTAMP:20260423T124202
CREATED:20230619T101521Z
LAST-MODIFIED:20230619T101551Z
UID:14762-1687629600-1687649400@ibizafunfamily.com
SUMMARY:Juegos y manualidades\, Fiestas de Sant Joan
DESCRIPTION:El Sábado 24 de Junio de 2023 en las Fiestas de Sant Joan de Labritja \n18h a 23h Exposición de Coches \n19h Juegos y manualidades infantiles con Kairos \n20h Concurso macarrons de Sant Joan \n21h Actuación » Els Franks» \n23h Pilmón Beatbox…. \n\n				\n					\n						Programa completo\n					\n				\n			   \n  \n  \n 
URL:https://ibizafunfamily.com/agenda/juegos-y-manualidades/
LOCATION:CEIP Labritja\, Carrer Sant Joan L A\, 2\, Sant Joan de Labritja\, islas baleares\, 07810\, España
CATEGORIES:Fiesta,Juegos,Talleres
ATTACH;FMTTYPE=image/jpeg:https://ibizafunfamily.com/wp-content/uploads/2023/06/SANT-JOAN.jpg
ORGANIZER;CN="Comisi%C3%B3 de Festes de Labritja":MAILTO:comisiofesteslabritja@gmail.com
END:VEVENT
BEGIN:VEVENT
DTSTART;TZID=Europe/Madrid:20230624T203000
DTEND;TZID=Europe/Madrid:20230624T230000
DTSTAMP:20260423T124202
CREATED:20230612T110953Z
LAST-MODIFIED:20230612T110953Z
UID:14589-1687638600-1687647600@ibizafunfamily.com
SUMMARY:Pirata Party\, fiesta de pijamas
DESCRIPTION:El Sábado 24 de Junio de 2023 de 20:30 a 23:00 en Espai Momo Ibiza \nTendremos la Noche del buho\, la fiesta de pijamas con una de Piratas Party. \nCena Pirata \nPeli con palomitas \nTaller de rasca negro \nY juegos divertidos \nA partir de 4 años \nCon un precio de 22€ \nVen con tu disfraz pirata y llevate  la bolsa de momo \nVenta de entradas en C/ Pere Francés\, 32  o al telefono o whassp 657210726 \n\n				\n					\n						Whatsapp\n					\n				\n			   \n\n				\n					\n						Teléfono
URL:https://ibizafunfamily.com/agenda/pirata-party-fiesta-de-pijamas/
LOCATION:Espai Momo Ibiza\, C/ Pere Francés n32\, Eivissa\, Islas Baleares\, 07800\, España
CATEGORIES:Talleres
ATTACH;FMTTYPE=image/jpeg:https://ibizafunfamily.com/wp-content/uploads/2023/06/pirata-party.jpg
END:VEVENT
END:VCALENDAR