BEGIN:VCALENDAR
VERSION:2.0
PRODID:-//Ibiza Fun Family - ECPv6.15.17.1//NONSGML v1.0//EN
CALSCALE:GREGORIAN
METHOD:PUBLISH
X-ORIGINAL-URL:https://ibizafunfamily.com
X-WR-CALDESC:Eventos para Ibiza Fun Family
REFRESH-INTERVAL;VALUE=DURATION:PT1H
X-Robots-Tag:noindex
X-PUBLISHED-TTL:PT1H
BEGIN:VTIMEZONE
TZID:Europe/Madrid
BEGIN:DAYLIGHT
TZOFFSETFROM:+0100
TZOFFSETTO:+0200
TZNAME:CEST
DTSTART:20220327T010000
END:DAYLIGHT
BEGIN:STANDARD
TZOFFSETFROM:+0200
TZOFFSETTO:+0100
TZNAME:CET
DTSTART:20221030T010000
END:STANDARD
BEGIN:DAYLIGHT
TZOFFSETFROM:+0100
TZOFFSETTO:+0200
TZNAME:CEST
DTSTART:20230326T010000
END:DAYLIGHT
BEGIN:STANDARD
TZOFFSETFROM:+0200
TZOFFSETTO:+0100
TZNAME:CET
DTSTART:20231029T010000
END:STANDARD
BEGIN:DAYLIGHT
TZOFFSETFROM:+0100
TZOFFSETTO:+0200
TZNAME:CEST
DTSTART:20240331T010000
END:DAYLIGHT
BEGIN:STANDARD
TZOFFSETFROM:+0200
TZOFFSETTO:+0100
TZNAME:CET
DTSTART:20241027T010000
END:STANDARD
END:VTIMEZONE
BEGIN:VEVENT
DTSTART;TZID=Europe/Madrid:20230609T163000
DTEND;TZID=Europe/Madrid:20230609T203000
DTSTAMP:20260423T225618
CREATED:20230522T111906Z
LAST-MODIFIED:20230522T111906Z
UID:13981-1686328200-1686342600@ibizafunfamily.com
SUMMARY:Actividades Juveniles en Santa Gertrudis
DESCRIPTION:A partir del 14 de Abril en la Plaza de la Iglésia /local parroquial de Santa Gertrudis de 16:30 a 20:30 \nHabrá los Viernes y los Sábados dirigido por monitores juegos de mesa\, dinámicas de grupos y deportivos\, talleres de cocina \, charlas y debates…
URL:https://ibizafunfamily.com/agenda/actividades-juveniles-en-santa-gertrudis-4-3-2/
LOCATION:Iglesia Santa Gertrudis\, Carrer de la Vénda des Poble\, 12\, Santa Gertrudis de Fruitera\, Islas Baleares\, 07814\, España
CATEGORIES:Talleres
ATTACH;FMTTYPE=image/jpeg:https://ibizafunfamily.com/wp-content/uploads/2023/05/punt-jove.jpg
ORGANIZER;CN="Ajuntament de Santa Eul%C3%A0ria des Riu":MAILTO:alcaldia@santaeularia.com
END:VEVENT
BEGIN:VEVENT
DTSTART;TZID=Europe/Madrid:20230609T173000
DTEND;TZID=Europe/Madrid:20230609T183000
DTSTAMP:20260423T225618
CREATED:20230531T094353Z
LAST-MODIFIED:20230531T094353Z
UID:14357-1686331800-1686335400@ibizafunfamily.com
SUMMARY:La Salud de la isla a través de los ojos de las Abejas
DESCRIPTION:El Viernes 9 de Junio a las 17:30 de 2023 en la Biblioteca de Sant Josep \nContaremos  el equipo de Medio Ambiente donde mediante una actividad nos contarán la Salud de la isla a través de los ojos de las abejas. \nDirigido a peques de 4 a 8 años. \nPlazas limitadas. \nSe necesita inscripción en el Wahassap 971800416 \n\n				\n					\n						Whatsapp\n					\n				\n			   \n 
URL:https://ibizafunfamily.com/agenda/la-salud-de-la-isla-a-traves-de-los-ojos-de-las-abejas/
LOCATION:Biblioteca Pública Sant Josep de Sa Talaia\, C. Pere Escanellas\, 12-16\, Sant Josep de Sa Talaia\, Islas Baleares\, 07830\, España
CATEGORIES:Talleres
ATTACH;FMTTYPE=image/jpeg:https://ibizafunfamily.com/wp-content/uploads/2023/05/026a5a16-ee5a-4c14-b1d7-9dc07606d334.jpg
ORGANIZER;CN="Ajuntament de Sant Josep de Sa Talaia":MAILTO:alcaldia@santjosep.org
END:VEVENT
BEGIN:VEVENT
DTSTART;TZID=Europe/Madrid:20230609T180000
DTEND;TZID=Europe/Madrid:20230609T193000
DTSTAMP:20260423T225618
CREATED:20230608T061539Z
LAST-MODIFIED:20230608T061539Z
UID:14513-1686333600-1686339000@ibizafunfamily.com
SUMMARY:Charla-taller !Todo comienza en ti!
DESCRIPTION:El Viernes 9 de Junio de 2023 de 18h a 19:30 en la Bilioteca de Sa Colomina \nCharla-taller donde te ayudaremos a creer en tu potencial… \n¿Piensas más en los otros que ti misma? \nTodo comienza por ti! \nEntrada gratuita \nInscripciones en bibliotecacolomina@gmail.com \n\n				\n					\n						Correo electrónico\n					\n				\n			   \n  \n 
URL:https://ibizafunfamily.com/agenda/charla-taller-todo-comienza-en-ti/
LOCATION:Biblioteca Sa Colomina\, Calle Vicent Serra i Orvay\, 40\, Eivissa\, Islas Baleares\, 07800\, España
CATEGORIES:Charla,Talleres
ATTACH;FMTTYPE=image/jpeg:https://ibizafunfamily.com/wp-content/uploads/2023/06/87e675e2-47ee-46a2-ac21-6bab13b466ba.jpg
ORGANIZER;CN="IES Sa Colomina":MAILTO:carmen@iessacolomina.es
END:VEVENT
END:VCALENDAR