BEGIN:VCALENDAR
VERSION:2.0
PRODID:-//Ibiza Fun Family - ECPv6.15.17.1//NONSGML v1.0//EN
CALSCALE:GREGORIAN
METHOD:PUBLISH
X-ORIGINAL-URL:https://ibizafunfamily.com
X-WR-CALDESC:Eventos para Ibiza Fun Family
REFRESH-INTERVAL;VALUE=DURATION:PT1H
X-Robots-Tag:noindex
X-PUBLISHED-TTL:PT1H
BEGIN:VTIMEZONE
TZID:Europe/Madrid
BEGIN:DAYLIGHT
TZOFFSETFROM:+0100
TZOFFSETTO:+0200
TZNAME:CEST
DTSTART:20220327T010000
END:DAYLIGHT
BEGIN:STANDARD
TZOFFSETFROM:+0200
TZOFFSETTO:+0100
TZNAME:CET
DTSTART:20221030T010000
END:STANDARD
BEGIN:DAYLIGHT
TZOFFSETFROM:+0100
TZOFFSETTO:+0200
TZNAME:CEST
DTSTART:20230326T010000
END:DAYLIGHT
BEGIN:STANDARD
TZOFFSETFROM:+0200
TZOFFSETTO:+0100
TZNAME:CET
DTSTART:20231029T010000
END:STANDARD
BEGIN:DAYLIGHT
TZOFFSETFROM:+0100
TZOFFSETTO:+0200
TZNAME:CEST
DTSTART:20240331T010000
END:DAYLIGHT
BEGIN:STANDARD
TZOFFSETFROM:+0200
TZOFFSETTO:+0100
TZNAME:CET
DTSTART:20241027T010000
END:STANDARD
END:VTIMEZONE
BEGIN:VEVENT
DTSTART;TZID=Europe/Madrid:20230605T160000
DTEND;TZID=Europe/Madrid:20230605T173000
DTSTAMP:20260424T024749
CREATED:20230602T094122Z
LAST-MODIFIED:20230602T094122Z
UID:14370-1685980800-1685986200@ibizafunfamily.com
SUMMARY:Cuentacuentos y taller con familias
DESCRIPTION:El 5 de Junio de 16 a 17:30  de 2023 en la Escola de Santa Agnes de Corona \nMaritza Tejecuentos nos ofrecerá un cuentacuentos «Los cuentos del Mundo y haremos un taller de marionetas y teatrillo con material reciclado \n 
URL:https://ibizafunfamily.com/agenda/cuentacuentos-y-taller-con-familias-2/
LOCATION:Escola de Sta Agnes de Corona\, Diseminado es Pla de Corona\, 61\, Sant Antoni de Portmany\, Islas Baleares\, 07828\, España
CATEGORIES:Cuenta cuentos,Talleres
ATTACH;FMTTYPE=image/jpeg:https://ibizafunfamily.com/wp-content/uploads/2023/06/cunetyo.jpg
END:VEVENT
BEGIN:VEVENT
DTSTART;TZID=Europe/Madrid:20230605T173000
DTEND;TZID=Europe/Madrid:20230605T183000
DTSTAMP:20260424T024749
CREATED:20230602T104651Z
LAST-MODIFIED:20230602T104651Z
UID:14391-1685986200-1685989800@ibizafunfamily.com
SUMMARY:Taller medioambiental
DESCRIPTION:El Lunes a las 17:30 de 2023 en la Biblioteca Vicent Serra Orvay celebraremos el Día del Medio Ambiente con un taller » La salud de l’illa vista des dels ulls de les abelles» a cargo de Elisenda del mar del departamento de Medio ambiente del Ayuntamiento de Sant Josep. \nDirigido para peques  de 4 a 8 años \nSe necesita inscripción previa  en bibliosantjordi@santjosep.org o al 971308688 \n\n				\n					\n						Teléfono\n					\n				\n			   \n\n				\n					\n						Correo electrónico
URL:https://ibizafunfamily.com/agenda/taller-medioambiental/
LOCATION:Biblioteca Vicent Serra Orvay\, C/ de la Plaça Major\, 9\, Sant Jordi de ses Salines\, Islas Baleares\, 07817\, España
CATEGORIES:Talleres
ATTACH;FMTTYPE=image/jpeg:https://ibizafunfamily.com/wp-content/uploads/2023/06/cuento.jpg
ORGANIZER;CN="Ajuntament de Sant Josep de Sa Talaia":MAILTO:alcaldia@santjosep.org
END:VEVENT
END:VCALENDAR