BEGIN:VCALENDAR
VERSION:2.0
PRODID:-//Ibiza Fun Family - ECPv6.15.17.1//NONSGML v1.0//EN
CALSCALE:GREGORIAN
METHOD:PUBLISH
X-WR-CALNAME:Ibiza Fun Family
X-ORIGINAL-URL:https://ibizafunfamily.com
X-WR-CALDESC:Eventos para Ibiza Fun Family
REFRESH-INTERVAL;VALUE=DURATION:PT1H
X-Robots-Tag:noindex
X-PUBLISHED-TTL:PT1H
BEGIN:VTIMEZONE
TZID:Europe/Madrid
BEGIN:DAYLIGHT
TZOFFSETFROM:+0100
TZOFFSETTO:+0200
TZNAME:CEST
DTSTART:20220327T010000
END:DAYLIGHT
BEGIN:STANDARD
TZOFFSETFROM:+0200
TZOFFSETTO:+0100
TZNAME:CET
DTSTART:20221030T010000
END:STANDARD
BEGIN:DAYLIGHT
TZOFFSETFROM:+0100
TZOFFSETTO:+0200
TZNAME:CEST
DTSTART:20230326T010000
END:DAYLIGHT
BEGIN:STANDARD
TZOFFSETFROM:+0200
TZOFFSETTO:+0100
TZNAME:CET
DTSTART:20231029T010000
END:STANDARD
BEGIN:DAYLIGHT
TZOFFSETFROM:+0100
TZOFFSETTO:+0200
TZNAME:CEST
DTSTART:20240331T010000
END:DAYLIGHT
BEGIN:STANDARD
TZOFFSETFROM:+0200
TZOFFSETTO:+0100
TZNAME:CET
DTSTART:20241027T010000
END:STANDARD
END:VTIMEZONE
BEGIN:VEVENT
DTSTART;TZID=Europe/Madrid:20230603T100000
DTEND;TZID=Europe/Madrid:20230603T200000
DTSTAMP:20260423T093412
CREATED:20230517T082310Z
LAST-MODIFIED:20230602T102857Z
UID:13867-1685786400-1685822400@ibizafunfamily.com
SUMMARY:Talleres\, juegos infantiles y mucho más...Ecouc\, III Fira de medi ambient
DESCRIPTION:El 3 de Junio de 2023  de 10:00 a 20:00 se celebra la III Fira de Medi ambient en el Passeign Solidari en Santa Eulària \nDonde habrá stands de servicios\, productos\, comercios y profesionales del medio ambiente. \nstands informativos de entidades\, oenegés y servicios públicos vinculados. \nTaller para jóvenes y adultos \nFood trucks \n10 a 14 y de 16 a 20 talleres y juegos infantiles \n11:00 gincana familiar inscripciones en www.santaeularia.com \n11:30 y a las 18:00 actuaciones del guerrero de la limpieza \ny muchas sorpresas… \n\n				\n					\n						Programa completo\n					\n				\n			   \n  \n 
URL:https://ibizafunfamily.com/agenda/ecouc-iii-fira-de-medi-ambient/
LOCATION:Passeig Solidari\, Hotel Tres Torres (Santa Eulalia)\, Santa Eulària des Riu\, islas baleares\, 07840\, España
CATEGORIES:Fiesta,Talleres
ATTACH;FMTTYPE=image/jpeg:https://ibizafunfamily.com/wp-content/uploads/2023/05/eco-uc.jpg
ORGANIZER;CN="Ajuntament de Santa Eul%C3%A0ria des Riu":MAILTO:alcaldia@santaeularia.com
END:VEVENT
END:VCALENDAR