BEGIN:VCALENDAR
VERSION:2.0
PRODID:-//Ibiza Fun Family - ECPv6.15.17.1//NONSGML v1.0//EN
CALSCALE:GREGORIAN
METHOD:PUBLISH
X-WR-CALNAME:Ibiza Fun Family
X-ORIGINAL-URL:https://ibizafunfamily.com
X-WR-CALDESC:Eventos para Ibiza Fun Family
REFRESH-INTERVAL;VALUE=DURATION:PT1H
X-Robots-Tag:noindex
X-PUBLISHED-TTL:PT1H
BEGIN:VTIMEZONE
TZID:Europe/Madrid
BEGIN:DAYLIGHT
TZOFFSETFROM:+0100
TZOFFSETTO:+0200
TZNAME:CEST
DTSTART:20230326T010000
END:DAYLIGHT
BEGIN:STANDARD
TZOFFSETFROM:+0200
TZOFFSETTO:+0100
TZNAME:CET
DTSTART:20231029T010000
END:STANDARD
BEGIN:DAYLIGHT
TZOFFSETFROM:+0100
TZOFFSETTO:+0200
TZNAME:CEST
DTSTART:20240331T010000
END:DAYLIGHT
BEGIN:STANDARD
TZOFFSETFROM:+0200
TZOFFSETTO:+0100
TZNAME:CET
DTSTART:20241027T010000
END:STANDARD
BEGIN:DAYLIGHT
TZOFFSETFROM:+0100
TZOFFSETTO:+0200
TZNAME:CEST
DTSTART:20250330T010000
END:DAYLIGHT
BEGIN:STANDARD
TZOFFSETFROM:+0200
TZOFFSETTO:+0100
TZNAME:CET
DTSTART:20251026T010000
END:STANDARD
END:VTIMEZONE
BEGIN:VEVENT
DTSTART;TZID=Europe/Madrid:20240210T113000
DTEND;TZID=Europe/Madrid:20240210T113000
DTSTAMP:20260424T151758
CREATED:20240124T105440Z
LAST-MODIFIED:20240207T225019Z
UID:20348-1707564600-1707564600@ibizafunfamily.com
SUMMARY:Carnaval en Sant Josep
DESCRIPTION:El Sábado 10 de Febrero de 2024 a las 11:30  en Sant Josep \nLa salida de la rúa 2024 será desde la Av. Diputado Josep Ribas a la altura del CEIP Urgell\, con salida hacia Avda. Pere Escanelles\, av. Es Cubells\, C/ Cas Vildu y finalizará en la C/ de la Pau\, junto al edificio consistorial. Este recorrido fue consensuado con Policía Local y Protección Civil por una buena convivencia de fiesta con el tráfico rodado. \nA continuación\, fiesta al lado del Ayuntamiento con el Grupo musical Esta me la sé y después entrega de  premios \nServicio de comida y bebida a cargo de la Unión Deportiva de San José \n\n				\n					\n						Web del Ayuntamiento
URL:https://ibizafunfamily.com/agenda/carnaval-en-sant-josep/
CATEGORIES:Pasa calles
ATTACH;FMTTYPE=image/jpeg:https://ibizafunfamily.com/wp-content/uploads/2024/01/carnaval-sant-josep.jpg
ORGANIZER;CN="Ajuntament de Sant Josep de Sa Talaia":MAILTO:alcaldia@santjosep.org
END:VEVENT
END:VCALENDAR