BEGIN:VCALENDAR
VERSION:2.0
PRODID:-//Ibiza Fun Family - ECPv6.15.17.1//NONSGML v1.0//EN
CALSCALE:GREGORIAN
METHOD:PUBLISH
X-ORIGINAL-URL:https://ibizafunfamily.com
X-WR-CALDESC:Eventos para Ibiza Fun Family
REFRESH-INTERVAL;VALUE=DURATION:PT1H
X-Robots-Tag:noindex
X-PUBLISHED-TTL:PT1H
BEGIN:VTIMEZONE
TZID:Europe/Madrid
BEGIN:DAYLIGHT
TZOFFSETFROM:+0100
TZOFFSETTO:+0200
TZNAME:CEST
DTSTART:20220327T010000
END:DAYLIGHT
BEGIN:STANDARD
TZOFFSETFROM:+0200
TZOFFSETTO:+0100
TZNAME:CET
DTSTART:20221030T010000
END:STANDARD
BEGIN:DAYLIGHT
TZOFFSETFROM:+0100
TZOFFSETTO:+0200
TZNAME:CEST
DTSTART:20230326T010000
END:DAYLIGHT
BEGIN:STANDARD
TZOFFSETFROM:+0200
TZOFFSETTO:+0100
TZNAME:CET
DTSTART:20231029T010000
END:STANDARD
BEGIN:DAYLIGHT
TZOFFSETFROM:+0100
TZOFFSETTO:+0200
TZNAME:CEST
DTSTART:20240331T010000
END:DAYLIGHT
BEGIN:STANDARD
TZOFFSETFROM:+0200
TZOFFSETTO:+0100
TZNAME:CET
DTSTART:20241027T010000
END:STANDARD
END:VTIMEZONE
BEGIN:VEVENT
DTSTART;TZID=Europe/Madrid:20231228T173000
DTEND;TZID=Europe/Madrid:20231228T203000
DTSTAMP:20260425T034601
CREATED:20231215T142949Z
LAST-MODIFIED:20231215T142949Z
UID:19595-1703784600-1703795400@ibizafunfamily.com
SUMMARY:El Gran circ de ses Puces en el Diverespai
DESCRIPTION:La feria infantil Diverespai esta abierta del 26 de Diciembre de 2023 al 3 de enero de 2024 en el Recinto Ferial \nEl 28 de Diciembre a las 17:30  y a las 19:30 habrá espectáculo con el Mago Albert » El circ de ses puces» \nHabrá hinchables\, videojuegos y juegos de ordenador\, deporte organizados y talleres en más de 5000 metros cuadrados de espacio especialmente diseñado para mantener felices a niños y adolescentes \nEntre las actividades que las familias encontrarán en este espacio se encuentran 12 atracciones hinchables para niños y niñas de entre 1 y 12 años\, ludotecas y barras para bebés \nLos talleres que habrá serán pintacaras\, decoración navideña ( árbol de Navidad\, belenes y manualidades) imanes de nevera\, galletas\, cocina y repostería\, Fisher tips\, chapas y cartas para los Reyes Magos \nEstará abierto de 10:30 a 14:00  y de 17:00 a 20:30 \n \n 
URL:https://ibizafunfamily.com/agenda/el-gran-circ-de-ses-puces-en-el-diverespai/
LOCATION:Recinto Ferial Ibiza\, Carretera San Antonio\, Eivissa\, Islas Baleares\, 07800\, España
CATEGORIES:Magia
ATTACH;FMTTYPE=image/jpeg:https://ibizafunfamily.com/wp-content/uploads/2023/12/mago-albert-navidad.jpg
ORGANIZER;CN="Shows Ibiza":MAILTO:info@showsibiza.com
END:VEVENT
END:VCALENDAR