BEGIN:VCALENDAR
VERSION:2.0
PRODID:-//Ibiza Fun Family - ECPv6.15.17.1//NONSGML v1.0//EN
CALSCALE:GREGORIAN
METHOD:PUBLISH
X-ORIGINAL-URL:https://ibizafunfamily.com
X-WR-CALDESC:Eventos para Ibiza Fun Family
REFRESH-INTERVAL;VALUE=DURATION:PT1H
X-Robots-Tag:noindex
X-PUBLISHED-TTL:PT1H
BEGIN:VTIMEZONE
TZID:Europe/Madrid
BEGIN:DAYLIGHT
TZOFFSETFROM:+0100
TZOFFSETTO:+0200
TZNAME:CEST
DTSTART:20220327T010000
END:DAYLIGHT
BEGIN:STANDARD
TZOFFSETFROM:+0200
TZOFFSETTO:+0100
TZNAME:CET
DTSTART:20221030T010000
END:STANDARD
BEGIN:DAYLIGHT
TZOFFSETFROM:+0100
TZOFFSETTO:+0200
TZNAME:CEST
DTSTART:20230326T010000
END:DAYLIGHT
BEGIN:STANDARD
TZOFFSETFROM:+0200
TZOFFSETTO:+0100
TZNAME:CET
DTSTART:20231029T010000
END:STANDARD
BEGIN:DAYLIGHT
TZOFFSETFROM:+0100
TZOFFSETTO:+0200
TZNAME:CEST
DTSTART:20240331T010000
END:DAYLIGHT
BEGIN:STANDARD
TZOFFSETFROM:+0200
TZOFFSETTO:+0100
TZNAME:CET
DTSTART:20241027T010000
END:STANDARD
END:VTIMEZONE
BEGIN:VEVENT
DTSTART;TZID=Europe/Madrid:20231208T120000
DTEND;TZID=Europe/Madrid:20231208T120000
DTSTAMP:20260425T215019
CREATED:20231121T140347Z
LAST-MODIFIED:20231121T160109Z
UID:18519-1702036800-1702036800@ibizafunfamily.com
SUMMARY:El Mago viajero en Eivicabra
DESCRIPTION:Festival de Magia \n6\,7 y 8 de Diciembre de 2023 \nEl viernes 8 de Diciembre de 2023 en la carpa de Navidad \nEl Mago Viajero a las 12:00 en la Carpa de Navidad espectáculo de Josemaria Alcázar\, gratuito
URL:https://ibizafunfamily.com/agenda/el-mago-viajero-en-eivicabra/
LOCATION:Islas Baleares
CATEGORIES:Magia
ATTACH;FMTTYPE=image/jpeg:https://ibizafunfamily.com/wp-content/uploads/2023/11/magia.jpg
END:VEVENT
BEGIN:VEVENT
DTSTART;TZID=Europe/Madrid:20231208T120000
DTEND;TZID=Europe/Madrid:20231208T200000
DTSTAMP:20260425T215019
CREATED:20231031T085504Z
LAST-MODIFIED:20231204T232134Z
UID:17888-1702036800-1702065600@ibizafunfamily.com
SUMMARY:Eivicadabra
DESCRIPTION:Festival de Magia \n6\,7 y 8 de Diciembre de 2023 \nEl viernes 8 de Diciembre de 2023 \nEl Mago Viajero a las 12:00 en la Carpa de Navidad espectáculo de Josemaria Alcázar\, gratuito \nThe Magical Mystery tour a las 17:00 espectáculo dirigido por Cliff en la Carpa de navidad Gratuito \nA las  20:00 en Can Ventosa la Gala Internacional\, precio del espectáculo \nPrecio entradas a 10€ anticipada y 15€ en taquilla \nLa gala será presentada por el Mago Albert y los artistas que podremos encontrar son \nAlbertpiq   \nShado \nGisell  \nBando y Silvana \nRECOMENDADO A PARTIR DE 6 AÑOS \n\n				\n					\n						Comprar entradas\n					\n				\n			  \n  \n \n  \n 
URL:https://ibizafunfamily.com/agenda/eivicadabra/
LOCATION:Auditori Can Ventosa\, Av. Ignasi Wallis\, 36\, Eivissa\, Islas Baleares\, 07800\, España
CATEGORIES:Magia
ATTACH;FMTTYPE=image/jpeg:https://ibizafunfamily.com/wp-content/uploads/2023/10/gala-magia.jpg
END:VEVENT
BEGIN:VEVENT
DTSTART;TZID=Europe/Madrid:20231208T170000
DTEND;TZID=Europe/Madrid:20231208T170000
DTSTAMP:20260425T215019
CREATED:20231121T160515Z
LAST-MODIFIED:20231206T120331Z
UID:18547-1702054800-1702054800@ibizafunfamily.com
SUMMARY:The Magical Mytery tour\, Eivicadabra
DESCRIPTION:Festival de Magia \n6\,7 y 8 de Diciembre de 2023 \nEl viernes 8 de Diciembre de 2023 \nThe Magical Mystery tour a las 17:00 espectáculo dirigido por Cliff en la Carpa de navidad Gratuito
URL:https://ibizafunfamily.com/agenda/the-magical-mytery-tour-eivicadabra/
LOCATION:Passeig de S’Alamera\, Vara de Rey\, Ibiza\, Passeig de s'Alamera\, Vara de Rey\, Eivissa\, Islas Baleares\, 07800\, España
CATEGORIES:Magia
ATTACH;FMTTYPE=image/jpeg:https://ibizafunfamily.com/wp-content/uploads/2023/11/cliff.jpg
END:VEVENT
END:VCALENDAR