BEGIN:VCALENDAR
VERSION:2.0
PRODID:-//Ibiza Fun Family - ECPv6.15.17.1//NONSGML v1.0//EN
CALSCALE:GREGORIAN
METHOD:PUBLISH
X-ORIGINAL-URL:https://ibizafunfamily.com
X-WR-CALDESC:Eventos para Ibiza Fun Family
REFRESH-INTERVAL;VALUE=DURATION:PT1H
X-Robots-Tag:noindex
X-PUBLISHED-TTL:PT1H
BEGIN:VTIMEZONE
TZID:Europe/Madrid
BEGIN:DAYLIGHT
TZOFFSETFROM:+0100
TZOFFSETTO:+0200
TZNAME:CEST
DTSTART:20220327T010000
END:DAYLIGHT
BEGIN:STANDARD
TZOFFSETFROM:+0200
TZOFFSETTO:+0100
TZNAME:CET
DTSTART:20221030T010000
END:STANDARD
BEGIN:DAYLIGHT
TZOFFSETFROM:+0100
TZOFFSETTO:+0200
TZNAME:CEST
DTSTART:20230326T010000
END:DAYLIGHT
BEGIN:STANDARD
TZOFFSETFROM:+0200
TZOFFSETTO:+0100
TZNAME:CET
DTSTART:20231029T010000
END:STANDARD
BEGIN:DAYLIGHT
TZOFFSETFROM:+0100
TZOFFSETTO:+0200
TZNAME:CEST
DTSTART:20240331T010000
END:DAYLIGHT
BEGIN:STANDARD
TZOFFSETFROM:+0200
TZOFFSETTO:+0100
TZNAME:CET
DTSTART:20241027T010000
END:STANDARD
END:VTIMEZONE
BEGIN:VEVENT
DTSTART;TZID=Europe/Madrid:20231010T120000
DTEND;TZID=Europe/Madrid:20231014T210000
DTSTAMP:20260426T030416
CREATED:20231004T225837Z
LAST-MODIFIED:20231004T225837Z
UID:16855-1696939200-1697317200@ibizafunfamily.com
SUMMARY:El Mago Albert en el Club Nautico de Santa Eularia
DESCRIPTION:Mundial Europeo Master de Raceboard 20233 \nMartes día 10 de Octubre \nInicio competiciones \n12:00 Primera manga \n18:00 Actuación de Hey Buddy en la carpa \n20:00 Música y venta de bebidas  y comida en la carpa de la C/ San Lorenzo \nMiércoles 11 de Octubre \n12:00 Primera manga \n18:00 Actuación Dj Aaron\, la movida CNSE \nJueves 12 de Octubre \n12:00 Primera manga \n14:00 Actuación Jonh & Friend \n18:00 Venta de bebidas y comida con Food Trucks \nViernes 13 de Octubre \n12:00 Primera manga \n18:00 Actuación con el Mago Albert \n20:00 Música y venta de bebida y comida \n21:00 Parrillada con venta de tickets para el público asistente \nSábado 14 de Octubre  \n12:00 Primera manga \n18:00 Fiesta de clausura con ceremonia\, proyección del vídeo final y entrega de premios \n20:00 Música y venta de bebida y comida \n\n				\n					\n						Ver programa completo de fiestas
URL:https://ibizafunfamily.com/agenda/el-mago-albert-en-el-club-nautico-de-santa-eularia/
LOCATION:Club Nautico Santa Eulària\, EDIFICIO CLUB NÁUTICO\, Lugar Port Esportiu\, Santa Eulària des Riu\, Islas Baleares\, 07840\, España
CATEGORIES:Magia
ATTACH;FMTTYPE=image/jpeg:https://ibizafunfamily.com/wp-content/uploads/2023/10/raceooard.jpg
END:VEVENT
END:VCALENDAR