BEGIN:VCALENDAR
VERSION:2.0
PRODID:-//Ibiza Fun Family - ECPv6.15.17.1//NONSGML v1.0//EN
CALSCALE:GREGORIAN
METHOD:PUBLISH
X-WR-CALNAME:Ibiza Fun Family
X-ORIGINAL-URL:https://ibizafunfamily.com
X-WR-CALDESC:Eventos para Ibiza Fun Family
REFRESH-INTERVAL;VALUE=DURATION:PT1H
X-Robots-Tag:noindex
X-PUBLISHED-TTL:PT1H
BEGIN:VTIMEZONE
TZID:Europe/Madrid
BEGIN:DAYLIGHT
TZOFFSETFROM:+0100
TZOFFSETTO:+0200
TZNAME:CEST
DTSTART:20230326T010000
END:DAYLIGHT
BEGIN:STANDARD
TZOFFSETFROM:+0200
TZOFFSETTO:+0100
TZNAME:CET
DTSTART:20231029T010000
END:STANDARD
BEGIN:DAYLIGHT
TZOFFSETFROM:+0100
TZOFFSETTO:+0200
TZNAME:CEST
DTSTART:20240331T010000
END:DAYLIGHT
BEGIN:STANDARD
TZOFFSETFROM:+0200
TZOFFSETTO:+0100
TZNAME:CET
DTSTART:20241027T010000
END:STANDARD
BEGIN:DAYLIGHT
TZOFFSETFROM:+0100
TZOFFSETTO:+0200
TZNAME:CEST
DTSTART:20250330T010000
END:DAYLIGHT
BEGIN:STANDARD
TZOFFSETFROM:+0200
TZOFFSETTO:+0100
TZNAME:CET
DTSTART:20251026T010000
END:STANDARD
END:VTIMEZONE
BEGIN:VEVENT
DTSTART;TZID=Europe/Madrid:20240813T100000
DTEND;TZID=Europe/Madrid:20240813T100000
DTSTAMP:20260423T054924
CREATED:20240805T151936Z
LAST-MODIFIED:20240805T151938Z
UID:24515-1723543200-1723543200@ibizafunfamily.com
SUMMARY:Yincana literaria con Kairos
DESCRIPTION:Fiestas de Sant Bartomeu 2024 \nEl Martes 13 de Agosto de 2024 a las 10:00 en la Biblioteca Municipal de Sant Antoni \n\n				\n					\n						Ver programa completo \n					\n				\n			  \n 
URL:https://ibizafunfamily.com/agenda/yincana-literaria-con-kairos/
LOCATION:Biblioteca Múnicipal Sant Antoni\, Calle Cervantes\, Sant Antoni de Portmany\, Islas Baleares\, 07820\, España
CATEGORIES:Gincana
ATTACH;FMTTYPE=image/jpeg:https://ibizafunfamily.com/wp-content/uploads/2024/08/SAnt-bartomeu.jpg
END:VEVENT
END:VCALENDAR