BEGIN:VCALENDAR
VERSION:2.0
PRODID:-//Ibiza Fun Family - ECPv6.15.17.1//NONSGML v1.0//EN
CALSCALE:GREGORIAN
METHOD:PUBLISH
X-WR-CALNAME:Ibiza Fun Family
X-ORIGINAL-URL:https://ibizafunfamily.com
X-WR-CALDESC:Eventos para Ibiza Fun Family
REFRESH-INTERVAL;VALUE=DURATION:PT1H
X-Robots-Tag:noindex
X-PUBLISHED-TTL:PT1H
BEGIN:VTIMEZONE
TZID:Europe/Madrid
BEGIN:DAYLIGHT
TZOFFSETFROM:+0100
TZOFFSETTO:+0200
TZNAME:CEST
DTSTART:20220327T010000
END:DAYLIGHT
BEGIN:STANDARD
TZOFFSETFROM:+0200
TZOFFSETTO:+0100
TZNAME:CET
DTSTART:20221030T010000
END:STANDARD
BEGIN:DAYLIGHT
TZOFFSETFROM:+0100
TZOFFSETTO:+0200
TZNAME:CEST
DTSTART:20230326T010000
END:DAYLIGHT
BEGIN:STANDARD
TZOFFSETFROM:+0200
TZOFFSETTO:+0100
TZNAME:CET
DTSTART:20231029T010000
END:STANDARD
BEGIN:DAYLIGHT
TZOFFSETFROM:+0100
TZOFFSETTO:+0200
TZNAME:CEST
DTSTART:20240331T010000
END:DAYLIGHT
BEGIN:STANDARD
TZOFFSETFROM:+0200
TZOFFSETTO:+0100
TZNAME:CET
DTSTART:20241027T010000
END:STANDARD
END:VTIMEZONE
BEGIN:VEVENT
DTSTART;TZID=Europe/Madrid:20230522T190000
DTEND;TZID=Europe/Madrid:20231015T000000
DTSTAMP:20260423T185143
CREATED:20230713T225721Z
LAST-MODIFIED:20230806T095934Z
UID:15219-1684782000-1697328000@ibizafunfamily.com
SUMMARY:Feria Es Canar
DESCRIPTION:La Feria de Es Canar estará de Mayo a Octubre de 2023 situada cerca de la parada de Autobús y taxi. \nAbren tarde-noche \nEsta compuesta por infinidad de atracciones para grandes y pequeños y algún puesto de comida
URL:https://ibizafunfamily.com/agenda/feria-es-canar/
LOCATION:Avenida d’ Es Canar\, av. es canar\, Es canar\, islas baleares\, 07849\, España
CATEGORIES:Feria
ATTACH;FMTTYPE=image/jpeg:https://ibizafunfamily.com/wp-content/uploads/2023/07/feria.jpg
END:VEVENT
BEGIN:VEVENT
DTSTART;VALUE=DATE:20230928
DTEND;VALUE=DATE:20231002
DTSTAMP:20260423T185143
CREATED:20230926T084752Z
LAST-MODIFIED:20230928T092258Z
UID:16512-1695859200-1696204799@ibizafunfamily.com
SUMMARY:XII Fira Marinera
DESCRIPTION:Del 28 de Septiembre al 1 de Octubre de 2023\, Fira Marinera en Sant Antoni de Portmany\, en el Passeig del mar y el Passeig de Ses Fonts \nJueves 28 \n17:30 El mercado cobra vida \n18:00 Trefolk en concierto \n19:00 Inaguración oficial \n20:00 Los dioses del Mar \n21:00 Don Jerónimo Luis el adelantao \n21:30 Espectaculo entre telas \n22:00 El peregrino de los amres \n22:30 Pasacalles musical \nViernes 29 \n11:00 El Mercado Cobra vida \n12:00  Músicos y personajes de  fantasía ( Rituals) \n12:00 Deldades Oceánicas (zona infantil) \n12:30 Pasacalles fantásticos ( Malatish) \n13:00 Pasacalles musical (Treefolk) \n13:15 Cuenta cuentos ( zona infantil) \n13:30 Concierto de calle ( Rituals) \n13:45 El Bosque embrujado (Titeres) \n14:00 Pasacalles Náufragos a la Deriva  ( Trefolk) \n14:30 Froilán Peregrino ( Recorrido del Mercado ) \n14:30 Cuenta cuentos ( zona infantil) \n15:00 Hora del buen Yantar \n17:30 El mercado cobra vida \n18:00 Pasacalles Musical ( Rituals) \n18:15 Meteria el Conquistador \n18:15 cuenta cuento ( zona infantil) \n18:30 Los faunos salen de paseo \n19:00 El sueño de volar ( títeres) ( zona infantil) \n19:00 La dragona y recorrido musical ( Treefolk) \n20:00 La bailarina y el dragón ( títeres) ( zona infantil) \n20:00 Concierto de calle ( rituals) \n20:30 Corsarios a bavor \n21:00 Los brujos bucaneros \n22:00 El Brujo de los mares \n22:30 Espéctaculo de Fuego \nSábado 30  \n11:00 El Mercado Cobra vida \n12:00  Músicos y personajes de  fantasía ( Rituals) \n12:00 Deldades Oceánicas (zona infantil) \n12:30 Pasacalles fantasticos ( Malatish) \n13:00 Pasacalles musical (Treefolk) \n13:15 Cuenta cuentos ( zona infantil) \n13:30 Concierto de calle ( Rituals) \n13:45 El Bosque embrujado (Titeres) \n14:00 Pasacalles Náufragos a la Deriva  ( Trefolk) \n14:30 Froilán Peregrino ( Recorrido del Mercado ) \n14:30 Cuenta cuentos ( zona infantil) \n15:00 Hora del buen Yantar \n17:30 el Mercado cobra vida \n18:00 Pasacalles musical ( Rituals) \n18:15 Frollán Marinero ( la troupe de Luisete) \n18:15 Cuenta cuentos ( zona infantil) \n18:30 Despertad de la siesta ( zona infantil) \n19:00 El sueño de volar ( títeres) ( zona infantil) \n20:00 Concierto de calle ( Rituals) \n20:30 El Mejor regalo del mundo ( títeres en zona infantil) \n21:00 Espectáculo de entretelas ( zona infantil) \n21:30 La ronda del hechicero atribulado (zona infantil) \n22:00 El Brujo de los mares \n22:30 Concierto de Calle ( Rituals) \n23:30 Espectáculo de fuego \nDomingo 1 Octubre \n11:00 El Mercado Cobra vida \n12:00  Músicos y personajes de fantasía ( Treefolk- Malatish) \n12:00 La bailarina  y el dragón títeres  (zona infantil) \n12:30 El Curandero y buhonero alimaña vender sus pócimas y min \n13:00 Pasacalles musical (Rituals) \n13:00 Vera y su monstruo mascota \n13:30 Concierto de calle ( Treefolk) \n14:00 Pasacalles Náufragos a la Deriva  ( Rituals) \n14:00 Cuenta cuentos ( zona infantil) \n15:00 Hora del buen Yantar \n17:30 el Mercado cobra vida \n18:00 Pasacalles musical ( Rituals) \n18:30 Cuenta cuentos ( zona infantil) \n18:30 Despertad de la siesta ( zona infantil) \n19:00 El bosque embrujado (títeres) \n19:30 El leproso divertido ( Cia Artimaña) \n20:00 Sorpresa en el jardín títeres ( zona infantil) \n20:00 Concierto de calle ( Rituals) \n20:30 El árbol magico ( cia Artimaña) \n21:00 Los brujos buaneros \n21:30 Retablo de los cuentos  (zona infantil) \n22:00 Pasacalles de todas las compañias \n\n				\n					\n						Ver programa completo días 28 y 29 de Septiembre \n					\n				\n			  \n\n				\n					\n						Ver programa completo día 30 de Septiembre y 1 de Octubre\n					\n				\n			  \n\n				\n					\n						Ver programa completo día 1  de Octubre
URL:https://ibizafunfamily.com/agenda/xii-fira-marinera/
LOCATION:Passeig de Ses Fonts\, Passeig de ses fonts\, Sant Antoni de Portmany\, Islas Baleares\, 07820\, España
CATEGORIES:Feria
ATTACH;FMTTYPE=image/jpeg:https://ibizafunfamily.com/wp-content/uploads/2023/09/fira-marinera.jpg
END:VEVENT
END:VCALENDAR