BEGIN:VCALENDAR
VERSION:2.0
PRODID:-//Ibiza Fun Family - ECPv6.15.17.1//NONSGML v1.0//EN
CALSCALE:GREGORIAN
METHOD:PUBLISH
X-ORIGINAL-URL:https://ibizafunfamily.com
X-WR-CALDESC:Eventos para Ibiza Fun Family
REFRESH-INTERVAL;VALUE=DURATION:PT1H
X-Robots-Tag:noindex
X-PUBLISHED-TTL:PT1H
BEGIN:VTIMEZONE
TZID:Europe/Madrid
BEGIN:DAYLIGHT
TZOFFSETFROM:+0100
TZOFFSETTO:+0200
TZNAME:CEST
DTSTART:20220327T010000
END:DAYLIGHT
BEGIN:STANDARD
TZOFFSETFROM:+0200
TZOFFSETTO:+0100
TZNAME:CET
DTSTART:20221030T010000
END:STANDARD
BEGIN:DAYLIGHT
TZOFFSETFROM:+0100
TZOFFSETTO:+0200
TZNAME:CEST
DTSTART:20230326T010000
END:DAYLIGHT
BEGIN:STANDARD
TZOFFSETFROM:+0200
TZOFFSETTO:+0100
TZNAME:CET
DTSTART:20231029T010000
END:STANDARD
BEGIN:DAYLIGHT
TZOFFSETFROM:+0100
TZOFFSETTO:+0200
TZNAME:CEST
DTSTART:20240331T010000
END:DAYLIGHT
BEGIN:STANDARD
TZOFFSETFROM:+0200
TZOFFSETTO:+0100
TZNAME:CET
DTSTART:20241027T010000
END:STANDARD
END:VTIMEZONE
BEGIN:VEVENT
DTSTART;TZID=Europe/Madrid:20230522T190000
DTEND;TZID=Europe/Madrid:20231015T000000
DTSTAMP:20260423T040823
CREATED:20230713T225721Z
LAST-MODIFIED:20230806T095934Z
UID:15219-1684782000-1697328000@ibizafunfamily.com
SUMMARY:Feria Es Canar
DESCRIPTION:La Feria de Es Canar estará de Mayo a Octubre de 2023 situada cerca de la parada de Autobús y taxi. \nAbren tarde-noche \nEsta compuesta por infinidad de atracciones para grandes y pequeños y algún puesto de comida
URL:https://ibizafunfamily.com/agenda/feria-es-canar/
LOCATION:Avenida d’ Es Canar\, av. es canar\, Es canar\, islas baleares\, 07849\, España
CATEGORIES:Feria
ATTACH;FMTTYPE=image/jpeg:https://ibizafunfamily.com/wp-content/uploads/2023/07/feria.jpg
END:VEVENT
BEGIN:VEVENT
DTSTART;VALUE=DATE:20230928
DTEND;VALUE=DATE:20231002
DTSTAMP:20260423T040823
CREATED:20230926T084752Z
LAST-MODIFIED:20230928T092258Z
UID:16512-1695859200-1696204799@ibizafunfamily.com
SUMMARY:XII Fira Marinera
DESCRIPTION:Del 28 de Septiembre al 1 de Octubre de 2023\, Fira Marinera en Sant Antoni de Portmany\, en el Passeig del mar y el Passeig de Ses Fonts \nJueves 28 \n17:30 El mercado cobra vida \n18:00 Trefolk en concierto \n19:00 Inaguración oficial \n20:00 Los dioses del Mar \n21:00 Don Jerónimo Luis el adelantao \n21:30 Espectaculo entre telas \n22:00 El peregrino de los amres \n22:30 Pasacalles musical \nViernes 29 \n11:00 El Mercado Cobra vida \n12:00  Músicos y personajes de  fantasía ( Rituals) \n12:00 Deldades Oceánicas (zona infantil) \n12:30 Pasacalles fantásticos ( Malatish) \n13:00 Pasacalles musical (Treefolk) \n13:15 Cuenta cuentos ( zona infantil) \n13:30 Concierto de calle ( Rituals) \n13:45 El Bosque embrujado (Titeres) \n14:00 Pasacalles Náufragos a la Deriva  ( Trefolk) \n14:30 Froilán Peregrino ( Recorrido del Mercado ) \n14:30 Cuenta cuentos ( zona infantil) \n15:00 Hora del buen Yantar \n17:30 El mercado cobra vida \n18:00 Pasacalles Musical ( Rituals) \n18:15 Meteria el Conquistador \n18:15 cuenta cuento ( zona infantil) \n18:30 Los faunos salen de paseo \n19:00 El sueño de volar ( títeres) ( zona infantil) \n19:00 La dragona y recorrido musical ( Treefolk) \n20:00 La bailarina y el dragón ( títeres) ( zona infantil) \n20:00 Concierto de calle ( rituals) \n20:30 Corsarios a bavor \n21:00 Los brujos bucaneros \n22:00 El Brujo de los mares \n22:30 Espéctaculo de Fuego \nSábado 30  \n11:00 El Mercado Cobra vida \n12:00  Músicos y personajes de  fantasía ( Rituals) \n12:00 Deldades Oceánicas (zona infantil) \n12:30 Pasacalles fantasticos ( Malatish) \n13:00 Pasacalles musical (Treefolk) \n13:15 Cuenta cuentos ( zona infantil) \n13:30 Concierto de calle ( Rituals) \n13:45 El Bosque embrujado (Titeres) \n14:00 Pasacalles Náufragos a la Deriva  ( Trefolk) \n14:30 Froilán Peregrino ( Recorrido del Mercado ) \n14:30 Cuenta cuentos ( zona infantil) \n15:00 Hora del buen Yantar \n17:30 el Mercado cobra vida \n18:00 Pasacalles musical ( Rituals) \n18:15 Frollán Marinero ( la troupe de Luisete) \n18:15 Cuenta cuentos ( zona infantil) \n18:30 Despertad de la siesta ( zona infantil) \n19:00 El sueño de volar ( títeres) ( zona infantil) \n20:00 Concierto de calle ( Rituals) \n20:30 El Mejor regalo del mundo ( títeres en zona infantil) \n21:00 Espectáculo de entretelas ( zona infantil) \n21:30 La ronda del hechicero atribulado (zona infantil) \n22:00 El Brujo de los mares \n22:30 Concierto de Calle ( Rituals) \n23:30 Espectáculo de fuego \nDomingo 1 Octubre \n11:00 El Mercado Cobra vida \n12:00  Músicos y personajes de fantasía ( Treefolk- Malatish) \n12:00 La bailarina  y el dragón títeres  (zona infantil) \n12:30 El Curandero y buhonero alimaña vender sus pócimas y min \n13:00 Pasacalles musical (Rituals) \n13:00 Vera y su monstruo mascota \n13:30 Concierto de calle ( Treefolk) \n14:00 Pasacalles Náufragos a la Deriva  ( Rituals) \n14:00 Cuenta cuentos ( zona infantil) \n15:00 Hora del buen Yantar \n17:30 el Mercado cobra vida \n18:00 Pasacalles musical ( Rituals) \n18:30 Cuenta cuentos ( zona infantil) \n18:30 Despertad de la siesta ( zona infantil) \n19:00 El bosque embrujado (títeres) \n19:30 El leproso divertido ( Cia Artimaña) \n20:00 Sorpresa en el jardín títeres ( zona infantil) \n20:00 Concierto de calle ( Rituals) \n20:30 El árbol magico ( cia Artimaña) \n21:00 Los brujos buaneros \n21:30 Retablo de los cuentos  (zona infantil) \n22:00 Pasacalles de todas las compañias \n\n				\n					\n						Ver programa completo días 28 y 29 de Septiembre \n					\n				\n			  \n\n				\n					\n						Ver programa completo día 30 de Septiembre y 1 de Octubre\n					\n				\n			  \n\n				\n					\n						Ver programa completo día 1  de Octubre
URL:https://ibizafunfamily.com/agenda/xii-fira-marinera/
LOCATION:Passeig de Ses Fonts\, Passeig de ses fonts\, Sant Antoni de Portmany\, Islas Baleares\, 07820\, España
CATEGORIES:Feria
ATTACH;FMTTYPE=image/jpeg:https://ibizafunfamily.com/wp-content/uploads/2023/09/fira-marinera.jpg
END:VEVENT
BEGIN:VEVENT
DTSTART;TZID=Europe/Madrid:20231022T100000
DTEND;TZID=Europe/Madrid:20231022T220000
DTSTAMP:20260423T040823
CREATED:20231018T220239Z
LAST-MODIFIED:20231018T220610Z
UID:17535-1697968800-1698012000@ibizafunfamily.com
SUMMARY:Feria de la Sal
DESCRIPTION:El Domingo 22 de Octubre de 2023 en la Fira de la Sal en las diferentes zonas marcadas en el mapa del programa \n10:00 a 10:45 Visita guiada del antiguo conjunto salinero de la Xanga  (zona 5) \n10:00 a 12:00 Recital de poesia de Rafel Albertí (zona 5) \n12:00 Muestra de canción ibicenca a cargo de Petit Cor (Zona 2) \n12:10 Ballada tradicional a cargo del Grup Folklòric Sant jordi de ses Salines (zona 2) \n12:30 Encendido del Fogueró ( zona 2) \n13:00 Cosecha tradicional de la sal ( zona 3) \n10:00 a 13:00 Mesas informativas sobre patrimonio y naturaleza 8 zona 1) \n18:30 Presentación del libro del historiador Antoni Ferrer Abárzuza Galiotes  ( zona 4) \n19:30 Exposición santísimo Sacramento ( zona4) \n20:00 Misa solemne ( zona 4) \n21:00 REcital de canto ofrecido por Petit cor ( zona 4) \nZona 1 Centro de interpretación \nZona 2 antigua montaña de sal \nZona 3 treta de la sal \nZona 4 Sant Jordi \nZona 5 Torre de sa Sal Rossa \nMinibus\, trenecito y autobús ( programa) \nLas zonas y la información más detallada en el programa de fiestas \n\n				\n					\n						Ver programa completo de fiestas
URL:https://ibizafunfamily.com/agenda/feria-de-la-sal-2/
LOCATION:Islas Baleares
CATEGORIES:Feria
ATTACH;FMTTYPE=image/jpeg:https://ibizafunfamily.com/wp-content/uploads/2023/10/sal.jpg
ORGANIZER;CN="Ajuntament de Sant Josep de Sa Talaia":MAILTO:alcaldia@santjosep.org
END:VEVENT
BEGIN:VEVENT
DTSTART;TZID=Europe/Madrid:20231029T100000
DTEND;TZID=Europe/Madrid:20231029T180000
DTSTAMP:20260423T040823
CREATED:20231026T140312Z
LAST-MODIFIED:20231026T140312Z
UID:17806-1698573600-1698602400@ibizafunfamily.com
SUMMARY:Fira d'Estocs
DESCRIPTION:Domingo 29 de Octubre de 2023 de 10:30 a 18:00 en el Passeo de Vara de Rey \n10:00 a 18:00 Juegos tradicionales y juegos gigantes con Sueños de Ibiza  y Jugreoix \n11:30 Inauguración de la Fira \n12:00 Actuación musical del grupo Bluesmafia Acústic Trio \n14:00 a 15:30 Degustación gratuita de productos locales en la carpa del Ayuntamiento \n17:00 Actuación musical del grupo The Groovy Brothers \n18:00 Cierre Fira \n 
URL:https://ibizafunfamily.com/agenda/fira-destocs-2/
LOCATION:Passeig de S’Alamera\, Vara de Rey\, Ibiza\, Passeig de s'Alamera\, Vara de Rey\, Eivissa\, Islas Baleares\, 07800\, España
CATEGORIES:Feria
ATTACH;FMTTYPE=image/jpeg:https://ibizafunfamily.com/wp-content/uploads/2023/10/estocs-1.jpg
END:VEVENT
BEGIN:VEVENT
DTSTART;TZID=Europe/Madrid:20231029T120000
DTEND;TZID=Europe/Madrid:20231029T140000
DTSTAMP:20260423T040823
CREATED:20231024T104218Z
LAST-MODIFIED:20231024T110640Z
UID:17610-1698580800-1698588000@ibizafunfamily.com
SUMMARY:Gincana y Feria\, Mercat Vell
DESCRIPTION:El próximo Domingo 20 de Octubre a las 12h se ha organizado una gincana para familiar por el Mercado Viejo de Ibiza\nAdemás\, a la misma hora se celebra la Feria de Gangas de La Marina \n¿Vienes? \nOs dejamos programa completo de fiestas \n\n				\n					\n						Ver programa completo de fiestas
URL:https://ibizafunfamily.com/agenda/gincana-y-feria-mercat-vell/
LOCATION:Mercado Viejo de Ibiza\, Plaça de la Constitució\, 18\, Eivissa\, islas baleares\, 07800\, España
CATEGORIES:Feria
ATTACH;FMTTYPE=image/jpeg:https://ibizafunfamily.com/wp-content/uploads/2023/10/mercado-e1696456929317.jpg
END:VEVENT
END:VCALENDAR