BEGIN:VCALENDAR
VERSION:2.0
PRODID:-//Ibiza Fun Family - ECPv6.15.17.1//NONSGML v1.0//EN
CALSCALE:GREGORIAN
METHOD:PUBLISH
X-WR-CALNAME:Ibiza Fun Family
X-ORIGINAL-URL:https://ibizafunfamily.com
X-WR-CALDESC:Eventos para Ibiza Fun Family
REFRESH-INTERVAL;VALUE=DURATION:PT1H
X-Robots-Tag:noindex
X-PUBLISHED-TTL:PT1H
BEGIN:VTIMEZONE
TZID:Europe/Madrid
BEGIN:DAYLIGHT
TZOFFSETFROM:+0100
TZOFFSETTO:+0200
TZNAME:CEST
DTSTART:20220327T010000
END:DAYLIGHT
BEGIN:STANDARD
TZOFFSETFROM:+0200
TZOFFSETTO:+0100
TZNAME:CET
DTSTART:20221030T010000
END:STANDARD
BEGIN:DAYLIGHT
TZOFFSETFROM:+0100
TZOFFSETTO:+0200
TZNAME:CEST
DTSTART:20230326T010000
END:DAYLIGHT
BEGIN:STANDARD
TZOFFSETFROM:+0200
TZOFFSETTO:+0100
TZNAME:CET
DTSTART:20231029T010000
END:STANDARD
BEGIN:DAYLIGHT
TZOFFSETFROM:+0100
TZOFFSETTO:+0200
TZNAME:CEST
DTSTART:20240331T010000
END:DAYLIGHT
BEGIN:STANDARD
TZOFFSETFROM:+0200
TZOFFSETTO:+0100
TZNAME:CET
DTSTART:20241027T010000
END:STANDARD
BEGIN:DAYLIGHT
TZOFFSETFROM:+0100
TZOFFSETTO:+0200
TZNAME:CEST
DTSTART:20250330T010000
END:DAYLIGHT
BEGIN:STANDARD
TZOFFSETFROM:+0200
TZOFFSETTO:+0100
TZNAME:CET
DTSTART:20251026T010000
END:STANDARD
END:VTIMEZONE
BEGIN:VEVENT
DTSTART;VALUE=DATE:20231217
DTEND;VALUE=DATE:20240107
DTSTAMP:20260423T110339
CREATED:20231215T222523Z
LAST-MODIFIED:20231215T223354Z
UID:19618-1702771200-1704585599@ibizafunfamily.com
SUMMARY:Pista de Patinaje en Sant Josep
DESCRIPTION:Acto de inauguración el Domingo 17 de Diciembre a partir de las 17:30 \nDel 18 de Diciembre de 2023 al 7 de Enero de 2024  en Sant Josep en el mercado \nLunes 18 de Diciembre de 16:00 a 20:00 \nMartes 19 de 16:00 a 20:00 \nMiércoles 20 de 16:00 a 20:00 \nJueves 21 de 16:00 a 20:00 \nViernes 22 de 16:00 a 20:00 \nSábado 23 de Diciembre de 12:00 a 14:00 y de 16:00 a 20:00 \nDomingo 24 de 12:00 a 17:00 \nLunes 25 de 16:00 a 20:00 \nMartes 26 de 12:00 a 14:00 y de 16:00 a 20:00 \nMiércoles 27 de 12:00 a 14:00 y de 16:00 a 20:00 \nJueves 28 de 12:00 a 14:00 y de 16:00 a 20:00 \nViernes 29 de 12:00 a 14:00 y de 16:00 a 20:00 \nSábado 30 de 12:00 a 14:00 y de 16:00 a 20:00 \nDomingo 31 de 12:00 a 17:00 \nLunes 1 de Enero de 2024  de 16:00 a 20:00 \nMartes 2 de 12:00 a 14:00 y de 16:00 a 20:00 \nMiércoles 3 de 12:00 a 14:00 y de 16:00 a 20:00 \nJueves 4 de 12:00 a 14:00 y de 16:00 a 20:00 \nViernes 5 de 12:00 a 117:00 \nSábado 6 de 16:00 a 20:00 \nDomingo 7 de 12:00 a 14:00 y de 16:00 a 20:00 \nActo de inauguración el Domingo 17 de Diciembre a partir de las 17:30 \n \n 
URL:https://ibizafunfamily.com/agenda/pista-de-patinaje-en-sant-josep/
LOCATION:Mercado de Sant Josep\, Carrer de Pere Escanellas ( delante del Ayuntamiento)\, Sant Josep de Sa Talaia\, Islas Baleares\, 07830\, España
CATEGORIES:Deportives
ATTACH;FMTTYPE=image/jpeg:https://ibizafunfamily.com/wp-content/uploads/2023/12/pista-patinaje-en-sant-josep.jpg
ORGANIZER;CN="Ajuntament de Sant Josep de Sa Talaia":MAILTO:alcaldia@santjosep.org
END:VEVENT
BEGIN:VEVENT
DTSTART;TZID=Europe/Madrid:20231217T100000
DTEND;TZID=Europe/Madrid:20231217T170000
DTSTAMP:20260423T110339
CREATED:20231211T225718Z
LAST-MODIFIED:20231211T230009Z
UID:19475-1702807200-1702832400@ibizafunfamily.com
SUMMARY:XVI Cursa Popular de Sa Salsa
DESCRIPTION:El Domingo 17 de Diciembre de 2023 en el Campo de Futbol de Sant Josep \nLa XVI Cursa Popular de Sa Salsa \nREGLAMENTO DE LA PRUEBA \nART. 1- El Grup Esportiu es Vedrà\, en colaboración con el ayuntamiento de Sant Josep de sa Talaia\, organizan la XVI Cursa popular de sa Salsa\, con carreras de promoción para todas las edades y una prueba en ruta de 6 km.En el campo de futbol de sant josep de sa talaia  el domingo 17 de diciembre de 2023 a partir de las 10.00h de la mañana para las categorías inferiores y a las 11:15h para la carrera popular de adultos. \nART. 2- Podrán tomar parte en la prueba todas aquellas personas que lo deseen\, según los límites de edad que se establecen por categoría. \nART. 3- El control técnico de la prueba correrá a cargo del comité provincial de jueces de la Federación Balear de Atletismo\, los atletas tienen la obligación de acatar sus indicaciones\, así como las que vengan de la organización y de los agentes del orden. \nART. 4- En todas las pruebas se utilizará el sistema de cronometraje con chip. Una vez finalizada la prueba\, aquellos que no sean de su propiedad deberán devolverlo a la organización. \nART.-5 Recorridos y distancias. \nLas categorías de Sub 6 a Sub 16 correrán en los circuitos marcados dentro del campo de fútbol según las distancias que más adelante se especifican y las otras categorías darán una vuelta a un circuito circular de 6 km con salida y llegada dentro del campo de futbol\, por caminos pavimentados. Salida de dentro del campo de futbol\, girando a la derecha por avenida del diputado Josep Ribas\, cami de ses fonts\, cami d´es verger \, calle de c´as vildu\, y avenida del diputado Josep Ribas\, finalizando en el interior del campo de futbol. \nSub   6         50 mts de 4 y 5 años \nSub   8       200 mts de 6 y 7 años \nSub 10       450 mts de 8 y 9 años \nSub 12       900 mts de 10 y 11 años \nSub 14     1350 mts de 12 y 13 años \nSub  16      1800 mts de 14 y 15 años \nJuvenil\, Júnior\, Sub 23 – Senior\, Master:   6 Km. \nART. 7- Inscripciones y dorsales \nSe podrán formalizar las inscripciones hasta el viernes 15 de diciembre a las 21:00 h a través de www.elitechip.net. \nLos participantes a partir de Juvenil tendrán que abonar una cuota de 10€. Los dorsales en la carrera deberán ir delante y de forma visible a lo largo de todo el recorrido de la carrera. No cumplir esta norma puede ser motivo de   descalificación. \nART. 8- Responsabilidades y seguridad. \nLa organización no se hace responsable de los daños morales o materiales que pueden sufrir los participantes; antes\, durante\, o después de la prueba. La organización pone al servicio de los participantes correctamente inscritos un seguro de accidentes\, de responsabilidad civil y una ambulancia medicalizada. El circuito estará cortado al tráfico y será vigilado por la policía local\, voluntarios de protección civil y voluntarios de la organización. \nART. 9- Trofeos para los tres primeros clasificados de cada categoría\, al terminar todas las pruebas  se entregaran los trofeos. \nART. 10- Todos los corredores\, al inscribirse en la prueba\, aceptan el presente reglamento\, en caso de duda prevalecerá el criterio de la organización y el reglamento de la RFEA. \nART. 11- Los dorsales se recogerán únicamente el día antes de la carrera\, el sábado 16 de 17 a 19h. en el campo de fútbol de Sant Josep de sa Talaia \, podrá recoger el dorsal el personal del club participante\, y personas autorizadas de los corredores . \n  \n\n				\n					\n						Inscripciones\n					\n				\n			  \n 
URL:https://ibizafunfamily.com/agenda/xvi-cursa-popular-de-sa-salsa/
LOCATION:Campo de Futbol de Sant Josep\, Avinguda del Diputat Josep Ribas\, Sant Josep de sa Talaia\, Islas Baleares\, 07830\, España
CATEGORIES:Deportives
ATTACH;FMTTYPE=image/jpeg:https://ibizafunfamily.com/wp-content/uploads/2023/12/cursa-popular.jpg
ORGANIZER;CN="Ajuntament de Sant Josep de Sa Talaia":MAILTO:alcaldia@santjosep.org
END:VEVENT
END:VCALENDAR