BEGIN:VCALENDAR
VERSION:2.0
PRODID:-//Ibiza Fun Family - ECPv6.15.17.1//NONSGML v1.0//EN
CALSCALE:GREGORIAN
METHOD:PUBLISH
X-ORIGINAL-URL:https://ibizafunfamily.com
X-WR-CALDESC:Eventos para Ibiza Fun Family
REFRESH-INTERVAL;VALUE=DURATION:PT1H
X-Robots-Tag:noindex
X-PUBLISHED-TTL:PT1H
BEGIN:VTIMEZONE
TZID:Europe/Madrid
BEGIN:DAYLIGHT
TZOFFSETFROM:+0100
TZOFFSETTO:+0200
TZNAME:CEST
DTSTART:20220327T010000
END:DAYLIGHT
BEGIN:STANDARD
TZOFFSETFROM:+0200
TZOFFSETTO:+0100
TZNAME:CET
DTSTART:20221030T010000
END:STANDARD
BEGIN:DAYLIGHT
TZOFFSETFROM:+0100
TZOFFSETTO:+0200
TZNAME:CEST
DTSTART:20230326T010000
END:DAYLIGHT
BEGIN:STANDARD
TZOFFSETFROM:+0200
TZOFFSETTO:+0100
TZNAME:CET
DTSTART:20231029T010000
END:STANDARD
BEGIN:DAYLIGHT
TZOFFSETFROM:+0100
TZOFFSETTO:+0200
TZNAME:CEST
DTSTART:20240331T010000
END:DAYLIGHT
BEGIN:STANDARD
TZOFFSETFROM:+0200
TZOFFSETTO:+0100
TZNAME:CET
DTSTART:20241027T010000
END:STANDARD
END:VTIMEZONE
BEGIN:VEVENT
DTSTART;TZID=Europe/Madrid:20231215T163000
DTEND;TZID=Europe/Madrid:20231215T190000
DTSTAMP:20260423T074105
CREATED:20231210T215453Z
LAST-MODIFIED:20231210T215453Z
UID:19312-1702657800-1702666800@ibizafunfamily.com
SUMMARY:Clase de patinaje y festival de Navidad de danza en las Fiestas de la Sagrada Familia
DESCRIPTION:El Viernes 15 de Diciembre de 2023 \n16:30 clases de Patinaje artístico para todos con Teysa en la posta frente al pabellón de Ses PAïses. Ponte los patines y ven \n17:45 Bendición de Belén en la Parroquia de Sagrada Familia \n18:00 Festival de Navidad a cargo del Estudio de Danza Adriàn Pineda en la carpa \n  \n\n				\n					\n						Ver\nprograma completo
URL:https://ibizafunfamily.com/agenda/clase-de-patinaje-y-festival-de-navidad-de-danza-en-las-fiestas-de-la-sagrada-familia/
LOCATION:Islas Baleares
CATEGORIES:Baile,Deportives
ATTACH;FMTTYPE=image/jpeg:https://ibizafunfamily.com/wp-content/uploads/2023/12/fiesta-sagrada-familia.jpg
END:VEVENT
BEGIN:VEVENT
DTSTART;TZID=Europe/Madrid:20231215T171500
DTEND;TZID=Europe/Madrid:20231215T171500
DTSTAMP:20260423T074105
CREATED:20231213T222315Z
LAST-MODIFIED:20231213T222315Z
UID:19536-1702660500-1702660500@ibizafunfamily.com
SUMMARY:Exhibición de Navidad
DESCRIPTION:El Viernes 15 de Diciembre de 2023 a las 17:15 en el Auditorio Caló d’es Oli \nExhibición de Navidad \nGimnasia estética y rítmica \nOrganiza el Club Deportivo Illes Pitiuses \nAsociación gimnasia estética San Miguel
URL:https://ibizafunfamily.com/agenda/exhibicion-de-navidad/
LOCATION:Auditori Calo de S’ Oli\, Cala de Bou\, Carrer de Málaga\, n1\, Sant Josep de Sa Talaia\, Islas Baleares\, 07800\, España
CATEGORIES:Deportives
ATTACH;FMTTYPE=image/jpeg:https://ibizafunfamily.com/wp-content/uploads/2023/12/estetica-y-ritmica.jpg
ORGANIZER;CN="Paola Salsoso gimansia estetica":MAILTO:paulasalsoso@gmail.com
END:VEVENT
BEGIN:VEVENT
DTSTART;TZID=Europe/Madrid:20231215T180000
DTEND;TZID=Europe/Madrid:20231215T180000
DTSTAMP:20260423T074105
CREATED:20231124T144653Z
LAST-MODIFIED:20231124T144830Z
UID:18692-1702663200-1702663200@ibizafunfamily.com
SUMMARY:Gala de Gimnasia
DESCRIPTION:El 15 de Diciembre de 2023 a las 18:00  en el Polideportivo Blanca Dona \nGala de Gimnasia de Navidad \nEscuelas y clubes de Gimnasia Blanca Dona \nEntrada libre
URL:https://ibizafunfamily.com/agenda/gala-de-gimnasia/
LOCATION:Polideportivo Sa Blanca Dona\, Carrer Cas Raspallar\, S 15\, 5\, Puig d'en Valls\, islas baleares\, 07800\, España
CATEGORIES:Deportives
ATTACH;FMTTYPE=image/jpeg:https://ibizafunfamily.com/wp-content/uploads/2023/11/gala-gimnasia.jpg
END:VEVENT
END:VCALENDAR