BEGIN:VCALENDAR
VERSION:2.0
PRODID:-//Ibiza Fun Family - ECPv6.15.17.1//NONSGML v1.0//EN
CALSCALE:GREGORIAN
METHOD:PUBLISH
X-WR-CALNAME:Ibiza Fun Family
X-ORIGINAL-URL:https://ibizafunfamily.com
X-WR-CALDESC:Eventos para Ibiza Fun Family
REFRESH-INTERVAL;VALUE=DURATION:PT1H
X-Robots-Tag:noindex
X-PUBLISHED-TTL:PT1H
BEGIN:VTIMEZONE
TZID:Europe/Madrid
BEGIN:DAYLIGHT
TZOFFSETFROM:+0100
TZOFFSETTO:+0200
TZNAME:CEST
DTSTART:20220327T010000
END:DAYLIGHT
BEGIN:STANDARD
TZOFFSETFROM:+0200
TZOFFSETTO:+0100
TZNAME:CET
DTSTART:20221030T010000
END:STANDARD
BEGIN:DAYLIGHT
TZOFFSETFROM:+0100
TZOFFSETTO:+0200
TZNAME:CEST
DTSTART:20230326T010000
END:DAYLIGHT
BEGIN:STANDARD
TZOFFSETFROM:+0200
TZOFFSETTO:+0100
TZNAME:CET
DTSTART:20231029T010000
END:STANDARD
BEGIN:DAYLIGHT
TZOFFSETFROM:+0100
TZOFFSETTO:+0200
TZNAME:CEST
DTSTART:20240331T010000
END:DAYLIGHT
BEGIN:STANDARD
TZOFFSETFROM:+0200
TZOFFSETTO:+0100
TZNAME:CET
DTSTART:20241027T010000
END:STANDARD
END:VTIMEZONE
BEGIN:VEVENT
DTSTART;TZID=Europe/Madrid:20231206T100000
DTEND;TZID=Europe/Madrid:20231206T100000
DTSTAMP:20260423T132711
CREATED:20231105T105704Z
LAST-MODIFIED:20231105T105704Z
UID:18072-1701856800-1701856800@ibizafunfamily.com
SUMMARY:Cursa de s'Indiot
DESCRIPTION:El Miércoles 6 de Diciembre de 2023 a las 10:00 en Centre Cultural de Can Ventosa Eivissa \nCursa ciclodeportiva 43 km \nCursa junior 1-3 km \nSalida y llegada a la calle Ignacio Wallis al lado del Centro cultural de Can Ventosa \nInscripción gratuita a Sportmaniacs.com \n\n				\n					\n						Inscripciones
URL:https://ibizafunfamily.com/agenda/cursa-de-sindiot/
LOCATION:Auditori Can Ventosa\, Av. Ignasi Wallis\, 36\, Eivissa\, Islas Baleares\, 07800\, España
CATEGORIES:Deportives
ATTACH;FMTTYPE=image/jpeg:https://ibizafunfamily.com/wp-content/uploads/2023/11/indiot.jpg
END:VEVENT
END:VCALENDAR