BEGIN:VCALENDAR
VERSION:2.0
PRODID:-//Ibiza Fun Family - ECPv6.15.17.1//NONSGML v1.0//EN
CALSCALE:GREGORIAN
METHOD:PUBLISH
X-WR-CALNAME:Ibiza Fun Family
X-ORIGINAL-URL:https://ibizafunfamily.com
X-WR-CALDESC:Eventos para Ibiza Fun Family
REFRESH-INTERVAL;VALUE=DURATION:PT1H
X-Robots-Tag:noindex
X-PUBLISHED-TTL:PT1H
BEGIN:VTIMEZONE
TZID:Europe/Madrid
BEGIN:DAYLIGHT
TZOFFSETFROM:+0100
TZOFFSETTO:+0200
TZNAME:CEST
DTSTART:20220327T010000
END:DAYLIGHT
BEGIN:STANDARD
TZOFFSETFROM:+0200
TZOFFSETTO:+0100
TZNAME:CET
DTSTART:20221030T010000
END:STANDARD
BEGIN:DAYLIGHT
TZOFFSETFROM:+0100
TZOFFSETTO:+0200
TZNAME:CEST
DTSTART:20230326T010000
END:DAYLIGHT
BEGIN:STANDARD
TZOFFSETFROM:+0200
TZOFFSETTO:+0100
TZNAME:CET
DTSTART:20231029T010000
END:STANDARD
BEGIN:DAYLIGHT
TZOFFSETFROM:+0100
TZOFFSETTO:+0200
TZNAME:CEST
DTSTART:20240331T010000
END:DAYLIGHT
BEGIN:STANDARD
TZOFFSETFROM:+0200
TZOFFSETTO:+0100
TZNAME:CET
DTSTART:20241027T010000
END:STANDARD
END:VTIMEZONE
BEGIN:VEVENT
DTSTART;TZID=Europe/Madrid:20231203T100000
DTEND;TZID=Europe/Madrid:20231203T100000
DTSTAMP:20260423T063654
CREATED:20231129T230022Z
LAST-MODIFIED:20231129T230204Z
UID:18887-1701597600-1701597600@ibizafunfamily.com
SUMMARY:Salida Es Nuvells
DESCRIPTION:El Domingo 3 de Diciembre de 2023 a las 10:00 en 125 Es Novells \nDuración aproximada de 3 horas con 8 km aprox ( desnivel 80) \nNivel Fácil (Plana) apto para niños y perros. \nHay que traer agua\, almuerzo y calzado adecuado\, \nVisitando fuentes Font d’Atzaró\, Font de Can Prats\, Font de Can Planetes\, Font de Perella\, Almazara de Perella \n*Para el punto de salida guiaros por GPS indicado ( no hay punto de interés) \n\n				\n					\n						GPS indicado \n					\n				\n			  \n  \n 
URL:https://ibizafunfamily.com/agenda/salida-es-cuvells/
LOCATION:Islas Baleares
CATEGORIES:Deportives
ATTACH;FMTTYPE=image/jpeg:https://ibizafunfamily.com/wp-content/uploads/2023/11/ruta-e1701298914734.jpg
END:VEVENT
END:VCALENDAR