BEGIN:VCALENDAR
VERSION:2.0
PRODID:-//Ibiza Fun Family - ECPv6.15.17.1//NONSGML v1.0//EN
CALSCALE:GREGORIAN
METHOD:PUBLISH
X-ORIGINAL-URL:https://ibizafunfamily.com
X-WR-CALDESC:Eventos para Ibiza Fun Family
REFRESH-INTERVAL;VALUE=DURATION:PT1H
X-Robots-Tag:noindex
X-PUBLISHED-TTL:PT1H
BEGIN:VTIMEZONE
TZID:Europe/Madrid
BEGIN:DAYLIGHT
TZOFFSETFROM:+0100
TZOFFSETTO:+0200
TZNAME:CEST
DTSTART:20220327T010000
END:DAYLIGHT
BEGIN:STANDARD
TZOFFSETFROM:+0200
TZOFFSETTO:+0100
TZNAME:CET
DTSTART:20221030T010000
END:STANDARD
BEGIN:DAYLIGHT
TZOFFSETFROM:+0100
TZOFFSETTO:+0200
TZNAME:CEST
DTSTART:20230326T010000
END:DAYLIGHT
BEGIN:STANDARD
TZOFFSETFROM:+0200
TZOFFSETTO:+0100
TZNAME:CET
DTSTART:20231029T010000
END:STANDARD
BEGIN:DAYLIGHT
TZOFFSETFROM:+0100
TZOFFSETTO:+0200
TZNAME:CEST
DTSTART:20240331T010000
END:DAYLIGHT
BEGIN:STANDARD
TZOFFSETFROM:+0200
TZOFFSETTO:+0100
TZNAME:CET
DTSTART:20241027T010000
END:STANDARD
END:VTIMEZONE
BEGIN:VEVENT
DTSTART;TZID=Europe/Madrid:20231202T100000
DTEND;TZID=Europe/Madrid:20231202T130000
DTSTAMP:20260424T135559
CREATED:20231122T220842Z
LAST-MODIFIED:20231123T130912Z
UID:18619-1701511200-1701522000@ibizafunfamily.com
SUMMARY:Gincana Chrismas Race
DESCRIPTION:El Sábado 2 de Diciembre de 2023 en la desembocadura del Rio de Santa Eulària \nGincana Chrismas Race organizada por Ibiza Blue Challenge entre las 10:0 y la 13:00 \n¿Qué es la III Gimcana Christmas Race? \nEs una carrera popular\, familiar y no federada que consiste en una búsqueda de pistas al estilo carrera de orientación utilizando un mapa. La prueba se realiza siempre por parejas y se divide en dos categorías. El objetivo es completar el recorrido\, encontrar los tesoros escondidos y descifrar el enigma cultural que estará relacionado con el pueblo y la infancia. \nEn esta edición tenemos nuevas sorpresas y tesoros que te propondrá la organización descubrir y seguro que te lo pasarás fenomenal. \nLa organización te da la salida desde la zona de la desembocadura del río y desde allí tienes que desplazarte corriendo o andando a las zonas donde se han escondido las pistas guiándote por un mapa que te da la organización en el mismo momento del inicio de la prueba. \nLa duración para completar el recorrido será de 50 minutos a dos horas aproximadamente y la prueba es apta para todas las edades ya que cada equipo deberá acomodar su ritmo a su nivel y además proponemos dos circuitos de diferente dificultad para los que vengan con niños más pequeños. Cada categoría tendrá una edad diferente. \nSi al terminar tu recorrido te has dejado un punto se penaliza con 10 minutos tu tiempo y en el caso de fallar la zona cultural o de búsqueda de tesoros se penaliza con 5 minutos. \n\n10:00 entrega dorsales e inicio de la competición.\n13:00 horario máximo para tomar la salida.\n14:00 cierre de meta y fin de la competición.\n\n*Esta prueba te permite venir a participar cuando quieras entre las 10:00 y las 13:00. Al llegar a la carpa de organización te damos dorsal\, mapa\, regalito e inicias tu prueba. \n-CATEGORÍA A formada por uno o dos integrantes menores de edad y un adulto mayor de edad (18 años cumplidos el día de la prueba). Se admiten carritos de niño/a.Se compone de 12 pistas y una distancia aproximada de 4-5km. \n-CATEGORÍA B formada por una integrante categoría especial y un adulto. Se compone de 8 pistas y una distancia aproximada de 2-3km. \n\n1 regalo navideño para todos los equipos.\n1 regalito finisher del evento para todos los equipos que completen el recorrido.\nIBIZA BLUE CHALLENGE obsequiará a los tres equipos más rápidos en cada una de las dos categorías con un trofeo artesanal de materiales reciclados que se enviará a tu casa la semana posterior a la prueba.\n\nInformación e inscripciones a partir del 20 de Noviembre \n\n				\n					\n						Información e inscripciones\n					\n				\n			  \n  \n\n				\n					\n						Ver\nprograma completo
URL:https://ibizafunfamily.com/agenda/gincana-chrismas-race/
LOCATION:Islas Baleares
CATEGORIES:Deportives,Gincana
ATTACH;FMTTYPE=image/jpeg:https://ibizafunfamily.com/wp-content/uploads/2023/11/IMG-20231122-WA0009.jpg
ORGANIZER;CN="Ajuntament de Santa Eul%C3%A0ria des Riu":MAILTO:alcaldia@santaeularia.com
END:VEVENT
BEGIN:VEVENT
DTSTART;TZID=Europe/Madrid:20231202T110000
DTEND;TZID=Europe/Madrid:20231202T110000
DTSTAMP:20260424T135559
CREATED:20231123T153143Z
LAST-MODIFIED:20231127T191349Z
UID:18676-1701514800-1701514800@ibizafunfamily.com
SUMMARY:Jornada lúdica -deportiva en Can Guerxo
DESCRIPTION:El sábado 2 de Diciembre de 2023 a las 11:00 en el Pabellón de Can Guerxo \nJornada lúdica- deportiva con el equipo de Campeonex y el Cric Ses Salines \nDía internacional de la Diversidad funcional de 3 de Diciembre
URL:https://ibizafunfamily.com/agenda/jornada-ludica-deportiva-en-can-guerxo/
LOCATION:Polideportivo de Can Guerxo\, C/ Arner n9\, Sant Josep de Sa Talaia\, Islas Baleares\, 07817\, España
CATEGORIES:Deportives
ATTACH;FMTTYPE=image/jpeg:https://ibizafunfamily.com/wp-content/uploads/2023/11/diversidad.jpg
ORGANIZER;CN="Ajuntament de Sant Josep de Sa Talaia":MAILTO:alcaldia@santjosep.org
END:VEVENT
END:VCALENDAR