BEGIN:VCALENDAR
VERSION:2.0
PRODID:-//Ibiza Fun Family - ECPv6.15.17.1//NONSGML v1.0//EN
CALSCALE:GREGORIAN
METHOD:PUBLISH
X-ORIGINAL-URL:https://ibizafunfamily.com
X-WR-CALDESC:Eventos para Ibiza Fun Family
REFRESH-INTERVAL;VALUE=DURATION:PT1H
X-Robots-Tag:noindex
X-PUBLISHED-TTL:PT1H
BEGIN:VTIMEZONE
TZID:Europe/Madrid
BEGIN:DAYLIGHT
TZOFFSETFROM:+0100
TZOFFSETTO:+0200
TZNAME:CEST
DTSTART:20220327T010000
END:DAYLIGHT
BEGIN:STANDARD
TZOFFSETFROM:+0200
TZOFFSETTO:+0100
TZNAME:CET
DTSTART:20221030T010000
END:STANDARD
BEGIN:DAYLIGHT
TZOFFSETFROM:+0100
TZOFFSETTO:+0200
TZNAME:CEST
DTSTART:20230326T010000
END:DAYLIGHT
BEGIN:STANDARD
TZOFFSETFROM:+0200
TZOFFSETTO:+0100
TZNAME:CET
DTSTART:20231029T010000
END:STANDARD
BEGIN:DAYLIGHT
TZOFFSETFROM:+0100
TZOFFSETTO:+0200
TZNAME:CEST
DTSTART:20240331T010000
END:DAYLIGHT
BEGIN:STANDARD
TZOFFSETFROM:+0200
TZOFFSETTO:+0100
TZNAME:CET
DTSTART:20241027T010000
END:STANDARD
END:VTIMEZONE
BEGIN:VEVENT
DTSTART;TZID=Europe/Madrid:20231102T160000
DTEND;TZID=Europe/Madrid:20231130T190000
DTSTAMP:20260424T091831
CREATED:20231031T112602Z
LAST-MODIFIED:20231105T111209Z
UID:17956-1698940800-1701370800@ibizafunfamily.com
SUMMARY:Patios abiertos en Sant Josep
DESCRIPTION:Patios abiertos en Sant Josep \nVen a jugar \nPatio de la escuela abierto como espacio de uso publico \nDe 16:00 a 19:00 \nLunes en el Ceip Es Vedrà y Ceip Sant Jordi \nMartes en el Ceip Ca’n Guerxo \nMiércoles en el Ceip Sant Jordi y Ceip Es Vedrá \nJueves Ceip Ca’n Guerxo \nViernes en el Ceip l’Urgell \nQue se puede hacer? \nActividades deportivas como básquet\, futbol\,  balonmano. bolei\, tennis \nJuego libre \nTalleres y manualidades educativas \nA quien va dirigidos? \nPeques con edad de escolarización \nMenores de 6 años acompañados por un adulto \nAdolescentes \nFamilias \n\n				\n					\n						Ver programa completo Patis oberts\n					\n				\n			  \n 
URL:https://ibizafunfamily.com/agenda/patios-abiertos-en-sant-josep/
LOCATION:Islas Baleares
CATEGORIES:Deportives,Talleres
ATTACH;FMTTYPE=image/jpeg:https://ibizafunfamily.com/wp-content/uploads/2023/10/patis-oberts.jpg
ORGANIZER;CN="Ajuntament de Sant Josep de Sa Talaia":MAILTO:alcaldia@santjosep.org
END:VEVENT
BEGIN:VEVENT
DTSTART;TZID=Europe/Madrid:20231111T160000
DTEND;TZID=Europe/Madrid:20231111T160000
DTSTAMP:20260424T091831
CREATED:20231105T103424Z
LAST-MODIFIED:20231109T142434Z
UID:18066-1699718400-1699718400@ibizafunfamily.com
SUMMARY:Formentera en marxa contra el cáncer
DESCRIPTION:El Sábado 11 de Noviembre de 2023 a ñas 16:00 en Moll de Pescadors ( la Savina)  hasta  Tanga en Formentera \nCaminata solidaria anual para todos los públicos con motivo del Día Mundial del Cáncer de Mama \nTrae tu botella de agua\, seamos sostenibles! \n  \nPrecio 10€ \nEl precio incluye camiseta de regalo para las primeros 300 inscripciones. \nHasta las 11 años inscripción gratuita\, tienen que venir acompañados de un adulto \nInscripciones 6\, 8 y 10 de Noviembre de mañana y de tarde en la Plaza de la Constitución \n 
URL:https://ibizafunfamily.com/agenda/formentera-en-marxa-contra-el-cancer/
LOCATION:Port La Savina\, C/ De Calp\, s/n\, Formentera\, islas baleares\, 07870\, España
CATEGORIES:Deportives
ATTACH;FMTTYPE=image/jpeg:https://ibizafunfamily.com/wp-content/uploads/2023/11/formentera-e1699180444828.jpg
END:VEVENT
END:VCALENDAR