BEGIN:VCALENDAR
VERSION:2.0
PRODID:-//Ibiza Fun Family - ECPv6.15.17.1//NONSGML v1.0//EN
CALSCALE:GREGORIAN
METHOD:PUBLISH
X-WR-CALNAME:Ibiza Fun Family
X-ORIGINAL-URL:https://ibizafunfamily.com
X-WR-CALDESC:Eventos para Ibiza Fun Family
REFRESH-INTERVAL;VALUE=DURATION:PT1H
X-Robots-Tag:noindex
X-PUBLISHED-TTL:PT1H
BEGIN:VTIMEZONE
TZID:Europe/Madrid
BEGIN:DAYLIGHT
TZOFFSETFROM:+0100
TZOFFSETTO:+0200
TZNAME:CEST
DTSTART:20240331T010000
END:DAYLIGHT
BEGIN:STANDARD
TZOFFSETFROM:+0200
TZOFFSETTO:+0100
TZNAME:CET
DTSTART:20241027T010000
END:STANDARD
BEGIN:DAYLIGHT
TZOFFSETFROM:+0100
TZOFFSETTO:+0200
TZNAME:CEST
DTSTART:20250330T010000
END:DAYLIGHT
BEGIN:STANDARD
TZOFFSETFROM:+0200
TZOFFSETTO:+0100
TZNAME:CET
DTSTART:20251026T010000
END:STANDARD
BEGIN:DAYLIGHT
TZOFFSETFROM:+0100
TZOFFSETTO:+0200
TZNAME:CEST
DTSTART:20260329T010000
END:DAYLIGHT
BEGIN:STANDARD
TZOFFSETFROM:+0200
TZOFFSETTO:+0100
TZNAME:CET
DTSTART:20261025T010000
END:STANDARD
END:VTIMEZONE
BEGIN:VEVENT
DTSTART;TZID=Europe/Madrid:20251001T180000
DTEND;TZID=Europe/Madrid:20251001T190000
DTSTAMP:20260419T203606
CREATED:20250914T212928Z
LAST-MODIFIED:20250914T212928Z
UID:32908-1759341600-1759345200@ibizafunfamily.com
SUMMARY:Dia Europeo de las lenguas\, cuentacuentos
DESCRIPTION:El Miércoles 1  de Octubre de 2025 a las 18:00 en la Biblioteca de Sa Colomina \nCuentacuentos \nDia Europeo de las lenguas \n\n				\n					\n						Ver programa completo
URL:https://ibizafunfamily.com/agenda/dia-europeo-de-las-lenguas-cuentacuentos-8/
LOCATION:Biblioteca Sa Colomina\, Calle Vicent Serra i Orvay\, 40\, Eivissa\, Islas Baleares\, 07800\, España
CATEGORIES:Cuenta cuentos
ATTACH;FMTTYPE=image/jpeg:https://ibizafunfamily.com/wp-content/uploads/2025/09/dia-de-les-llengues.jpeg
END:VEVENT
END:VCALENDAR