BEGIN:VCALENDAR
VERSION:2.0
PRODID:-//Ibiza Fun Family - ECPv6.15.17.1//NONSGML v1.0//EN
CALSCALE:GREGORIAN
METHOD:PUBLISH
X-WR-CALNAME:Ibiza Fun Family
X-ORIGINAL-URL:https://ibizafunfamily.com
X-WR-CALDESC:Eventos para Ibiza Fun Family
REFRESH-INTERVAL;VALUE=DURATION:PT1H
X-Robots-Tag:noindex
X-PUBLISHED-TTL:PT1H
BEGIN:VTIMEZONE
TZID:Europe/Madrid
BEGIN:DAYLIGHT
TZOFFSETFROM:+0100
TZOFFSETTO:+0200
TZNAME:CEST
DTSTART:20240331T010000
END:DAYLIGHT
BEGIN:STANDARD
TZOFFSETFROM:+0200
TZOFFSETTO:+0100
TZNAME:CET
DTSTART:20241027T010000
END:STANDARD
BEGIN:DAYLIGHT
TZOFFSETFROM:+0100
TZOFFSETTO:+0200
TZNAME:CEST
DTSTART:20250330T010000
END:DAYLIGHT
BEGIN:STANDARD
TZOFFSETFROM:+0200
TZOFFSETTO:+0100
TZNAME:CET
DTSTART:20251026T010000
END:STANDARD
BEGIN:DAYLIGHT
TZOFFSETFROM:+0100
TZOFFSETTO:+0200
TZNAME:CEST
DTSTART:20260329T010000
END:DAYLIGHT
BEGIN:STANDARD
TZOFFSETFROM:+0200
TZOFFSETTO:+0100
TZNAME:CET
DTSTART:20261025T010000
END:STANDARD
END:VTIMEZONE
BEGIN:VEVENT
DTSTART;TZID=Europe/Madrid:20250725T180000
DTEND;TZID=Europe/Madrid:20250725T180000
DTSTAMP:20260423T174900
CREATED:20250724T213325Z
LAST-MODIFIED:20250724T213325Z
UID:31878-1753466400-1753466400@ibizafunfamily.com
SUMMARY:Cuentacuentos coeducativos verano
DESCRIPTION:El Viernes 25 de Julio de 2025 a las 18:00 en el Casal de Igualdad de Ibiza \nCuentacuentos coeducativos de verano más taller \nTots junts\, Brita Teckentrup \nEsta dirigido para niños y niñas de 2 a 12 años y sus familias \nInscripciones de forma presencial en el casal o a igualtat@eivissa.es o llamando al 971397626 \n 
URL:https://ibizafunfamily.com/agenda/cuentacuentos-coeducativos-verano/
LOCATION:Casal d’Igualtat\, Avinguda de la Pau\, 3\, Eivissa\, islas baleares\, 07800\, España
CATEGORIES:Cuenta cuentos
ATTACH;FMTTYPE=image/jpeg:https://ibizafunfamily.com/wp-content/uploads/2025/07/cuentacuentos.jpg
END:VEVENT
END:VCALENDAR