BEGIN:VCALENDAR
VERSION:2.0
PRODID:-//Ibiza Fun Family - ECPv6.15.17.1//NONSGML v1.0//EN
CALSCALE:GREGORIAN
METHOD:PUBLISH
X-WR-CALNAME:Ibiza Fun Family
X-ORIGINAL-URL:https://ibizafunfamily.com
X-WR-CALDESC:Eventos para Ibiza Fun Family
REFRESH-INTERVAL;VALUE=DURATION:PT1H
X-Robots-Tag:noindex
X-PUBLISHED-TTL:PT1H
BEGIN:VTIMEZONE
TZID:Europe/Madrid
BEGIN:DAYLIGHT
TZOFFSETFROM:+0100
TZOFFSETTO:+0200
TZNAME:CEST
DTSTART:20240331T010000
END:DAYLIGHT
BEGIN:STANDARD
TZOFFSETFROM:+0200
TZOFFSETTO:+0100
TZNAME:CET
DTSTART:20241027T010000
END:STANDARD
BEGIN:DAYLIGHT
TZOFFSETFROM:+0100
TZOFFSETTO:+0200
TZNAME:CEST
DTSTART:20250330T010000
END:DAYLIGHT
BEGIN:STANDARD
TZOFFSETFROM:+0200
TZOFFSETTO:+0100
TZNAME:CET
DTSTART:20251026T010000
END:STANDARD
BEGIN:DAYLIGHT
TZOFFSETFROM:+0100
TZOFFSETTO:+0200
TZNAME:CEST
DTSTART:20260329T010000
END:DAYLIGHT
BEGIN:STANDARD
TZOFFSETFROM:+0200
TZOFFSETTO:+0100
TZNAME:CET
DTSTART:20261025T010000
END:STANDARD
END:VTIMEZONE
BEGIN:VEVENT
DTSTART;TZID=Europe/Madrid:20250917T180000
DTEND;TZID=Europe/Madrid:20250917T180000
DTSTAMP:20260419T202038
CREATED:20250901T213540Z
LAST-MODIFIED:20250901T213540Z
UID:32380-1758132000-1758132000@ibizafunfamily.com
SUMMARY:Dia Europeo de las lenguas\, cuentacuentos
DESCRIPTION:El miércoles 17 de Septiembre de 2025 a las 18:00 en la Biblioteca de Cala de Bou \nDia Europeo de las lenguas\, cuentacuentos: El viaje de Europa \nA cargo de Susana Paz \nDirigido a peques de a partir de 5 años \nInscripción previa al teléfono o al wasap 971348630 \nbiblioteca.caladebou@santjosep.org
URL:https://ibizafunfamily.com/agenda/dia-europeo-de-las-lenguas-cuentacuentos/
LOCATION:Biblioteca Municipal de Cala de Bou\, C/ es calo\, n 127\, Cala de Bou\, Islas Baleares\, 07829\, España
CATEGORIES:Cuenta cuentos
ATTACH;FMTTYPE=image/jpeg:https://ibizafunfamily.com/wp-content/uploads/2025/09/programa-cala-de-bou.jpeg
ORGANIZER;CN="Biblioteca Municipal de Cala de Bou":MAILTO:biblioteca.caladebou@santjosep.org
END:VEVENT
BEGIN:VEVENT
DTSTART;TZID=Europe/Madrid:20250918T180000
DTEND;TZID=Europe/Madrid:20250918T190000
DTSTAMP:20260419T202038
CREATED:20250914T212741Z
LAST-MODIFIED:20250914T212741Z
UID:32906-1758218400-1758222000@ibizafunfamily.com
SUMMARY:Dia Europeo de las Lenguas\, cuentacuentos
DESCRIPTION:El Jueves 18 de Septiembre de 2025 a las 18:00 en la Biblioteca Municipal de Cala de Bou \nCuentacuentos \nDia Europeo de las lenguas \n\n				\n					\n						Ver programa completo
URL:https://ibizafunfamily.com/agenda/dia-europeo-de-las-lenguas-cuentacuentos-7/
LOCATION:Biblioteca Municipal de Cala de Bou\, C/ es calo\, n 127\, Cala de Bou\, Islas Baleares\, 07829\, España
CATEGORIES:Cuenta cuentos
ATTACH;FMTTYPE=image/jpeg:https://ibizafunfamily.com/wp-content/uploads/2025/09/dia-de-les-llengues.jpeg
END:VEVENT
BEGIN:VEVENT
DTSTART;TZID=Europe/Madrid:20250919T163000
DTEND;TZID=Europe/Madrid:20250919T173000
DTSTAMP:20260419T202038
CREATED:20250914T213217Z
LAST-MODIFIED:20250914T213217Z
UID:32911-1758299400-1758303000@ibizafunfamily.com
SUMMARY:Dia Europeo de las lenguas\, cuentacuentos
DESCRIPTION:El Viernes 19 de Septiembre de 2025 a las 16:30 en la Biblioteca Municipal de Sant Miquel de Balançat \nCuentacuentos \nDia Europeo de las lenguas \n\n				\n					\n						Ver programa completo
URL:https://ibizafunfamily.com/agenda/dia-europeo-de-las-lenguas-cuentacuentos-9/
LOCATION:Biblioteca Sant Miquel\, Cas Vicari \, Iglesia de Sant Miquel\, Sant Miquel de Balansat\, Islas Baleares\, 07815\, España
CATEGORIES:Cuenta cuentos
ATTACH;FMTTYPE=image/jpeg:https://ibizafunfamily.com/wp-content/uploads/2025/09/dia-de-les-llengues.jpeg
END:VEVENT
BEGIN:VEVENT
DTSTART;TZID=Europe/Madrid:20250922T190000
DTEND;TZID=Europe/Madrid:20250922T200000
DTSTAMP:20260419T202038
CREATED:20250914T212014Z
LAST-MODIFIED:20250914T212014Z
UID:32898-1758567600-1758571200@ibizafunfamily.com
SUMMARY:Dia Europeo de las lenguas\, cuentacuentos
DESCRIPTION:El Lunes 22 de Septiembre de 2025 a las 19:00 en la Biblioteca Municipal de Sant Joan de Labritja \nCuentacuentos \nDia Europeo de las lenguas \n\n				\n					\n						Ver programa completo
URL:https://ibizafunfamily.com/agenda/dia-europeo-de-las-lenguas-cuentacuentos-3/
LOCATION:Biblioteca de Sant Joan\, PM-811\, 3 Edificio polivalente del ayuntamiento\, Sant Joan de Labritja\, Islas Baleares\, 07810\, España
CATEGORIES:Cuenta cuentos
ATTACH;FMTTYPE=image/jpeg:https://ibizafunfamily.com/wp-content/uploads/2025/09/dia-de-les-llengues.jpeg
END:VEVENT
BEGIN:VEVENT
DTSTART;TZID=Europe/Madrid:20250923T173000
DTEND;TZID=Europe/Madrid:20250923T183000
DTSTAMP:20260419T202038
CREATED:20250914T212355Z
LAST-MODIFIED:20250914T212419Z
UID:32902-1758648600-1758652200@ibizafunfamily.com
SUMMARY:Dia Europeo de las lenguas\, cuentacuentos
DESCRIPTION:El Martes 23  de Septiembre de 2025 a las 17:30 en la Biblioteca Municipal de Sant Josep \nCuentacuentos \nDia Europeo de las lenguas \n\n				\n					\n						Ver programa completo
URL:https://ibizafunfamily.com/agenda/dia-europeo-de-las-lenguas-cuentacuentos-5/
LOCATION:Biblioteca Sant Josep\, Carrer de Pere Escanellas\, 12\, Sant Jordi de ses Salines\, islas baleares\, 07830\, España
CATEGORIES:Cuenta cuentos
ATTACH;FMTTYPE=image/jpeg:https://ibizafunfamily.com/wp-content/uploads/2025/09/dia-de-les-llengues.jpeg
END:VEVENT
BEGIN:VEVENT
DTSTART;TZID=Europe/Madrid:20250924T180000
DTEND;TZID=Europe/Madrid:20250924T190000
DTSTAMP:20260419T202038
CREATED:20250914T212214Z
LAST-MODIFIED:20250914T212214Z
UID:32900-1758736800-1758740400@ibizafunfamily.com
SUMMARY:Dia Europeo de las lenguas\, cuentacuentos
DESCRIPTION:El Miércoles 24 de Septiembre de 2025 a las 18:00 en la Biblioteca de Vicent Serra i Orvay\, Sant Jordi \nCuentacuentos \nDia Europeo de las lenguas \n\n				\n					\n						Ver programa completo
URL:https://ibizafunfamily.com/agenda/dia-europeo-de-las-lenguas-cuentacuentos-4/
LOCATION:Biblioteca Vicent Serra Orvay\, C/ de la Plaça Major\, 9\, Sant Jordi de ses Salines\, Islas Baleares\, 07817\, España
CATEGORIES:Cuenta cuentos
ATTACH;FMTTYPE=image/jpeg:https://ibizafunfamily.com/wp-content/uploads/2025/09/dia-de-les-llengues.jpeg
END:VEVENT
BEGIN:VEVENT
DTSTART;TZID=Europe/Madrid:20250925T180000
DTEND;TZID=Europe/Madrid:20250925T190000
DTSTAMP:20260419T202038
CREATED:20250914T213435Z
LAST-MODIFIED:20250914T213435Z
UID:32914-1758823200-1758826800@ibizafunfamily.com
SUMMARY:Dia Europeo de las Lenguas\, cuentacuentos
DESCRIPTION:El Jueves  25  de Septiembre de 2025 a las 18:00 en la Biblioteca Pública de ses Figueretes \nCuentacuentos \nDia Europeo de las lenguas \n\n				\n					\n						Ver programa completo
URL:https://ibizafunfamily.com/agenda/dia-europeo-de-las-lenguas-cuentacuentos-10/
LOCATION:Biblioteca de Ses Figueretes\, C/ de Navarra\, 26\, baixos\, Eivissa\, Islas Baleares\, 07800\, España
CATEGORIES:Cuenta cuentos
ATTACH;FMTTYPE=image/jpeg:https://ibizafunfamily.com/wp-content/uploads/2025/09/dia-de-les-llengues.jpeg
END:VEVENT
BEGIN:VEVENT
DTSTART;TZID=Europe/Madrid:20250926T180000
DTEND;TZID=Europe/Madrid:20250926T190000
DTSTAMP:20260419T202038
CREATED:20250914T211838Z
LAST-MODIFIED:20250914T211838Z
UID:32896-1758909600-1758913200@ibizafunfamily.com
SUMMARY:Dia Europeo de las lenguas\, cuentacuentos
DESCRIPTION:El Viernes 26 de Septiembre de 2025 a las 18:00 en la Biblioteca Municipal de Sant Antoni \nCuentacuentos \nDia Europeo de las lenguas \n\n				\n					\n						Ver programa completo
URL:https://ibizafunfamily.com/agenda/dia-europeo-de-las-lenguas-cuentacuentos-2/
LOCATION:Biblioteca Múnicipal Sant Antoni\, Calle Cervantes\, Sant Antoni de Portmany\, Islas Baleares\, 07820\, España
CATEGORIES:Cuenta cuentos
ATTACH;FMTTYPE=image/jpeg:https://ibizafunfamily.com/wp-content/uploads/2025/09/dia-de-les-llengues.jpeg
END:VEVENT
BEGIN:VEVENT
DTSTART;TZID=Europe/Madrid:20250927T110000
DTEND;TZID=Europe/Madrid:20250927T120000
DTSTAMP:20260419T202038
CREATED:20250914T213625Z
LAST-MODIFIED:20250914T213800Z
UID:32916-1758970800-1758974400@ibizafunfamily.com
SUMMARY:Día Europeo de las Lenguas\, cuentacuentos
DESCRIPTION:El sábado 27 de Septiembre de 2025 a las 11:00 en la Biblioteca Pública Insular de Eivissa \nCuentacuentos \nDia Europeo de las lenguas \n\n				\n					\n						Ver programa completo
URL:https://ibizafunfamily.com/agenda/dia-europeo-de-las-lenguas-cuentacuentos-11/
LOCATION:Biblioteca Pública Insular de Ibiza\, C. Ernest Ehrenfeld\, s/n Edif. Polivalente Cas Serres\, Eivissa\, Islas Baleares\, 07800\, España
CATEGORIES:Cuenta cuentos
ATTACH;FMTTYPE=image/jpeg:https://ibizafunfamily.com/wp-content/uploads/2025/09/dia-de-les-llengues.jpeg
END:VEVENT
BEGIN:VEVENT
DTSTART;TZID=Europe/Madrid:20250930T170000
DTEND;TZID=Europe/Madrid:20250930T180000
DTSTAMP:20260419T202038
CREATED:20250914T212610Z
LAST-MODIFIED:20250914T212610Z
UID:32904-1759251600-1759255200@ibizafunfamily.com
SUMMARY:Dia Europeo de las lenguas\, cuentacuentos
DESCRIPTION:El Martes 30  de Septiembre de 2025 a las 17:00 en la Biblioteca Municipal de Santa Eulària \nCuentacuentos \nDia Europeo de las lenguas \n\n				\n					\n						Ver programa completo
URL:https://ibizafunfamily.com/agenda/dia-europeo-de-las-lenguas-cuentacuentos-6/
LOCATION:Biblioteca Municipal de Santa Eulalia\, Carrer Joan Tur Tur\, n9\, Santa Eulària des Riu\, Islas Baleares\, 07840\, España
CATEGORIES:Cuenta cuentos
ATTACH;FMTTYPE=image/jpeg:https://ibizafunfamily.com/wp-content/uploads/2025/09/dia-de-les-llengues.jpeg
END:VEVENT
END:VCALENDAR