BEGIN:VCALENDAR
VERSION:2.0
PRODID:-//Ibiza Fun Family - ECPv6.15.17.1//NONSGML v1.0//EN
CALSCALE:GREGORIAN
METHOD:PUBLISH
X-ORIGINAL-URL:https://ibizafunfamily.com
X-WR-CALDESC:Eventos para Ibiza Fun Family
REFRESH-INTERVAL;VALUE=DURATION:PT1H
X-Robots-Tag:noindex
X-PUBLISHED-TTL:PT1H
BEGIN:VTIMEZONE
TZID:Europe/Madrid
BEGIN:DAYLIGHT
TZOFFSETFROM:+0100
TZOFFSETTO:+0200
TZNAME:CEST
DTSTART:20240331T010000
END:DAYLIGHT
BEGIN:STANDARD
TZOFFSETFROM:+0200
TZOFFSETTO:+0100
TZNAME:CET
DTSTART:20241027T010000
END:STANDARD
BEGIN:DAYLIGHT
TZOFFSETFROM:+0100
TZOFFSETTO:+0200
TZNAME:CEST
DTSTART:20250330T010000
END:DAYLIGHT
BEGIN:STANDARD
TZOFFSETFROM:+0200
TZOFFSETTO:+0100
TZNAME:CET
DTSTART:20251026T010000
END:STANDARD
BEGIN:DAYLIGHT
TZOFFSETFROM:+0100
TZOFFSETTO:+0200
TZNAME:CEST
DTSTART:20260329T010000
END:DAYLIGHT
BEGIN:STANDARD
TZOFFSETFROM:+0200
TZOFFSETTO:+0100
TZNAME:CET
DTSTART:20261025T010000
END:STANDARD
END:VTIMEZONE
BEGIN:VEVENT
DTSTART;TZID=Europe/Madrid:20250316T120000
DTEND;TZID=Europe/Madrid:20250316T130000
DTSTAMP:20260423T080539
CREATED:20250310T220017Z
LAST-MODIFIED:20250310T220017Z
UID:29086-1742126400-1742130000@ibizafunfamily.com
SUMMARY:Concierto didáctico " Tararea"
DESCRIPTION:El Domingo 16 de Marzo de 2025 a las 12:00 en el Patronat Municipal de música aula 5 c/ Pere Francès \nConcierto didáctico » Tararea» \nII festival música jove \nEdad recomendado de 0 a 3 años \nCon la especialista en estimulación musical Isabel Albaladejo y la artista Valentina Pugliese
URL:https://ibizafunfamily.com/agenda/concierto-didactico-tararea/
LOCATION:Patronat Municipal de Música d’Eivissa\, C/Pere Francés\, Aula 3\, Eivissa\, Islas Baleares\, 07800
CATEGORIES:Concierto
ATTACH;FMTTYPE=image/jpeg:https://ibizafunfamily.com/wp-content/uploads/2025/03/tararea.jpg
END:VEVENT
END:VCALENDAR