BEGIN:VCALENDAR
VERSION:2.0
PRODID:-//Ibiza Fun Family - ECPv6.15.17.1//NONSGML v1.0//EN
CALSCALE:GREGORIAN
METHOD:PUBLISH
X-ORIGINAL-URL:https://ibizafunfamily.com
X-WR-CALDESC:Eventos para Ibiza Fun Family
REFRESH-INTERVAL;VALUE=DURATION:PT1H
X-Robots-Tag:noindex
X-PUBLISHED-TTL:PT1H
BEGIN:VTIMEZONE
TZID:Europe/Madrid
BEGIN:DAYLIGHT
TZOFFSETFROM:+0100
TZOFFSETTO:+0200
TZNAME:CEST
DTSTART:20240331T010000
END:DAYLIGHT
BEGIN:STANDARD
TZOFFSETFROM:+0200
TZOFFSETTO:+0100
TZNAME:CET
DTSTART:20241027T010000
END:STANDARD
BEGIN:DAYLIGHT
TZOFFSETFROM:+0100
TZOFFSETTO:+0200
TZNAME:CEST
DTSTART:20250330T010000
END:DAYLIGHT
BEGIN:STANDARD
TZOFFSETFROM:+0200
TZOFFSETTO:+0100
TZNAME:CET
DTSTART:20251026T010000
END:STANDARD
BEGIN:DAYLIGHT
TZOFFSETFROM:+0100
TZOFFSETTO:+0200
TZNAME:CEST
DTSTART:20260329T010000
END:DAYLIGHT
BEGIN:STANDARD
TZOFFSETFROM:+0200
TZOFFSETTO:+0100
TZNAME:CET
DTSTART:20261025T010000
END:STANDARD
END:VTIMEZONE
BEGIN:VEVENT
DTSTART;TZID=Europe/Madrid:20250221T200000
DTEND;TZID=Europe/Madrid:20250221T200000
DTSTAMP:20260423T044349
CREATED:20250216T214613Z
LAST-MODIFIED:20250216T214847Z
UID:28726-1740168000-1740168000@ibizafunfamily.com
SUMMARY:Concierto Pop Rock infantil
DESCRIPTION:El Viernes 21 de Febrero de 2025 a las 20:00 en el Teatro España \nConcierto Pop Rock infantil \nEl mundo de Azahar \nEntradas anticipadas 2€ / Taquilla 3\,50€ Aforo limitado \n\n				\n					\n						Ver programa completo
URL:https://ibizafunfamily.com/agenda/concierto-pop-rock-infantil/
LOCATION:Teatro España\, Santa Eulalia\, C/ de Sant Jaume\, 81\,\, Santa Eulària des Riu\, Islas Baleares\, 07840\, España
CATEGORIES:Concierto
ATTACH;FMTTYPE=image/jpeg:https://ibizafunfamily.com/wp-content/uploads/2025/02/concierto.jpg
ORGANIZER;CN="Consell d' Eivissa":MAILTO:oamr@conselldeivissa.es
END:VEVENT
BEGIN:VEVENT
DTSTART;TZID=Europe/Madrid:20250223T183000
DTEND;TZID=Europe/Madrid:20250223T183000
DTSTAMP:20260423T044349
CREATED:20250202T212659Z
LAST-MODIFIED:20250202T212659Z
UID:28627-1740335400-1740335400@ibizafunfamily.com
SUMMARY:Trips
DESCRIPTION:El Domingo 23 de Febrero de 2025 a las 18:30 en el Palacio de Congresos \nTrips \nBanda municipal de música de Santa Eularia \nCoro infantil de la escuela Municipal de música de Santa Eularia \nEntrada gratuita hasta completar el aforo
URL:https://ibizafunfamily.com/agenda/trips/
LOCATION:Palacio de Congresos de Santa Eulalia\, Avenida Salvador Camacho\, n9-11\, Santa Eulària des Riu\, Islas Baleares\, 07840\, España
CATEGORIES:Concierto
ATTACH;FMTTYPE=image/jpeg:https://ibizafunfamily.com/wp-content/uploads/2025/02/trips.jpg
ORGANIZER;CN="Ajuntament de Santa Eul%C3%A0ria des Riu":MAILTO:alcaldia@santaeularia.com
END:VEVENT
BEGIN:VEVENT
DTSTART;TZID=Europe/Madrid:20250226T170000
DTEND;TZID=Europe/Madrid:20250226T170000
DTSTAMP:20260423T044349
CREATED:20250212T224409Z
LAST-MODIFIED:20250212T224409Z
UID:28699-1740589200-1740589200@ibizafunfamily.com
SUMMARY:Festival Carnaval en Formentera
DESCRIPTION:El Miércoles 26 de Febrero de 2025 a las 17:00 en la Sala de cultura ( cinema) de Formentera \nFestival de carnestoltes a cargo de la Escola de música i Dansa de Formentera \nEntrada libre\, venir disfrazados
URL:https://ibizafunfamily.com/agenda/festival-carnaval-en-formentera/
LOCATION:Sala de Cultura Formentera\, Pius Tur Mayans\, 14\, Formentera\, islas baleares\, 07860\, España
CATEGORIES:Concierto
ATTACH;FMTTYPE=image/jpeg:https://ibizafunfamily.com/wp-content/uploads/2025/02/carnestoltes-formentera-e1739400059894.jpg
ORGANIZER;CN="Consell de Formentera":MAILTO:presidencia@conselldeformentera.cat
END:VEVENT
END:VCALENDAR