BEGIN:VCALENDAR
VERSION:2.0
PRODID:-//Ibiza Fun Family - ECPv6.15.17.1//NONSGML v1.0//EN
CALSCALE:GREGORIAN
METHOD:PUBLISH
X-WR-CALNAME:Ibiza Fun Family
X-ORIGINAL-URL:https://ibizafunfamily.com
X-WR-CALDESC:Eventos para Ibiza Fun Family
REFRESH-INTERVAL;VALUE=DURATION:PT1H
X-Robots-Tag:noindex
X-PUBLISHED-TTL:PT1H
BEGIN:VTIMEZONE
TZID:Europe/Madrid
BEGIN:DAYLIGHT
TZOFFSETFROM:+0100
TZOFFSETTO:+0200
TZNAME:CEST
DTSTART:20230326T010000
END:DAYLIGHT
BEGIN:STANDARD
TZOFFSETFROM:+0200
TZOFFSETTO:+0100
TZNAME:CET
DTSTART:20231029T010000
END:STANDARD
BEGIN:DAYLIGHT
TZOFFSETFROM:+0100
TZOFFSETTO:+0200
TZNAME:CEST
DTSTART:20240331T010000
END:DAYLIGHT
BEGIN:STANDARD
TZOFFSETFROM:+0200
TZOFFSETTO:+0100
TZNAME:CET
DTSTART:20241027T010000
END:STANDARD
BEGIN:DAYLIGHT
TZOFFSETFROM:+0100
TZOFFSETTO:+0200
TZNAME:CEST
DTSTART:20250330T010000
END:DAYLIGHT
BEGIN:STANDARD
TZOFFSETFROM:+0200
TZOFFSETTO:+0100
TZNAME:CET
DTSTART:20251026T010000
END:STANDARD
END:VTIMEZONE
BEGIN:VEVENT
DTSTART;TZID=Europe/Madrid:20241214T170000
DTEND;TZID=Europe/Madrid:20241214T170000
DTSTAMP:20260423T153131
CREATED:20241209T224539Z
LAST-MODIFIED:20241209T224551Z
UID:27646-1734195600-1734195600@ibizafunfamily.com
SUMMARY:Banda Municipal de Sant Josep
DESCRIPTION:El Sábado 14 de Diciembre de 2024 a las 17:00 en la carpa de Sant Josep \nBanda municipal de Sant Josep \nConcierto de Invierno \n 
URL:https://ibizafunfamily.com/agenda/banda-municipal-de-sant-josep-2/
LOCATION:Plaza de la Iglesia Sant Josep\, Avinguda de Pere Escanellas\, Sant Josep de Sa Talaia\, Islas Baleares\, 07830\, España
CATEGORIES:Concierto
ATTACH;FMTTYPE=image/jpeg:https://ibizafunfamily.com/wp-content/uploads/2024/12/BANDA-MUNICIPAN-SANT-JOSEP.jpg
END:VEVENT
END:VCALENDAR